BEGIN:VCALENDAR
VERSION:2.0
PRODID:-//Opus Kinetic - ECPv6.15.12.2//NONSGML v1.0//EN
CALSCALE:GREGORIAN
METHOD:PUBLISH
X-WR-CALNAME:Opus Kinetic
X-ORIGINAL-URL:https://www.opuskinetic.com
X-WR-CALDESC:Events for Opus Kinetic
REFRESH-INTERVAL;VALUE=DURATION:PT1H
X-Robots-Tag:noindex
X-PUBLISHED-TTL:PT1H
BEGIN:VTIMEZONE
TZID:Asia/Singapore
BEGIN:STANDARD
TZOFFSETFROM:+0800
TZOFFSETTO:+0800
TZNAME:+08
DTSTART:20210101T000000
END:STANDARD
END:VTIMEZONE
BEGIN:VEVENT
DTSTART;VALUE=DATE:20220117
DTEND;VALUE=DATE:20220119
DTSTAMP:20260421T102349
CREATED:20211122T092734Z
LAST-MODIFIED:20250401T064900Z
UID:10001225-1642377600-1642550399@www.opuskinetic.com
SUMMARY:Certified Sustainability (ESG) Practitioner Program
DESCRIPTION:Why Choose this Training Course\nThis is a 2-day ESG CSE training. CSE’s Digital Certified Sustainability ESG Practitioner Program\, Advanced Edition 2022\, is a challenging sustainability ESG program\, designed for CEOs and C-level executives who want to make Sustainability a driver for organizational change\, risk management\, innovation and success. The ESG CSE training program provides the latest practical tools and resources required to implement or upscale corporate sustainability. \nWho Should Attend\n\nC-Suite Executives\nSustainability (CSR)\nCorporate Affairs\, Communications\nHuman Resource\nEnvironment Quality\, Health and Safety\nInvestors Relations\, Finance\nProcurement and Supply Chain\n\nKey Learning Objectives\n\nLive Sessions (9 hours) from Educators with global experience and Thought Leader\nExclusive Access to the Digital platform and course material for 45 days\nThree days of intense and highly interactive online group program and networking opportunities through well-structured discussion forums\nPractical exercises & live Q&As\nSustainability reports related to your sector\nSector based online courses for the Energy & Energy Utilities Sector\, the Healthcare Products & Services Sector and the Financial Sector\nPractitioner Support Services (PS Services) after the completion of the program. PS Services include opportunities to educate your sustainability teams and unique Consulting Services from CSE’s local and global experience with FT 500 Firms\, NGOs and Government Organizations\nEarn the globally recognized Sustainability ESG Certification and become a qualified Sustainability ESG Professional\nDevelop a two-year sustainability plan integrating sustainability across your organization’s value chain\n\nTakeaways\n\nExclusive access to recorded brief webinars on current and future Sustainability Trends\nAccess CSE business network (leaders from Fortune 500 Companies and Government Representatives)\nRecorded session about the Future of ESG Ratings: Guest speaker is Anna Zubets-Anderson VP at Moody’s  \nGeneral Motors Presentation: Environmental and Sustainability Goals\, (Recorded Session)\nDuring the ESG training we will provide you for Free (initial cost $90.00) the bestseller book on sustainability “Practical Sustainability Strategies: How to gain a Competitive Advantage” (Wiley Publication\, 2nd-Edition e-book version) written by the Lead Trainer Nikos Avlonas. Used by several business schools around the globe\, Practical Sustainability Strategies has been updated to include the circular economy\, the sharing economy\, adaptation\, resilience and strategies to fight climate change.\n\nOfficial Affiliate\nOpus Kinetic CSE ESG training \nOpus Kinetic is an official sole partner of CSE (Center for Sustainability and Excellence) in Singapore. CSE is a leading boutique firm operating globally that specializes in maximizing your business impact in Sustainability and Corporate Responsibility. For more than a decade\, we have been helping professionals advance their careers through our certified on-site\, online and group training services globally and supporting companies and organizations to grow and excel through Sustainability consulting and coaching. \n\n\nEnquiry Form\n\n\n                 \n \n                        SalutationMr.Ms.Miss.Mrs.Mdm.Dr.Prof.Capt.-Name*\n                            \n                            \n                                                    \n                                                    First\n                                                \n                            \n                            \n                                                    \n                                                    Last\n                                                \n                            \n                        Phone*Email*\n                            \n                        Company*Current Location*    \n                    \n                        \n                                        AfghanistanAlbaniaAlgeriaAmerican SamoaAndorraAngolaAnguillaAntarcticaAntigua and BarbudaArgentinaArmeniaArubaAustraliaAustriaAzerbaijanBahamasBahrainBangladeshBarbadosBelarusBelgiumBelizeBeninBermudaBhutanBoliviaBonaire\, Sint Eustatius and SabaBosnia and HerzegovinaBotswanaBouvet IslandBrazilBritish Indian Ocean TerritoryBrunei DarussalamBulgariaBurkina FasoBurundiCambodiaCameroonCanadaCape VerdeCayman IslandsCentral African RepublicChadChileChinaChristmas IslandCocos IslandsColombiaComorosCongoCongo\, Democratic Republic of theCook IslandsCosta RicaCroatiaCubaCuraçaoCyprusCzechiaCôte d'IvoireDenmarkDjiboutiDominicaDominican RepublicEcuadorEgyptEl SalvadorEquatorial GuineaEritreaEstoniaEswatiniEthiopiaFalkland IslandsFaroe IslandsFijiFinlandFranceFrench GuianaFrench PolynesiaFrench Southern TerritoriesGabonGambiaGeorgiaGermanyGhanaGibraltarGreeceGreenlandGrenadaGuadeloupeGuamGuatemalaGuernseyGuineaGuinea-BissauGuyanaHaitiHeard Island and McDonald IslandsHoly SeeHondurasHong KongHungaryIcelandIndiaIndonesiaIranIraqIrelandIsle of ManIsraelItalyJamaicaJapanJerseyJordanKazakhstanKenyaKiribatiKorea\, Democratic People's Republic ofKorea\, Republic ofKuwaitKyrgyzstanLao People's Democratic RepublicLatviaLebanonLesothoLiberiaLibyaLiechtensteinLithuaniaLuxembourgMacaoMadagascarMalawiMalaysiaMaldivesMaliMaltaMarshall IslandsMartiniqueMauritaniaMauritiusMayotteMexicoMicronesiaMoldovaMonacoMongoliaMontenegroMontserratMoroccoMozambiqueMyanmarNamibiaNauruNepalNetherlandsNew CaledoniaNew ZealandNicaraguaNigerNigeriaNiueNorfolk IslandNorth MacedoniaNorthern Mariana IslandsNorwayOmanPakistanPalauPalestine\, State ofPanamaPapua New GuineaParaguayPeruPhilippinesPitcairnPolandPortugalPuerto RicoQatarRomaniaRussian FederationRwandaRéunionSaint BarthélemySaint Helena\, Ascension and Tristan da CunhaSaint Kitts and NevisSaint LuciaSaint MartinSaint Pierre and MiquelonSaint Vincent and the GrenadinesSamoaSan MarinoSao Tome and PrincipeSaudi ArabiaSenegalSerbiaSeychellesSierra LeoneSingaporeSint MaartenSlovakiaSloveniaSolomon IslandsSomaliaSouth AfricaSouth Georgia and the South Sandwich IslandsSouth SudanSpainSri LankaSudanSurinameSvalbard and Jan MayenSwedenSwitzerlandSyria Arab RepublicTaiwanTajikistanTanzania\, the United Republic ofThailandTimor-LesteTogoTokelauTongaTrinidad and TobagoTunisiaTurkmenistanTurks and Caicos IslandsTuvaluTürkiyeUS Minor Outlying IslandsUgandaUkraineUnited Arab EmiratesUnited KingdomUnited StatesUruguayUzbekistanVanuatuVenezuelaViet NamVirgin Islands\, BritishVirgin Islands\, U.S.Wallis and FutunaWestern SaharaYemenZambiaZimbabweÅland Islands\n                                        Country\n                                    \n                    \n                How many people are you looking at?1 - 2 Standard Rates3 - 5 Group Discount>10 In-House Training\, Huge Savings!Undecided\, need more informationThis is just an approximate number. You can finalise it when you send in the registration form.\n								\n								Send me brochure\n							Comments:CAPTCHA
URL:https://www.opuskinetic.com/training/digital-certified-sustainability-esg-practitioner-program-advanced-edition-2022/2022-01-17/
LOCATION:Virtual Instructor Led Training (VILT)
CATEGORIES:ESG/Renewable Energy/Clean Energy/Energy Management
ATTACH;FMTTYPE=image/jpeg:https://www.opuskinetic.com/wp-content/uploads/2021/10/environment.jpg
ORGANIZER;CN="Opus Kinetic Pte Ltd":MAILTO:info@opuskinetic.com
END:VEVENT
END:VCALENDAR