BEGIN:VCALENDAR
VERSION:2.0
PRODID:-//Opus Kinetic - ECPv6.15.12.2//NONSGML v1.0//EN
CALSCALE:GREGORIAN
METHOD:PUBLISH
X-ORIGINAL-URL:https://www.opuskinetic.com
X-WR-CALDESC:Events for Opus Kinetic
REFRESH-INTERVAL;VALUE=DURATION:PT1H
X-Robots-Tag:noindex
X-PUBLISHED-TTL:PT1H
BEGIN:VTIMEZONE
TZID:Asia/Singapore
BEGIN:STANDARD
TZOFFSETFROM:+0800
TZOFFSETTO:+0800
TZNAME:+08
DTSTART:20210101T000000
END:STANDARD
END:VTIMEZONE
BEGIN:VEVENT
DTSTART;VALUE=DATE:20220228
DTEND;VALUE=DATE:20220304
DTSTAMP:20260421T071726
CREATED:20211129T102236Z
LAST-MODIFIED:20221116T113728Z
UID:10001346-1646006400-1646351999@www.opuskinetic.com
SUMMARY:ESG Impact & Sustainability Communication
DESCRIPTION:Why Choose this Training Course\nThis 4-day training course reinforces the importance of developing and implementing purposeful communication\, and teaches communication professionals a number of practical ways they can improve the way they communicate their organisation’s social impact and performance. Explore how to communicate with stakeholders more openly and build trusted internal and external relationships. \nWhat to expect: \n\nUnderstand what drives societal value for stakeholders in today’s communication environment\nAlign your communication efforts with ESG outcomes\nDevelop your strategic advisory and listening skills\nBuild measures and develop ROI for your ESG communication efforts\nIncrease your perceived value within the organisation\n\nWho Should Attend\nCommunication professionals working in: \n\nCorporate social responsibility\nGovernment relations\nIssues management\nStrategic communication\,\nCorporate communication Career Level: Foundation\, Generalist/Specialist\, Strategic Advisor\, Business Leader\nInternal communication\nExternal communication\nCorporate affairs\nPublic relations\nThose leading teams\, ESG projects\, or having to influence others about ESG within the organisation.\n\nKey Learning Objectives\nUpon completion of this course you’ll be able to: \n\nBUILD alignment between ESG and communication outcomes\nDEVELOP a clear understanding of what drives ESG value for stakeholders\nKNOW the elements of a strategically focused ESG communication plan\nMOBILISE employee ambassadors\nEXPLORE best practices\, principles\, processes and implementation elements designed to equip you with the knowledge and expertise to deliver business results\n\nEnquiry Form\n\n\n                 \n \n                        SalutationMr.Ms.Miss.Mrs.Mdm.Dr.Prof.Capt.-Name*\n                            \n                            \n                                                    \n                                                    First\n                                                \n                            \n                            \n                                                    \n                                                    Last\n                                                \n                            \n                        Phone*Email*\n                            \n                        Company*Current Location*    \n                    \n                        \n                                        AfghanistanAlbaniaAlgeriaAmerican SamoaAndorraAngolaAnguillaAntarcticaAntigua and BarbudaArgentinaArmeniaArubaAustraliaAustriaAzerbaijanBahamasBahrainBangladeshBarbadosBelarusBelgiumBelizeBeninBermudaBhutanBoliviaBonaire\, Sint Eustatius and SabaBosnia and HerzegovinaBotswanaBouvet IslandBrazilBritish Indian Ocean TerritoryBrunei DarussalamBulgariaBurkina FasoBurundiCambodiaCameroonCanadaCape VerdeCayman IslandsCentral African RepublicChadChileChinaChristmas IslandCocos IslandsColombiaComorosCongoCongo\, Democratic Republic of theCook IslandsCosta RicaCroatiaCubaCuraçaoCyprusCzechiaCôte d'IvoireDenmarkDjiboutiDominicaDominican RepublicEcuadorEgyptEl SalvadorEquatorial GuineaEritreaEstoniaEswatiniEthiopiaFalkland IslandsFaroe IslandsFijiFinlandFranceFrench GuianaFrench PolynesiaFrench Southern TerritoriesGabonGambiaGeorgiaGermanyGhanaGibraltarGreeceGreenlandGrenadaGuadeloupeGuamGuatemalaGuernseyGuineaGuinea-BissauGuyanaHaitiHeard Island and McDonald IslandsHoly SeeHondurasHong KongHungaryIcelandIndiaIndonesiaIranIraqIrelandIsle of ManIsraelItalyJamaicaJapanJerseyJordanKazakhstanKenyaKiribatiKorea\, Democratic People's Republic ofKorea\, Republic ofKuwaitKyrgyzstanLao People's Democratic RepublicLatviaLebanonLesothoLiberiaLibyaLiechtensteinLithuaniaLuxembourgMacaoMadagascarMalawiMalaysiaMaldivesMaliMaltaMarshall IslandsMartiniqueMauritaniaMauritiusMayotteMexicoMicronesiaMoldovaMonacoMongoliaMontenegroMontserratMoroccoMozambiqueMyanmarNamibiaNauruNepalNetherlandsNew CaledoniaNew ZealandNicaraguaNigerNigeriaNiueNorfolk IslandNorth MacedoniaNorthern Mariana IslandsNorwayOmanPakistanPalauPalestine\, State ofPanamaPapua New GuineaParaguayPeruPhilippinesPitcairnPolandPortugalPuerto RicoQatarRomaniaRussian FederationRwandaRéunionSaint BarthélemySaint Helena\, Ascension and Tristan da CunhaSaint Kitts and NevisSaint LuciaSaint MartinSaint Pierre and MiquelonSaint Vincent and the GrenadinesSamoaSan MarinoSao Tome and PrincipeSaudi ArabiaSenegalSerbiaSeychellesSierra LeoneSingaporeSint MaartenSlovakiaSloveniaSolomon IslandsSomaliaSouth AfricaSouth Georgia and the South Sandwich IslandsSouth SudanSpainSri LankaSudanSurinameSvalbard and Jan MayenSwedenSwitzerlandSyria Arab RepublicTaiwanTajikistanTanzania\, the United Republic ofThailandTimor-LesteTogoTokelauTongaTrinidad and TobagoTunisiaTurkmenistanTurks and Caicos IslandsTuvaluTürkiyeUS Minor Outlying IslandsUgandaUkraineUnited Arab EmiratesUnited KingdomUnited StatesUruguayUzbekistanVanuatuVenezuelaViet NamVirgin Islands\, BritishVirgin Islands\, U.S.Wallis and FutunaWestern SaharaYemenZambiaZimbabweÅland Islands\n                                        Country\n                                    \n                    \n                How many people are you looking at?1 - 2 Standard Rates3 - 5 Group Discount>10 In-House Training\, Huge Savings!Undecided\, need more informationThis is just an approximate number. You can finalise it when you send in the registration form.\n								\n								Send me brochure\n							Comments:CAPTCHA
URL:https://www.opuskinetic.com/training/esg-impact-sustainability-communication-2/2022-02-28/
LOCATION:Virtual Instructor Led Training (VILT)
CATEGORIES:Communications,ESG/Renewable Energy/Clean Energy/Energy Management,Management and Leadership Development
END:VEVENT
BEGIN:VEVENT
DTSTART;VALUE=DATE:20220323
DTEND;VALUE=DATE:20220326
DTSTAMP:20260421T071726
CREATED:20211129T094417Z
LAST-MODIFIED:20260107T051451Z
UID:10001341-1647993600-1648252799@www.opuskinetic.com
SUMMARY:LNG Terminal and Cargo Transfer Operations
DESCRIPTION:Why Choose this Training Course\nThis intensive LNG Terminal Operations training course will equip you with a detailed practical grounding in advanced LNG terminal and operations. \nTheory based and delivered in a practical method\, including factual case studies from around the globe and in a workshop format\, you will learn the practical tools and techniques that can be utilised to manage commercial and operational risks more effectively and make better practical investment decisions. \nLNG Trade has gained immense traction in the recent past. With the LNG terminal business projected to be in full throttle in the next years\, the need to understand the ins and outs\, including the commercial and technical risks in end to end LNG Terminals\, Terminal Operations and Ship/Truck and Land based LNG cargo operations\, is a must for all players that are involved or looking to be involved in LNG operations. \nThis LNG Terminal Operations training course covers the technical aspects and practical commercial considerations in LNG Terminals and terminal operations and cargo operations from (voyage planning and cargo management) through LNG transportation contracts\, terminal operations\, tanker loading and discharge procedures\, and LNG custody transfer measurement and calculations. Learn more about the LNG Terminal and shipping industry and be equipped as you aim to stay ahead and get ahead in this niche shipping business. \nWho Should Attend\nThis LNG Terminal Operations training course is designed for anyone with immediate responsibility for LNG Terminals and Operations including; Safety Officers\, Superintendants\, Terminal Loading personnel\, crew and terminal operators involved in discharging LNG\, Technical staff involved in custody transfer or handling oil or gas cargoes; especially oil and gas operators\, terminals\, vessel owners and operators\, POAC and Insurance Marine surveyors. Attendees include: \n\nLNG suppliers\, traders and distributors\nShip owners and operators\nSuperintendents and safety officers\nTechnical and operations executives\nCharterers and traders\nShip brokers\nPort and terminal operators\nP&I club and marine insurance\nShip Owners and Managers\nOffshore Vessel and FPSO Owners and Operators\nOil Majors\, NOCs and Independents\nShip Superintendents and Safety Officers\nShip Officers and Crews (Master\, Chief Officers\, Chief Engineers etc)\nLoading and Mooring Masters\nSTS Service Providers\nLiquid Cargo and Bunker Surveyors\nPorts and Terminal Operators\nP&I Inspectors and Executives\nLNG FSU Owners\, Managers\, Operators\n\nKey Learning Objectives\n\nImprove your LNG terminal handling\, loading and discharging of bulk liquids\nLearn about LNG SIMOPS and LNG international guidelines and regulations concerning tankers and terminals including the science of LNG\, new technologies\, properties and types of cargoes transfers now available\nUnderstand the techniques used globally regarding LNG Quality & Quantity\nBecome familiar with state of the art LNG loading and discharge operations and equipment\n\nEnquiry Form\n\n                 \n \n                        SalutationMr.Ms.Miss.Mrs.Mdm.Dr.Prof.Capt.-Name*\n                            \n                            \n                                                    \n                                                    First\n                                                \n                            \n                            \n                                                    \n                                                    Last\n                                                \n                            \n                        Phone*Email*\n                            \n                        Company*Current Location*    \n                    \n                        \n                                        AfghanistanAlbaniaAlgeriaAmerican SamoaAndorraAngolaAnguillaAntarcticaAntigua and BarbudaArgentinaArmeniaArubaAustraliaAustriaAzerbaijanBahamasBahrainBangladeshBarbadosBelarusBelgiumBelizeBeninBermudaBhutanBoliviaBonaire\, Sint Eustatius and SabaBosnia and HerzegovinaBotswanaBouvet IslandBrazilBritish Indian Ocean TerritoryBrunei DarussalamBulgariaBurkina FasoBurundiCambodiaCameroonCanadaCape VerdeCayman IslandsCentral African RepublicChadChileChinaChristmas IslandCocos IslandsColombiaComorosCongoCongo\, Democratic Republic of theCook IslandsCosta RicaCroatiaCubaCuraçaoCyprusCzechiaCôte d'IvoireDenmarkDjiboutiDominicaDominican RepublicEcuadorEgyptEl SalvadorEquatorial GuineaEritreaEstoniaEswatiniEthiopiaFalkland IslandsFaroe IslandsFijiFinlandFranceFrench GuianaFrench PolynesiaFrench Southern TerritoriesGabonGambiaGeorgiaGermanyGhanaGibraltarGreeceGreenlandGrenadaGuadeloupeGuamGuatemalaGuernseyGuineaGuinea-BissauGuyanaHaitiHeard Island and McDonald IslandsHoly SeeHondurasHong KongHungaryIcelandIndiaIndonesiaIranIraqIrelandIsle of ManIsraelItalyJamaicaJapanJerseyJordanKazakhstanKenyaKiribatiKorea\, Democratic People's Republic ofKorea\, Republic ofKuwaitKyrgyzstanLao People's Democratic RepublicLatviaLebanonLesothoLiberiaLibyaLiechtensteinLithuaniaLuxembourgMacaoMadagascarMalawiMalaysiaMaldivesMaliMaltaMarshall IslandsMartiniqueMauritaniaMauritiusMayotteMexicoMicronesiaMoldovaMonacoMongoliaMontenegroMontserratMoroccoMozambiqueMyanmarNamibiaNauruNepalNetherlandsNew CaledoniaNew ZealandNicaraguaNigerNigeriaNiueNorfolk IslandNorth MacedoniaNorthern Mariana IslandsNorwayOmanPakistanPalauPalestine\, State ofPanamaPapua New GuineaParaguayPeruPhilippinesPitcairnPolandPortugalPuerto RicoQatarRomaniaRussian FederationRwandaRéunionSaint BarthélemySaint Helena\, Ascension and Tristan da CunhaSaint Kitts and NevisSaint LuciaSaint MartinSaint Pierre and MiquelonSaint Vincent and the GrenadinesSamoaSan MarinoSao Tome and PrincipeSaudi ArabiaSenegalSerbiaSeychellesSierra LeoneSingaporeSint MaartenSlovakiaSloveniaSolomon IslandsSomaliaSouth AfricaSouth Georgia and the South Sandwich IslandsSouth SudanSpainSri LankaSudanSurinameSvalbard and Jan MayenSwedenSwitzerlandSyria Arab RepublicTaiwanTajikistanTanzania\, the United Republic ofThailandTimor-LesteTogoTokelauTongaTrinidad and TobagoTunisiaTurkmenistanTurks and Caicos IslandsTuvaluTürkiyeUS Minor Outlying IslandsUgandaUkraineUnited Arab EmiratesUnited KingdomUnited StatesUruguayUzbekistanVanuatuVenezuelaViet NamVirgin Islands\, BritishVirgin Islands\, U.S.Wallis and FutunaWestern SaharaYemenZambiaZimbabweÅland Islands\n                                        Country\n                                    \n                    \n                How many people are you looking at?1 - 2 Standard Rates3 - 5 Group Discount>10 In-House Training\, Huge Savings!Undecided\, need more informationThis is just an approximate number. You can finalise it when you send in the registration form.\n								\n								Send me brochure\n							Comments:CAPTCHA
URL:https://www.opuskinetic.com/training/lng-terminal-and-cargo-transfer-operations/2022-03-23/
LOCATION:Singapore\, Singapore
CATEGORIES:ESG/Renewable Energy/Clean Energy/Energy Management,Marine and Offshore,Operations
ATTACH;FMTTYPE=image/png:https://www.opuskinetic.com/wp-content/uploads/2021/11/LNG-terminal-fi1.png
ORGANIZER;CN="Opus Kinetic Pte Ltd":MAILTO:info@opuskinetic.com
GEO:1.352083;103.819836
END:VEVENT
BEGIN:VEVENT
DTSTART;VALUE=DATE:20220328
DTEND;VALUE=DATE:20220331
DTSTAMP:20260421T071726
CREATED:20211129T093057Z
LAST-MODIFIED:20260113T060211Z
UID:10001332-1648425600-1648684799@www.opuskinetic.com
SUMMARY:LNG Loading Master Certification
DESCRIPTION:Why Choose this Training Course\nThis is a 3-day LNG Loading Master training course\, both in-person and virtual in Singapore and Malaysia.  The Loading Master is responsible for safe and smooth cargo operations. He is in charge of the so-called ship/shore interface. To be a trained loading master Opus Kinetic developed this comprehensive training program which prepares the Loading Master for his role in handling LNG. \nOpus Kinetic is also a proud member of Energy Institute Singapore as we constantly research on the latest trends in the energy industry. \nWho Should Attend\nAnyone interested in learning more about the LNG Ship/Shore Interface\, Terminal Operators\, LNG operations supervisors\, Jetty Personnel\, Loading Masters\, Port Authorities\, Port Supervisors\, Customs Officials. \nKey Learning Objectives\nTo work as a Loading Master\, one has to have the operational knowledge\, the technical skill and has to understand the LNG ship/shore Interface. This training is designed to train and certify those who are working in LNG Marine Terminals\, FLNG (Floating Liquefied Natural Gas Barges or Vessels and in management of LNG facilities). This training will assist LNG terminal operators in achieving a competitive advantage by having an effective and well managed operation. The course was created for the LNG mid and downstream supply chain and LNG industry managers. \n\nFundamentals of LNG Shipping and Storage: Understanding the importance of liquefying natural gas\, cryogenic temperature effects\, and the prioritization of safety in LNG operations\nOperational Procedures and Safety Compliance: Learning the critical steps in LNG loading and discharging\, the role of a Loading Master\, and the importance of adhering to international safety regulations (ISGOTT\, SIGTTO\, ISPS)\nRisk Management and Emergency Preparedness: Identifying operational risks such as LNG leaks\, cargo sloshing\, and mooring hazards\, while understanding emergency shutdown systems (ESD1 & ESD2) and ship-shore communication protocols\nCustody Transfer and Commercial Considerations: Gaining knowledge of LNG custody transfer principles\, Bill of Lading\, quality and quantity measurement\, and key commercial aspects like the “Take or Pay” principle and “Off-Spec” cargo handling\nReal-World Applications and Best Practices: Applying theoretical knowledge through interactive ship handling simulations\, case studies on LNG import terminals in Japan\, and reviewing best practices to ensure efficiency and safety in LNG operations\n\nEnquiry Form\n\n                 \n \n                        SalutationMr.Ms.Miss.Mrs.Mdm.Dr.Prof.Capt.-Name*\n                            \n                            \n                                                    \n                                                    First\n                                                \n                            \n                            \n                                                    \n                                                    Last\n                                                \n                            \n                        Phone*Email*\n                            \n                        Company*Current Location*    \n                    \n                        \n                                        AfghanistanAlbaniaAlgeriaAmerican SamoaAndorraAngolaAnguillaAntarcticaAntigua and BarbudaArgentinaArmeniaArubaAustraliaAustriaAzerbaijanBahamasBahrainBangladeshBarbadosBelarusBelgiumBelizeBeninBermudaBhutanBoliviaBonaire\, Sint Eustatius and SabaBosnia and HerzegovinaBotswanaBouvet IslandBrazilBritish Indian Ocean TerritoryBrunei DarussalamBulgariaBurkina FasoBurundiCambodiaCameroonCanadaCape VerdeCayman IslandsCentral African RepublicChadChileChinaChristmas IslandCocos IslandsColombiaComorosCongoCongo\, Democratic Republic of theCook IslandsCosta RicaCroatiaCubaCuraçaoCyprusCzechiaCôte d'IvoireDenmarkDjiboutiDominicaDominican RepublicEcuadorEgyptEl SalvadorEquatorial GuineaEritreaEstoniaEswatiniEthiopiaFalkland IslandsFaroe IslandsFijiFinlandFranceFrench GuianaFrench PolynesiaFrench Southern TerritoriesGabonGambiaGeorgiaGermanyGhanaGibraltarGreeceGreenlandGrenadaGuadeloupeGuamGuatemalaGuernseyGuineaGuinea-BissauGuyanaHaitiHeard Island and McDonald IslandsHoly SeeHondurasHong KongHungaryIcelandIndiaIndonesiaIranIraqIrelandIsle of ManIsraelItalyJamaicaJapanJerseyJordanKazakhstanKenyaKiribatiKorea\, Democratic People's Republic ofKorea\, Republic ofKuwaitKyrgyzstanLao People's Democratic RepublicLatviaLebanonLesothoLiberiaLibyaLiechtensteinLithuaniaLuxembourgMacaoMadagascarMalawiMalaysiaMaldivesMaliMaltaMarshall IslandsMartiniqueMauritaniaMauritiusMayotteMexicoMicronesiaMoldovaMonacoMongoliaMontenegroMontserratMoroccoMozambiqueMyanmarNamibiaNauruNepalNetherlandsNew CaledoniaNew ZealandNicaraguaNigerNigeriaNiueNorfolk IslandNorth MacedoniaNorthern Mariana IslandsNorwayOmanPakistanPalauPalestine\, State ofPanamaPapua New GuineaParaguayPeruPhilippinesPitcairnPolandPortugalPuerto RicoQatarRomaniaRussian FederationRwandaRéunionSaint BarthélemySaint Helena\, Ascension and Tristan da CunhaSaint Kitts and NevisSaint LuciaSaint MartinSaint Pierre and MiquelonSaint Vincent and the GrenadinesSamoaSan MarinoSao Tome and PrincipeSaudi ArabiaSenegalSerbiaSeychellesSierra LeoneSingaporeSint MaartenSlovakiaSloveniaSolomon IslandsSomaliaSouth AfricaSouth Georgia and the South Sandwich IslandsSouth SudanSpainSri LankaSudanSurinameSvalbard and Jan MayenSwedenSwitzerlandSyria Arab RepublicTaiwanTajikistanTanzania\, the United Republic ofThailandTimor-LesteTogoTokelauTongaTrinidad and TobagoTunisiaTurkmenistanTurks and Caicos IslandsTuvaluTürkiyeUS Minor Outlying IslandsUgandaUkraineUnited Arab EmiratesUnited KingdomUnited StatesUruguayUzbekistanVanuatuVenezuelaViet NamVirgin Islands\, BritishVirgin Islands\, U.S.Wallis and FutunaWestern SaharaYemenZambiaZimbabweÅland Islands\n                                        Country\n                                    \n                    \n                How many people are you looking at?1 - 2 Standard Rates3 - 5 Group Discount>10 In-House Training\, Huge Savings!Undecided\, need more informationThis is just an approximate number. You can finalise it when you send in the registration form.\n								\n								Send me brochure\n							Comments:CAPTCHA\n          \n            \n            \n            \n            \n            \n            \n            \n            \n            \n            \n            \n            \n            \n        \n                        \n                        \n		                \n		                \n\n 
URL:https://www.opuskinetic.com/training/lng-loading-master-certification-13/2022-03-28/
LOCATION:Kuala Lumpur\, Federal Territory of Kuala Lumpur\, Kuala Lumpur\, Malaysia
CATEGORIES:ESG/Renewable Energy/Clean Energy/Energy Management,Marine and Offshore
ATTACH;FMTTYPE=image/png:https://www.opuskinetic.com/wp-content/uploads/2021/11/LNG-fI1.png
ORGANIZER;CN="Opus Kinetic Pte Ltd":MAILTO:info@opuskinetic.com
GEO:3.1384965;101.7099933
END:VEVENT
END:VCALENDAR