BEGIN:VCALENDAR
VERSION:2.0
PRODID:-//Opus Kinetic - ECPv6.15.12.2//NONSGML v1.0//EN
CALSCALE:GREGORIAN
METHOD:PUBLISH
X-WR-CALNAME:Opus Kinetic
X-ORIGINAL-URL:https://www.opuskinetic.com
X-WR-CALDESC:Events for Opus Kinetic
REFRESH-INTERVAL;VALUE=DURATION:PT1H
X-Robots-Tag:noindex
X-PUBLISHED-TTL:PT1H
BEGIN:VTIMEZONE
TZID:Asia/Singapore
BEGIN:STANDARD
TZOFFSETFROM:+0800
TZOFFSETTO:+0800
TZNAME:+08
DTSTART:20250101T000000
END:STANDARD
END:VTIMEZONE
BEGIN:VEVENT
DTSTART;VALUE=DATE:20260304
DTEND;VALUE=DATE:20260307
DTSTAMP:20260419T214425
CREATED:20231026T023717Z
LAST-MODIFIED:20251218T040256Z
UID:10002291-1772614800-1772816400@www.opuskinetic.com
SUMMARY:LNG Shipping Operations
DESCRIPTION:Why Choose this Training Course\nThis intensive LNG shipping operations training course will equip you with a detailed practical grounding in the fundamentals of advanced of LNG shipping transfer operations. You will learn the practical tools and techniques that can be utilized to manage risk more effectively and make better practical decisions while handling. \n\nReinforce knowledge about operations that are carried out in accordance with all relevant national and international maritime legislation\, local regulations\, and industry best practices.\nEvaluate the different procedures and factors affecting cost of the operation\nEnsure overall safety for any LNG or STS operation on the use of correct size and number of fenders and certified tested hoses.\nBecome familiar with LNG vessels\, operations and LNG STS equipment\nEnhance understanding of Ship-to-Ship transfer equipment\, design\, maintenance – and training methods\nFamiliarise the differences of Person in Overall Advisory Control\, Mooring Master and Master of the Ship\nEstablish a useful methodology in reducing risk\nUnderstanding environmental challenges\nRecognise and understand differences in operations and hazards between oil and gas vessels.\nUnderstand requirements for LNG vessel compatibility and Optimoor studies and follow an LNG spill response case study\n\nWho Should Attend\n\nShip Owners and Managers\nOffshore Vessel and FPSO Owners and Operators\nOil Majors\, NOCs and Independents\nShip Superintendents and Safety Officers\nShip Officers and Crews (Master\, Chief Officers\, Chief Engineers etc)\nLoading and Mooring Masters\nSTS Service Providers\nLiquid Cargo and Bunker Surveyors\nPorts and Terminal Operators\nP&I Inspectors and Executives\nLNG FSU Owners\, Managers\, Operators\nCompany Assurance Managers and Superintendents\n\n\n\n\nKey Learning Objectives\n\nLearn the Important Aspects of LNG Operations\nWhat Regulations and Guidelines are Governing LNG Transfer Operations?\nMaster the Parties Involved in the Transfers and their Relationship to One Another\nPOAC Performing Different Roles at Particular Point of the Operations\nPre-planning and Risk Assessment Considerations for LNG\nInsights on STS Plan and Equipment\nReview and Plan with Real Life Case Scenario\nMooring Operations Maneuvering and Risks\nLNG Focused Cargo Transfer Operations\nSTS Transfer Operations Best Practices Oil and LNG comparisons\nEmergency Response and Contingency Planning\nSTS Industry and Future LNG Developments\nCase Study: Escobar Argentina\, Liquefied Natural Gas Ship to Ship Transfer Operations to Floating Structure regasification Unit\nCase Study: LNG Spill Response during Cargo operations\n\nEnquiry Form\n\n\n                 \n \n                        SalutationMr.Ms.Miss.Mrs.Mdm.Dr.Prof.Capt.-Name*\n                            \n                            \n                                                    \n                                                    First\n                                                \n                            \n                            \n                                                    \n                                                    Last\n                                                \n                            \n                        Phone*Email*\n                            \n                        Company*Current Location*    \n                    \n                        \n                                        AfghanistanAlbaniaAlgeriaAmerican SamoaAndorraAngolaAnguillaAntarcticaAntigua and BarbudaArgentinaArmeniaArubaAustraliaAustriaAzerbaijanBahamasBahrainBangladeshBarbadosBelarusBelgiumBelizeBeninBermudaBhutanBoliviaBonaire\, Sint Eustatius and SabaBosnia and HerzegovinaBotswanaBouvet IslandBrazilBritish Indian Ocean TerritoryBrunei DarussalamBulgariaBurkina FasoBurundiCambodiaCameroonCanadaCape VerdeCayman IslandsCentral African RepublicChadChileChinaChristmas IslandCocos IslandsColombiaComorosCongoCongo\, Democratic Republic of theCook IslandsCosta RicaCroatiaCubaCuraçaoCyprusCzechiaCôte d'IvoireDenmarkDjiboutiDominicaDominican RepublicEcuadorEgyptEl SalvadorEquatorial GuineaEritreaEstoniaEswatiniEthiopiaFalkland IslandsFaroe IslandsFijiFinlandFranceFrench GuianaFrench PolynesiaFrench Southern TerritoriesGabonGambiaGeorgiaGermanyGhanaGibraltarGreeceGreenlandGrenadaGuadeloupeGuamGuatemalaGuernseyGuineaGuinea-BissauGuyanaHaitiHeard Island and McDonald IslandsHoly SeeHondurasHong KongHungaryIcelandIndiaIndonesiaIranIraqIrelandIsle of ManIsraelItalyJamaicaJapanJerseyJordanKazakhstanKenyaKiribatiKorea\, Democratic People's Republic ofKorea\, Republic ofKuwaitKyrgyzstanLao People's Democratic RepublicLatviaLebanonLesothoLiberiaLibyaLiechtensteinLithuaniaLuxembourgMacaoMadagascarMalawiMalaysiaMaldivesMaliMaltaMarshall IslandsMartiniqueMauritaniaMauritiusMayotteMexicoMicronesiaMoldovaMonacoMongoliaMontenegroMontserratMoroccoMozambiqueMyanmarNamibiaNauruNepalNetherlandsNew CaledoniaNew ZealandNicaraguaNigerNigeriaNiueNorfolk IslandNorth MacedoniaNorthern Mariana IslandsNorwayOmanPakistanPalauPalestine\, State ofPanamaPapua New GuineaParaguayPeruPhilippinesPitcairnPolandPortugalPuerto RicoQatarRomaniaRussian FederationRwandaRéunionSaint BarthélemySaint Helena\, Ascension and Tristan da CunhaSaint Kitts and NevisSaint LuciaSaint MartinSaint Pierre and MiquelonSaint Vincent and the GrenadinesSamoaSan MarinoSao Tome and PrincipeSaudi ArabiaSenegalSerbiaSeychellesSierra LeoneSingaporeSint MaartenSlovakiaSloveniaSolomon IslandsSomaliaSouth AfricaSouth Georgia and the South Sandwich IslandsSouth SudanSpainSri LankaSudanSurinameSvalbard and Jan MayenSwedenSwitzerlandSyria Arab RepublicTaiwanTajikistanTanzania\, the United Republic ofThailandTimor-LesteTogoTokelauTongaTrinidad and TobagoTunisiaTurkmenistanTurks and Caicos IslandsTuvaluTürkiyeUS Minor Outlying IslandsUgandaUkraineUnited Arab EmiratesUnited KingdomUnited StatesUruguayUzbekistanVanuatuVenezuelaViet NamVirgin Islands\, BritishVirgin Islands\, U.S.Wallis and FutunaWestern SaharaYemenZambiaZimbabweÅland Islands\n                                        Country\n                                    \n                    \n                How many people are you looking at?1 - 2 Standard Rates3 - 5 Group Discount>10 In-House Training\, Huge Savings!Undecided\, need more informationThis is just an approximate number. You can finalise it when you send in the registration form.\n								\n								Send me brochure\n							Comments:CAPTCHA
URL:https://www.opuskinetic.com/training/lng-shipping-operations/2026-03-04/
LOCATION:Singapore\, Singapore
CATEGORIES:ESG/Renewable Energy/Clean Energy/Energy Management,Logistics and Supply Chain,Marine and Offshore
ATTACH;FMTTYPE=image/png:https://www.opuskinetic.com/wp-content/uploads/2023/10/LNG-Shipping-fi1.png
ORGANIZER;CN="Opus Kinetic Pte Ltd":MAILTO:info@opuskinetic.com
GEO:1.352083;103.819836
END:VEVENT
BEGIN:VEVENT
DTSTART;VALUE=DATE:20260312
DTEND;VALUE=DATE:20260314
DTSTAMP:20260419T214425
CREATED:20250611T081738Z
LAST-MODIFIED:20251227T062022Z
UID:10002300-1773306000-1773421200@www.opuskinetic.com
SUMMARY:Rail Cyber Security
DESCRIPTION:Why Choose this Training Course\nThe railway sector is facing a new challenge: the Network Information Security (NIS) regulations. According to a 2020 survey by the European Union Agency for Cybersecurity (ENISA)\, only 33% of rail operators of essential services (OES) have fully implemented defensive measures against cyber attacks\, as recommended by NIS regulations. This places their software under serious risk\, not to mention their lack of compliance with the new regulations. \nWhen security breaches occur\, the ripple effect throughout an organisation can be vast\, with consequences that are both financial and personal. There may also be implications concerning system safety and resilience. \nThis rail cybersecurity training is an introduction to the major themes of cybersecurity and will start you on a journey to the creation of a secure rail operation. After taking this course\, you will be able to communicate effectively\, make informed trade-offs\, assess risk\, improve defences\, and reduce vulnerabilities in your systems. \nThis rail cybersecurity training is based upon the new railway cybersecurity-specific CENELEC standards\, TS50701 and best practices from other OT and IT Cybersecurity benchmarks such as ISO27001\, IEC 624423 and the Australian Standard® AS 7770 Rail Cyber Security. \nWho Should Attend\nThis rail cybersecurity training is for railway business leaders\, managers\, railway inspectors\, railway legislators\, safety professionals\, planners\, information technology (IT) professionals\, resilience specialists and railway engineers tasked with making decisions that could impact the cyber resilience of technical and organisational systems. \nThe rail cybersecurity training is focused more towards railway Operational technology (OT)\, although it also covers IT issues\, particularly their security risks and strategies from ISO-27001. No prior knowledge of cybersecurity is required for this course. \nKey Learning Objectives\nThis rail cybersecurity training is based upon the new railway cybersecurity-specific CENELEC standards\, TS50701\, and best practices from other OT and IT Cybersecurity standards such as ISO-27001\, IEC 624423 and the Australian Standard® AS 7770 Rail Cyber Security. \n\nWhat is Cybersecurity? Putting it into the context of railway and transportation\nIdentify threats and vulnerabilities (such as cybersecurity\, safety and availability)\nDevelop mitigation actions for threats and vulnerabilities and recovery from potential consequences\nCybersecurity: What standards are available for dealing with threats\nAn understanding of TS70101 and how it can improve cybersecurity across the entire railway\n\nEnquiry Form\n\n                 \n \n                        SalutationMr.Ms.Miss.Mrs.Mdm.Dr.Prof.Capt.-Name*\n                            \n                            \n                                                    \n                                                    First\n                                                \n                            \n                            \n                                                    \n                                                    Last\n                                                \n                            \n                        Phone*Email*\n                            \n                        Company*Current Location*    \n                    \n                        \n                                        AfghanistanAlbaniaAlgeriaAmerican SamoaAndorraAngolaAnguillaAntarcticaAntigua and BarbudaArgentinaArmeniaArubaAustraliaAustriaAzerbaijanBahamasBahrainBangladeshBarbadosBelarusBelgiumBelizeBeninBermudaBhutanBoliviaBonaire\, Sint Eustatius and SabaBosnia and HerzegovinaBotswanaBouvet IslandBrazilBritish Indian Ocean TerritoryBrunei DarussalamBulgariaBurkina FasoBurundiCambodiaCameroonCanadaCape VerdeCayman IslandsCentral African RepublicChadChileChinaChristmas IslandCocos IslandsColombiaComorosCongoCongo\, Democratic Republic of theCook IslandsCosta RicaCroatiaCubaCuraçaoCyprusCzechiaCôte d'IvoireDenmarkDjiboutiDominicaDominican RepublicEcuadorEgyptEl SalvadorEquatorial GuineaEritreaEstoniaEswatiniEthiopiaFalkland IslandsFaroe IslandsFijiFinlandFranceFrench GuianaFrench PolynesiaFrench Southern TerritoriesGabonGambiaGeorgiaGermanyGhanaGibraltarGreeceGreenlandGrenadaGuadeloupeGuamGuatemalaGuernseyGuineaGuinea-BissauGuyanaHaitiHeard Island and McDonald IslandsHoly SeeHondurasHong KongHungaryIcelandIndiaIndonesiaIranIraqIrelandIsle of ManIsraelItalyJamaicaJapanJerseyJordanKazakhstanKenyaKiribatiKorea\, Democratic People's Republic ofKorea\, Republic ofKuwaitKyrgyzstanLao People's Democratic RepublicLatviaLebanonLesothoLiberiaLibyaLiechtensteinLithuaniaLuxembourgMacaoMadagascarMalawiMalaysiaMaldivesMaliMaltaMarshall IslandsMartiniqueMauritaniaMauritiusMayotteMexicoMicronesiaMoldovaMonacoMongoliaMontenegroMontserratMoroccoMozambiqueMyanmarNamibiaNauruNepalNetherlandsNew CaledoniaNew ZealandNicaraguaNigerNigeriaNiueNorfolk IslandNorth MacedoniaNorthern Mariana IslandsNorwayOmanPakistanPalauPalestine\, State ofPanamaPapua New GuineaParaguayPeruPhilippinesPitcairnPolandPortugalPuerto RicoQatarRomaniaRussian FederationRwandaRéunionSaint BarthélemySaint Helena\, Ascension and Tristan da CunhaSaint Kitts and NevisSaint LuciaSaint MartinSaint Pierre and MiquelonSaint Vincent and the GrenadinesSamoaSan MarinoSao Tome and PrincipeSaudi ArabiaSenegalSerbiaSeychellesSierra LeoneSingaporeSint MaartenSlovakiaSloveniaSolomon IslandsSomaliaSouth AfricaSouth Georgia and the South Sandwich IslandsSouth SudanSpainSri LankaSudanSurinameSvalbard and Jan MayenSwedenSwitzerlandSyria Arab RepublicTaiwanTajikistanTanzania\, the United Republic ofThailandTimor-LesteTogoTokelauTongaTrinidad and TobagoTunisiaTurkmenistanTurks and Caicos IslandsTuvaluTürkiyeUS Minor Outlying IslandsUgandaUkraineUnited Arab EmiratesUnited KingdomUnited StatesUruguayUzbekistanVanuatuVenezuelaViet NamVirgin Islands\, BritishVirgin Islands\, U.S.Wallis and FutunaWestern SaharaYemenZambiaZimbabweÅland Islands\n                                        Country\n                                    \n                    \n                How many people are you looking at?1 - 2 Standard Rates3 - 5 Group Discount>10 In-House Training\, Huge Savings!Undecided\, need more informationThis is just an approximate number. You can finalise it when you send in the registration form.\n								\n								Send me brochure\n							Comments:CAPTCHA
URL:https://www.opuskinetic.com/training/rail-cybersecurity-training/2026-03-12/
LOCATION:Singapore\, Singapore
CATEGORIES:Big Data, AI & Cybersecurity,Logistics and Supply Chain
ATTACH;FMTTYPE=image/jpeg:https://www.opuskinetic.com/wp-content/uploads/2025/06/rail-cybersecurity-fi1-scaled.jpg
ORGANIZER;CN="Opus Kinetic Pte Ltd":MAILTO:info@opuskinetic.com
GEO:1.352083;103.819836
END:VEVENT
BEGIN:VEVENT
DTSTART;VALUE=DATE:20260316
DTEND;VALUE=DATE:20260320
DTSTAMP:20260419T214425
CREATED:20220525T030349Z
LAST-MODIFIED:20260414T041328Z
UID:10002295-1773651600-1773939600@www.opuskinetic.com
SUMMARY:Heavy Lift Training: Heavy Transport and Lifting
DESCRIPTION:Why Choose this Training Course\nThis is a 3-day heavy lift training course held in Singapore\, Malaysia\, Perth\, Abu Dhabi and Dubai. The efficient and safe execution of lifting and transporting objects that are heavy or awkward in size or shape involves specialized load handling equipment and various different modes of operation. These kinds of operations require a thorough understanding of the physics and laws of nature that contribute to the success of such activities. This heavy lift training is designed for personnel involved in specialized transportation and lifting from contract transport organizations and original equipment manufacturers (OEM) to engineering companies and project owners in the oil and gas\, power generation and other plant-environment industries. \nCharacteristic for this industry is often the absence of standardization across multiple countries or companies. This leads to unique engineering and planning for each project\, a truly indispensable element in projects of this nature. The engineering principles of hydraulic platform trailers like self-propelled modular transporters (SPMTs) are delved into along with a variety of other load handling equipment. Heavy lift\, jacking and skidding\, and load-out (roll-on/roll-off) project case studies are utilized for participants to gain a broad understanding of the art and science of specialized transport and heavy lift operation. \nThe knowledge gained in this heavy lifting training course is universally applicable to all specialized transport and heavy lift projects\, not just in Malaysia\, as it is based on solid engineering principles\, it will provide each participant with a lifetime of benefits. \nWho Should Attend\n\nCEOs and Company Owners\nCrane & Transport Contractors\nFreight Forwarders\nLifting Engineers\nEPC Contractors\nOperation Managers\nCargo Superintendents\nMarine Warrantee Surveyors\nRigging & Transport Supervisors\nOffshore Installation Contractors\nTransport & Lifting Supervisors\nHSE Managers & Engineers\nOnshore/Offshore Project Managers & Planners\nConstruction Managers\nStructural Engineers\nNaval Architects\nLift Directors & Planners\nRigging Foremen\nHeavy Lift Managers\nCrane and trailer operators\nRefineries\nOil & Gas\nPower Plants\nConstruction\nMarine Warrantee\nInsurance Companies\nConsulting Companies\nCrane Rental Companies\nFabrication Yards\nProject Logistics Companies\nHeavy Lift Shipping Companies\nFreight Forwarding Companies\nHeavy Transport Companies\nEngineering Companies\n\nKey Learning Objectives\n\nUnderstanding the importance of good and correct communication\, examples from NASA\nHow to plan a project\, understanding the planning and execution of a transport and lift covering the load\, the route to travel\, equipment selection and execution\nSelecting the right transporter or crane for the load or job\nWhat is possible and what is not\, learn how to take equipment to the max in a safe way\nUnderstand why it is important to know the application and limits of each equipment\, rigging tool\nLearn why it is important to agree on terminology before starting the job\nRecognize unsafe situations before they occur\nUnderstanding and calculation of ground pressure\nLearn how to assess (complex and multi-discipline) transport and lift plans\nLearn how to properly prepare and perform a load-out\nA thorough understanding of all Heavy Lift and Transport aspects beyond the common boundaries\n\nEnquiry Form\n\n                 \n \n                        SalutationMr.Ms.Miss.Mrs.Mdm.Dr.Prof.Capt.-Name*\n                            \n                            \n                                                    \n                                                    First\n                                                \n                            \n                            \n                                                    \n                                                    Last\n                                                \n                            \n                        Phone*Email*\n                            \n                        Company*Current Location*    \n                    \n                        \n                                        AfghanistanAlbaniaAlgeriaAmerican SamoaAndorraAngolaAnguillaAntarcticaAntigua and BarbudaArgentinaArmeniaArubaAustraliaAustriaAzerbaijanBahamasBahrainBangladeshBarbadosBelarusBelgiumBelizeBeninBermudaBhutanBoliviaBonaire\, Sint Eustatius and SabaBosnia and HerzegovinaBotswanaBouvet IslandBrazilBritish Indian Ocean TerritoryBrunei DarussalamBulgariaBurkina FasoBurundiCambodiaCameroonCanadaCape VerdeCayman IslandsCentral African RepublicChadChileChinaChristmas IslandCocos IslandsColombiaComorosCongoCongo\, Democratic Republic of theCook IslandsCosta RicaCroatiaCubaCuraçaoCyprusCzechiaCôte d'IvoireDenmarkDjiboutiDominicaDominican RepublicEcuadorEgyptEl SalvadorEquatorial GuineaEritreaEstoniaEswatiniEthiopiaFalkland IslandsFaroe IslandsFijiFinlandFranceFrench GuianaFrench PolynesiaFrench Southern TerritoriesGabonGambiaGeorgiaGermanyGhanaGibraltarGreeceGreenlandGrenadaGuadeloupeGuamGuatemalaGuernseyGuineaGuinea-BissauGuyanaHaitiHeard Island and McDonald IslandsHoly SeeHondurasHong KongHungaryIcelandIndiaIndonesiaIranIraqIrelandIsle of ManIsraelItalyJamaicaJapanJerseyJordanKazakhstanKenyaKiribatiKorea\, Democratic People's Republic ofKorea\, Republic ofKuwaitKyrgyzstanLao People's Democratic RepublicLatviaLebanonLesothoLiberiaLibyaLiechtensteinLithuaniaLuxembourgMacaoMadagascarMalawiMalaysiaMaldivesMaliMaltaMarshall IslandsMartiniqueMauritaniaMauritiusMayotteMexicoMicronesiaMoldovaMonacoMongoliaMontenegroMontserratMoroccoMozambiqueMyanmarNamibiaNauruNepalNetherlandsNew CaledoniaNew ZealandNicaraguaNigerNigeriaNiueNorfolk IslandNorth MacedoniaNorthern Mariana IslandsNorwayOmanPakistanPalauPalestine\, State ofPanamaPapua New GuineaParaguayPeruPhilippinesPitcairnPolandPortugalPuerto RicoQatarRomaniaRussian FederationRwandaRéunionSaint BarthélemySaint Helena\, Ascension and Tristan da CunhaSaint Kitts and NevisSaint LuciaSaint MartinSaint Pierre and MiquelonSaint Vincent and the GrenadinesSamoaSan MarinoSao Tome and PrincipeSaudi ArabiaSenegalSerbiaSeychellesSierra LeoneSingaporeSint MaartenSlovakiaSloveniaSolomon IslandsSomaliaSouth AfricaSouth Georgia and the South Sandwich IslandsSouth SudanSpainSri LankaSudanSurinameSvalbard and Jan MayenSwedenSwitzerlandSyria Arab RepublicTaiwanTajikistanTanzania\, the United Republic ofThailandTimor-LesteTogoTokelauTongaTrinidad and TobagoTunisiaTurkmenistanTurks and Caicos IslandsTuvaluTürkiyeUS Minor Outlying IslandsUgandaUkraineUnited Arab EmiratesUnited KingdomUnited StatesUruguayUzbekistanVanuatuVenezuelaViet NamVirgin Islands\, BritishVirgin Islands\, U.S.Wallis and FutunaWestern SaharaYemenZambiaZimbabweÅland Islands\n                                        Country\n                                    \n                    \n                How many people are you looking at?1 - 2 Standard Rates3 - 5 Group Discount>10 In-House Training\, Huge Savings!Undecided\, need more informationThis is just an approximate number. You can finalise it when you send in the registration form.\n								\n								Send me brochure\n							Comments:CAPTCHA
URL:https://www.opuskinetic.com/training/heavy-transport-and-lifting-shipping-and-offshore-training-course/2026-03-16/
LOCATION:Singapore\, Singapore
CATEGORIES:Logistics and Supply Chain,Marine and Offshore,Operations,Project
ATTACH;FMTTYPE=image/jpeg:https://www.opuskinetic.com/wp-content/uploads/2022/05/heavylift-FI.jpg
ORGANIZER;CN="Opus Kinetic Pte Ltd":MAILTO:info@opuskinetic.com
GEO:1.352083;103.819836
END:VEVENT
END:VCALENDAR