BEGIN:VCALENDAR
VERSION:2.0
PRODID:-//Opus Kinetic - ECPv6.15.12.2//NONSGML v1.0//EN
CALSCALE:GREGORIAN
METHOD:PUBLISH
X-WR-CALNAME:Opus Kinetic
X-ORIGINAL-URL:https://www.opuskinetic.com
X-WR-CALDESC:Events for Opus Kinetic
REFRESH-INTERVAL;VALUE=DURATION:PT1H
X-Robots-Tag:noindex
X-PUBLISHED-TTL:PT1H
BEGIN:VTIMEZONE
TZID:Asia/Singapore
BEGIN:STANDARD
TZOFFSETFROM:+0800
TZOFFSETTO:+0800
TZNAME:+08
DTSTART:20200101T000000
END:STANDARD
END:VTIMEZONE
BEGIN:VEVENT
DTSTART;VALUE=DATE:20210405
DTEND;VALUE=DATE:20210409
DTSTAMP:20260424T000430
CREATED:20201027T020053Z
LAST-MODIFIED:20210225T060132Z
UID:10001088-1617580800-1617926399@www.opuskinetic.com
SUMMARY:Developing Leadership Capability and Thinking Strategically
DESCRIPTION:About this Training Course\nThe challenges for oil & gas industry are as complex\, if not more so than any other business sector today. Developing exceptional leaders of tomorrow is the key to meeting the demands and expectations in this complex industry. This short course is a delegate centric period of applied and experiential learning for the oil & gas industry. Designed to provide delegates with the core skills required of senior managers charged with the leadership of their business or business unit\, it will directly contribute to your future role as leader within the sector as you will become equipped with a combination of skills that can be put to immediate use to support growth and change in a developing leadership capacity. \nWho Should Attend\nEngineers with high growth potential and aspirations or managers who fully understand that in order to excel in the competitive world of tomorrow a new set of skills\, competencies and behaviours are required. Someone who is driven and wants to make sure that they and their business/business unto are fully equipped and able to capitalise on future opportunities. People who need an intensive\, yet highly engaging and tight provoking short course in which the skill is to enhance your leadership skills and career development are employed \nKey Learning Objectives\n\nTo be able to understand the core competencies required in order to rise to the challenges of C21 Oil & Gas leadership\nTo be able to select from a range of highly effective\, proven models to build effective behavioural change and growth and face with confidence the issues of C21 Oil and Gas Leadership\nTo be able to confidently communicate business dream vision and ensure employee engagement in its delivery\nTo understand the impacts of tools such as accelerated change\, EQ\, situational leadership motivation and effective goal setting and to be able to apply these to support growth and development of the person\, team\, business unit and organisation\nTo drive performance and development with accuracy across your team\n\nEnquiry Form\n\n\n                 \n \n                        SalutationMr.Miss.Mrs.Mdm.Dr.Prof.Capt.Name\n                            \n                            \n                                                    \n                                                    First\n                                                \n                            \n                            \n                                                    \n                                                    Last\n                                                \n                            \n                        PhoneEmail\n                            \n                        CompanyAdditional Comments:CAPTCHA
URL:https://www.opuskinetic.com/training/developing-leadership-and-thinking-strategically/
LOCATION:Virtual Instructor Led Training (VILT)
CATEGORIES:Corporate, Business Management and HR,Management and Leadership Development
END:VEVENT
BEGIN:VEVENT
DTSTART;VALUE=DATE:20210422
DTEND;VALUE=DATE:20210424
DTSTAMP:20260424T000430
CREATED:20210119T023236Z
LAST-MODIFIED:20210225T060430Z
UID:10001123-1619049600-1619222399@www.opuskinetic.com
SUMMARY:Strategic Masterclass on Activate your Intellectual Property™
DESCRIPTION:About this Training Course\nNow more than ever it is imperative that organisations use their most valuable assets to reposition themselves. Intellectual Property Assets form up to 80% of your business’s assets. Therefore\, your Intellectual Property Assets are your low hanging fruit to not only create revenue and value for your business but also to significantly reduce business risks. Regardless of whether your business model is simply to “outperform” your competitor or to be a “game changer”\, innovation is at the heart of every business model and intellectual property in the form of patents\, trade marks\, design\, copyright and confidential information is being created. Learn how to “Activate your Intellectual Property™” and make them valuable business assets for the growth of your business and to reduce business risk significantly.\n \nKey Learning Objectives\nAt the end of the workshop\, participants will be able to:\n•Understand Intellectual Property and its nature\n•Understand the 5 stages of the Intellectual Property life cycle and its importance\n•Understand the fundamentals of creating\, protecting and maintaining good trade marks\, patents\, designs\, copyright and confidential information\n•Understand the rights that come with Intellectual Property ownership\n•Identify their Intellectual Property\n•Identify the potential risks the to your business\n•Create valuable brands\, inventions\, processes\, methods\, content\, data\, confidential information and product designs\n•Develop business models and innovations that optimise existing Intellectual Property Assets and/or generate revenue from Intellectual Property Assets\n•Develop business models and innovations that significantly reduce business costs and risks\n•Manage valuable Intellectual Property Assets \nEnquiry Form\n\n                 \n \n                        SalutationMr.Miss.Mrs.Mdm.Dr.Prof.Capt.Name\n                            \n                            \n                                                    \n                                                    First\n                                                \n                            \n                            \n                                                    \n                                                    Last\n                                                \n                            \n                        PhoneEmail\n                            \n                        CompanyAdditional Comments:CAPTCHA
URL:https://www.opuskinetic.com/training/strategic-masterclass-on-activate-your-intellectual-property/
LOCATION:Virtual Instructor Led Training (VILT)
CATEGORIES:Corporate, Business Management and HR,Management and Leadership Development
END:VEVENT
END:VCALENDAR