BEGIN:VCALENDAR
VERSION:2.0
PRODID:-//Opus Kinetic - ECPv6.15.12.2//NONSGML v1.0//EN
CALSCALE:GREGORIAN
METHOD:PUBLISH
X-ORIGINAL-URL:https://www.opuskinetic.com
X-WR-CALDESC:Events for Opus Kinetic
REFRESH-INTERVAL;VALUE=DURATION:PT1H
X-Robots-Tag:noindex
X-PUBLISHED-TTL:PT1H
BEGIN:VTIMEZONE
TZID:Asia/Singapore
BEGIN:STANDARD
TZOFFSETFROM:+0800
TZOFFSETTO:+0800
TZNAME:+08
DTSTART:20200101T000000
END:STANDARD
END:VTIMEZONE
BEGIN:VEVENT
DTSTART;VALUE=DATE:20210712
DTEND;VALUE=DATE:20210715
DTSTAMP:20260423T193740
CREATED:20210505T063436Z
LAST-MODIFIED:20260130T045402Z
UID:10001181-1626048000-1626307199@www.opuskinetic.com
SUMMARY:Procurement Certification in Combatting Risk and Fraud
DESCRIPTION:Why Choose this Training Course\nDelegates attending this procurement fraud training will understand how to reduce the risk and cost of fraud to their organisation and how to secure better value from better procurement and better contracting outcomes. Combating procurement fraud is vital. Procurement fraud costs SE Asia US$140billion each year. Nearly all organisations will have been victims of procurement fraud and the consequences can be much greater than the value of the fraud. \n\nFor private sector organisations\, tackling it vigorously can mean boosting profits by several percentage points – making the difference between being a ‘winner’ and ‘loser’ – expanding or contracting.\nFor governments\, tackling procurement fraud effectively can boost its reputation\, thus\, attracting more inward investment\, improving public services and\, with globalisation\, making it a more competitive nation.\n\nSpecific benefits for delegates attending procurement fraud training include: \n\nAn understanding of procurement fraud\, the risks and how their organisation can combat it;\nAn understanding of why organisations often do the wrong thing to combat procurement fraud;\n30 ‘tools’ and checklists that can be applied by their organisation;\nAn exceptional set of slides;\nA template for creating an anti-fraud plan tailored for their organisation.\nAn improved understanding of first class procurement and contracting and hot to achieve it.\n\nSpecific benefits for organisations attending procurement fraud training include: \n\nCash savings through better procurement\nCash savings through combating procurement fraud\nBetter contracting outcomes\nImproved reputation\nImproved competitiveness\n\nWho Should Attend\n\nCompany directors\nSenior and Middle ranking Public Officials\nFinance Directors\nFinance Staff\nAuditors\nOperational Directors and Managers\nOperational Staff\nCommercial Directors\nProcurement Directors\nProcurement Managers and Staff\nPublic Sector Policy Makers\n\nKey Learning Objectives\n\nScale and impact of procurement fraud in SE Asia\, by nation and region\nConsequences and cost of procurement fraud to governments and businesses\nCategories of procurement fraud\, including theft and cyber fraud and which is the most common\nHow procurement fraud is committed\nWhy people commit procurement fraud\nThe industries most susceptible to procurement fraud\nFraud prevention controls\, which are the most effective – and comparing effectiveness with practicality\nProcurement cycle and points of risk\nMinimising fraud in contracting\nBid-rigging indicators\nHow to reduce contractor and sub-contractor fraud\nTackling cartels and monopolies\nHow to reduce cyber fraud\nCreating an anti-fraud culture\nSummary of Singapore government’s procurement legislation\nEthical codes\nTop tips to discourage fraud and corruption\nFirst class procurement\nCombating fraud through creating First Class Procurement: What it is and how can it be achieved\nFraud and investigation\nCharacteristics of fraud perpetrators and behavioural ‘red alerts’\nFinancial ‘red alerts’.\nCreating an anti-fraud plan tailored for your organisation.\n\nEnquiry Form\n\n\n                 \n \n                        SalutationMr.Ms.Miss.Mrs.Mdm.Dr.Prof.Capt.-Name*\n                            \n                            \n                                                    \n                                                    First\n                                                \n                            \n                            \n                                                    \n                                                    Last\n                                                \n                            \n                        Phone*Email*\n                            \n                        Company*Current Location*    \n                    \n                        \n                                        AfghanistanAlbaniaAlgeriaAmerican SamoaAndorraAngolaAnguillaAntarcticaAntigua and BarbudaArgentinaArmeniaArubaAustraliaAustriaAzerbaijanBahamasBahrainBangladeshBarbadosBelarusBelgiumBelizeBeninBermudaBhutanBoliviaBonaire\, Sint Eustatius and SabaBosnia and HerzegovinaBotswanaBouvet IslandBrazilBritish Indian Ocean TerritoryBrunei DarussalamBulgariaBurkina FasoBurundiCambodiaCameroonCanadaCape VerdeCayman IslandsCentral African RepublicChadChileChinaChristmas IslandCocos IslandsColombiaComorosCongoCongo\, Democratic Republic of theCook IslandsCosta RicaCroatiaCubaCuraçaoCyprusCzechiaCôte d'IvoireDenmarkDjiboutiDominicaDominican RepublicEcuadorEgyptEl SalvadorEquatorial GuineaEritreaEstoniaEswatiniEthiopiaFalkland IslandsFaroe IslandsFijiFinlandFranceFrench GuianaFrench PolynesiaFrench Southern TerritoriesGabonGambiaGeorgiaGermanyGhanaGibraltarGreeceGreenlandGrenadaGuadeloupeGuamGuatemalaGuernseyGuineaGuinea-BissauGuyanaHaitiHeard Island and McDonald IslandsHoly SeeHondurasHong KongHungaryIcelandIndiaIndonesiaIranIraqIrelandIsle of ManIsraelItalyJamaicaJapanJerseyJordanKazakhstanKenyaKiribatiKorea\, Democratic People's Republic ofKorea\, Republic ofKuwaitKyrgyzstanLao People's Democratic RepublicLatviaLebanonLesothoLiberiaLibyaLiechtensteinLithuaniaLuxembourgMacaoMadagascarMalawiMalaysiaMaldivesMaliMaltaMarshall IslandsMartiniqueMauritaniaMauritiusMayotteMexicoMicronesiaMoldovaMonacoMongoliaMontenegroMontserratMoroccoMozambiqueMyanmarNamibiaNauruNepalNetherlandsNew CaledoniaNew ZealandNicaraguaNigerNigeriaNiueNorfolk IslandNorth MacedoniaNorthern Mariana IslandsNorwayOmanPakistanPalauPalestine\, State ofPanamaPapua New GuineaParaguayPeruPhilippinesPitcairnPolandPortugalPuerto RicoQatarRomaniaRussian FederationRwandaRéunionSaint BarthélemySaint Helena\, Ascension and Tristan da CunhaSaint Kitts and NevisSaint LuciaSaint MartinSaint Pierre and MiquelonSaint Vincent and the GrenadinesSamoaSan MarinoSao Tome and PrincipeSaudi ArabiaSenegalSerbiaSeychellesSierra LeoneSingaporeSint MaartenSlovakiaSloveniaSolomon IslandsSomaliaSouth AfricaSouth Georgia and the South Sandwich IslandsSouth SudanSpainSri LankaSudanSurinameSvalbard and Jan MayenSwedenSwitzerlandSyria Arab RepublicTaiwanTajikistanTanzania\, the United Republic ofThailandTimor-LesteTogoTokelauTongaTrinidad and TobagoTunisiaTurkmenistanTurks and Caicos IslandsTuvaluTürkiyeUS Minor Outlying IslandsUgandaUkraineUnited Arab EmiratesUnited KingdomUnited StatesUruguayUzbekistanVanuatuVenezuelaViet NamVirgin Islands\, BritishVirgin Islands\, U.S.Wallis and FutunaWestern SaharaYemenZambiaZimbabweÅland Islands\n                                        Country\n                                    \n                    \n                How many people are you looking at?1 - 2 Standard Rates3 - 5 Group Discount>10 In-House Training\, Huge Savings!Undecided\, need more informationThis is just an approximate number. You can finalise it when you send in the registration form.\n								\n								Send me brochure\n							Comments:CAPTCHA
URL:https://www.opuskinetic.com/training/procurement-certification-in-combatting-risk-and-fraud-6/2021-07-12/
LOCATION:Kuala Lumpur\, Singapore
CATEGORIES:Banking and Finance,Corporate, Business Management and HR,Management and Leadership Development,Oil/Gas/Petrochemicals,Procurement
ATTACH;FMTTYPE=image/jpeg:https://www.opuskinetic.com/wp-content/uploads/2021/05/procurement-fi1-scaled.jpg
ORGANIZER;CN="Opus Kinetic Pte Ltd":MAILTO:info@opuskinetic.com
END:VEVENT
BEGIN:VEVENT
DTSTART;VALUE=DATE:20210714
DTEND;VALUE=DATE:20210718
DTSTAMP:20260423T193740
CREATED:20210506T060948Z
LAST-MODIFIED:20220106T021803Z
UID:10001182-1626220800-1626566399@www.opuskinetic.com
SUMMARY:Effective Incident Investigation and Reporting
DESCRIPTION:Why Choose this Training Course\nThis is a 4-day training course. Investigating a worksite incident – a fatality\, injury\, illness\, or close call – provides employers and workers the opportunity to identify hazards in their operations and shortcomings in their safety and health programs. Most importantly\, it enables employers and workers to identify and implement the corrective actions necessary to prevent future incidents.  \nIncident investigations that focus on identifying and correcting root causes\, not on finding fault or blame\, also improve workplace morale and increase productivity\, by demonstrating an employer’s commitment to a safe and healthful workplace. \nThis course provides the delegates with an overview of incident investigation. The motivation for this course is to outline a procedure of incident investigation that is objective and satisfies most regulatory requirements. The aim is to learn the lessons\, determine the root cause of the incident and develop effective measures to avoid such incidents in future.  \nWho Should Attend\n\nO&M (Operations and Maintenance) professionals who are keen to attain a holistic and integrated overview of incident investigation and reporting\nHSE Staff\, Support Functions Professionals\, Administration Managers\, Procurement Managers\, Finance Executives\, Corporate Services Executives\nLabor Union representatives\nERM (Enterprise Risk Management) Professionals\nCorporate Planning Professionals\n\nKey Learning Objectives\nAt the end of this four day program\, participants will be able to: \n\nAchieve a comprehensive overview of incident investigation and reporting\nLearn how to use effective investigation and interviewing techniques to gather complete\, objective and accurate data\nDevelop understanding of how to analyzing incidents to identify root causes\nGet awareness about the human relations aspects of incident reporting\nDetermine which data to include in investigation reports\nDevelop understanding of Hazard control measures and follow-up\n\nEnquiry Form\n\n                 \n \n                        SalutationMr.Ms.Miss.Mrs.Mdm.Dr.Prof.Capt.-Name*\n                            \n                            \n                                                    \n                                                    First\n                                                \n                            \n                            \n                                                    \n                                                    Last\n                                                \n                            \n                        Phone*Email*\n                            \n                        Company*Current Location*    \n                    \n                        \n                                        AfghanistanAlbaniaAlgeriaAmerican SamoaAndorraAngolaAnguillaAntarcticaAntigua and BarbudaArgentinaArmeniaArubaAustraliaAustriaAzerbaijanBahamasBahrainBangladeshBarbadosBelarusBelgiumBelizeBeninBermudaBhutanBoliviaBonaire\, Sint Eustatius and SabaBosnia and HerzegovinaBotswanaBouvet IslandBrazilBritish Indian Ocean TerritoryBrunei DarussalamBulgariaBurkina FasoBurundiCambodiaCameroonCanadaCape VerdeCayman IslandsCentral African RepublicChadChileChinaChristmas IslandCocos IslandsColombiaComorosCongoCongo\, Democratic Republic of theCook IslandsCosta RicaCroatiaCubaCuraçaoCyprusCzechiaCôte d'IvoireDenmarkDjiboutiDominicaDominican RepublicEcuadorEgyptEl SalvadorEquatorial GuineaEritreaEstoniaEswatiniEthiopiaFalkland IslandsFaroe IslandsFijiFinlandFranceFrench GuianaFrench PolynesiaFrench Southern TerritoriesGabonGambiaGeorgiaGermanyGhanaGibraltarGreeceGreenlandGrenadaGuadeloupeGuamGuatemalaGuernseyGuineaGuinea-BissauGuyanaHaitiHeard Island and McDonald IslandsHoly SeeHondurasHong KongHungaryIcelandIndiaIndonesiaIranIraqIrelandIsle of ManIsraelItalyJamaicaJapanJerseyJordanKazakhstanKenyaKiribatiKorea\, Democratic People's Republic ofKorea\, Republic ofKuwaitKyrgyzstanLao People's Democratic RepublicLatviaLebanonLesothoLiberiaLibyaLiechtensteinLithuaniaLuxembourgMacaoMadagascarMalawiMalaysiaMaldivesMaliMaltaMarshall IslandsMartiniqueMauritaniaMauritiusMayotteMexicoMicronesiaMoldovaMonacoMongoliaMontenegroMontserratMoroccoMozambiqueMyanmarNamibiaNauruNepalNetherlandsNew CaledoniaNew ZealandNicaraguaNigerNigeriaNiueNorfolk IslandNorth MacedoniaNorthern Mariana IslandsNorwayOmanPakistanPalauPalestine\, State ofPanamaPapua New GuineaParaguayPeruPhilippinesPitcairnPolandPortugalPuerto RicoQatarRomaniaRussian FederationRwandaRéunionSaint BarthélemySaint Helena\, Ascension and Tristan da CunhaSaint Kitts and NevisSaint LuciaSaint MartinSaint Pierre and MiquelonSaint Vincent and the GrenadinesSamoaSan MarinoSao Tome and PrincipeSaudi ArabiaSenegalSerbiaSeychellesSierra LeoneSingaporeSint MaartenSlovakiaSloveniaSolomon IslandsSomaliaSouth AfricaSouth Georgia and the South Sandwich IslandsSouth SudanSpainSri LankaSudanSurinameSvalbard and Jan MayenSwedenSwitzerlandSyria Arab RepublicTaiwanTajikistanTanzania\, the United Republic ofThailandTimor-LesteTogoTokelauTongaTrinidad and TobagoTunisiaTurkmenistanTurks and Caicos IslandsTuvaluTürkiyeUS Minor Outlying IslandsUgandaUkraineUnited Arab EmiratesUnited KingdomUnited StatesUruguayUzbekistanVanuatuVenezuelaViet NamVirgin Islands\, BritishVirgin Islands\, U.S.Wallis and FutunaWestern SaharaYemenZambiaZimbabweÅland Islands\n                                        Country\n                                    \n                    \n                How many people are you looking at?1 - 2 Standard Rates3 - 5 Group Discount>10 In-House Training\, Huge Savings!Undecided\, need more informationThis is just an approximate number. You can finalise it when you send in the registration form.\n								\n								Send me brochure\n							Comments:CAPTCHA
URL:https://www.opuskinetic.com/training/effective-incident-investigation-and-reporting-7/2021-07-14/
LOCATION:Virtual Instructor Led Training (VILT)
CATEGORIES:HSE and Process Safety,Management and Leadership Development,Oil/Gas/Petrochemicals,Operations
END:VEVENT
END:VCALENDAR