BEGIN:VCALENDAR
VERSION:2.0
PRODID:-//Opus Kinetic - ECPv6.15.12.2//NONSGML v1.0//EN
CALSCALE:GREGORIAN
METHOD:PUBLISH
X-WR-CALNAME:Opus Kinetic
X-ORIGINAL-URL:https://www.opuskinetic.com
X-WR-CALDESC:Events for Opus Kinetic
REFRESH-INTERVAL;VALUE=DURATION:PT1H
X-Robots-Tag:noindex
X-PUBLISHED-TTL:PT1H
BEGIN:VTIMEZONE
TZID:Asia/Singapore
BEGIN:STANDARD
TZOFFSETFROM:+0800
TZOFFSETTO:+0800
TZNAME:+08
DTSTART:20200101T000000
END:STANDARD
END:VTIMEZONE
BEGIN:VEVENT
DTSTART;VALUE=DATE:20211115
DTEND;VALUE=DATE:20211118
DTSTAMP:20260423T142825
CREATED:20210527T040342Z
LAST-MODIFIED:20211125T011658Z
UID:10000798-1636934400-1637193599@www.opuskinetic.com
SUMMARY:Media Crisis Management
DESCRIPTION:About this Training Course\nSaying the wrong thing at the wrong time can cause a company or organisation serious reputation damage\, wipe out stock valuations\, and cost individuals their jobs. Therefore\, communicating messages effectively to the media is an essential part of successfully managing any organisation.\n \nThis two-day seminar is designed for anyone who must act as a spokesperson for an organization during a crisis. It is intended for beginner-intermediate level spokespersons. Participants will learn how to prepare for interviews\, deliver press statements\, and manage questions effectively under pressure. The skills can easily be applied to non-crisis situations\, although the main focus will be on high-pressure scenarios. \nWho Should Attend\nThis two-day seminar is ideal for anyone who must engage the media as a spokesperson. The skills learned can be applied to any spokesperson for any organisation in the public or private sector. \nKey Learning Objectives\n• Assess when and how to engage the media\n• Look at available options (traditional and/or social media)\n• Craft media statements and messages\n• Effectively act as a spokesperson\n• Manage unwanted and/or negative questions \nEnquiry Form\n\n\n                 \n \n                        SalutationMr.Miss.Mrs.Mdm.Dr.Prof.Capt.Name\n                            \n                            \n                                                    \n                                                    First\n                                                \n                            \n                            \n                                                    \n                                                    Last\n                                                \n                            \n                        PhoneEmail\n                            \n                        CompanyAdditional Comments:CAPTCHA
URL:https://www.opuskinetic.com/training/media-crisis-management-16/
LOCATION:Virtual Instructor Led Training (VILT)
CATEGORIES:Management and Leadership Development
END:VEVENT
BEGIN:VEVENT
DTSTART;VALUE=DATE:20211122
DTEND;VALUE=DATE:20211126
DTSTAMP:20260423T142825
CREATED:20211004T041718Z
LAST-MODIFIED:20211020T101059Z
UID:10001220-1637539200-1637884799@www.opuskinetic.com
SUMMARY:ESG Impact & Sustainability Communication
DESCRIPTION:About this Training Course\nThis four-day course reinforces the importance of developing and implementing purposeful communication\, and teaches communication professionals a number of practical ways they can improve the way they communicate their organisation’s social impact and performance. Explore how to communicate with stakeholders more openly and build trusted internal and external relationships. \nWhat to expect: \n\nUnderstand what drives societal value for stakeholders in today’s communication environment\nAlign your communication efforts with ESG outcomes\nDevelop your strategic advisory and listening skills\nBuild measures and develop ROI for your ESG communication efforts\nIncrease your perceived value within the organisation\n\nWho Should Attend\nCommunication professionals working in: \n\nCorporate social responsibility\nGovernment relations\nIssues management\nStrategic communication\,\nCorporate communication Career Level: Foundation\, Generalist/Specialist\, Strategic Advisor\, Business Leader\nInternal communication\nExternal communication\nCorporate affairs\nPublic relations\nThose leading teams\, ESG projects\, or having to influence others about ESG within the organisation.\n\nKey Learning Objectives\nUpon completion of this course you’ll be able to: \n\nBUILD alignment between ESG and communication outcomes\nDEVELOP a clear understanding of what drives ESG value for stakeholders\nKNOW the elements of a strategically focused ESG communication plan\nMOBILISE employee ambassadors\nEXPLORE best practices\, principles\, processes and implementation elements designed to equip you with the knowledge and expertise to deliver business results\n\nEnquiry Form\n\n                 \n \n                        SalutationMr.Ms.Miss.Mrs.Mdm.Dr.Prof.Capt.-Name*\n                            \n                            \n                                                    \n                                                    First\n                                                \n                            \n                            \n                                                    \n                                                    Last\n                                                \n                            \n                        Phone*Email*\n                            \n                        Company*Current Location*    \n                    \n                        \n                                        AfghanistanAlbaniaAlgeriaAmerican SamoaAndorraAngolaAnguillaAntarcticaAntigua and BarbudaArgentinaArmeniaArubaAustraliaAustriaAzerbaijanBahamasBahrainBangladeshBarbadosBelarusBelgiumBelizeBeninBermudaBhutanBoliviaBonaire\, Sint Eustatius and SabaBosnia and HerzegovinaBotswanaBouvet IslandBrazilBritish Indian Ocean TerritoryBrunei DarussalamBulgariaBurkina FasoBurundiCambodiaCameroonCanadaCape VerdeCayman IslandsCentral African RepublicChadChileChinaChristmas IslandCocos IslandsColombiaComorosCongoCongo\, Democratic Republic of theCook IslandsCosta RicaCroatiaCubaCuraçaoCyprusCzechiaCôte d'IvoireDenmarkDjiboutiDominicaDominican RepublicEcuadorEgyptEl SalvadorEquatorial GuineaEritreaEstoniaEswatiniEthiopiaFalkland IslandsFaroe IslandsFijiFinlandFranceFrench GuianaFrench PolynesiaFrench Southern TerritoriesGabonGambiaGeorgiaGermanyGhanaGibraltarGreeceGreenlandGrenadaGuadeloupeGuamGuatemalaGuernseyGuineaGuinea-BissauGuyanaHaitiHeard Island and McDonald IslandsHoly SeeHondurasHong KongHungaryIcelandIndiaIndonesiaIranIraqIrelandIsle of ManIsraelItalyJamaicaJapanJerseyJordanKazakhstanKenyaKiribatiKorea\, Democratic People's Republic ofKorea\, Republic ofKuwaitKyrgyzstanLao People's Democratic RepublicLatviaLebanonLesothoLiberiaLibyaLiechtensteinLithuaniaLuxembourgMacaoMadagascarMalawiMalaysiaMaldivesMaliMaltaMarshall IslandsMartiniqueMauritaniaMauritiusMayotteMexicoMicronesiaMoldovaMonacoMongoliaMontenegroMontserratMoroccoMozambiqueMyanmarNamibiaNauruNepalNetherlandsNew CaledoniaNew ZealandNicaraguaNigerNigeriaNiueNorfolk IslandNorth MacedoniaNorthern Mariana IslandsNorwayOmanPakistanPalauPalestine\, State ofPanamaPapua New GuineaParaguayPeruPhilippinesPitcairnPolandPortugalPuerto RicoQatarRomaniaRussian FederationRwandaRéunionSaint BarthélemySaint Helena\, Ascension and Tristan da CunhaSaint Kitts and NevisSaint LuciaSaint MartinSaint Pierre and MiquelonSaint Vincent and the GrenadinesSamoaSan MarinoSao Tome and PrincipeSaudi ArabiaSenegalSerbiaSeychellesSierra LeoneSingaporeSint MaartenSlovakiaSloveniaSolomon IslandsSomaliaSouth AfricaSouth Georgia and the South Sandwich IslandsSouth SudanSpainSri LankaSudanSurinameSvalbard and Jan MayenSwedenSwitzerlandSyria Arab RepublicTaiwanTajikistanTanzania\, the United Republic ofThailandTimor-LesteTogoTokelauTongaTrinidad and TobagoTunisiaTurkmenistanTurks and Caicos IslandsTuvaluTürkiyeUS Minor Outlying IslandsUgandaUkraineUnited Arab EmiratesUnited KingdomUnited StatesUruguayUzbekistanVanuatuVenezuelaViet NamVirgin Islands\, BritishVirgin Islands\, U.S.Wallis and FutunaWestern SaharaYemenZambiaZimbabweÅland Islands\n                                        Country\n                                    \n                    \n                How many people are you looking at?1 - 2 Standard Rates3 - 5 Group Discount>10 In-House Training\, Huge Savings!Undecided\, need more informationThis is just an approximate number. You can finalise it when you send in the registration form.\n								\n								Send me brochure\n							Comments:CAPTCHA
URL:https://www.opuskinetic.com/training/esg-impact-sustainability-communication/
LOCATION:Virtual Instructor Led Training (VILT)
CATEGORIES:Management and Leadership Development
ATTACH;FMTTYPE=image/jpeg:https://www.opuskinetic.com/wp-content/uploads/2021/10/ESG.jpg
END:VEVENT
END:VCALENDAR