BEGIN:VCALENDAR
VERSION:2.0
PRODID:-//Opus Kinetic - ECPv6.15.12.2//NONSGML v1.0//EN
CALSCALE:GREGORIAN
METHOD:PUBLISH
X-ORIGINAL-URL:https://www.opuskinetic.com
X-WR-CALDESC:Events for Opus Kinetic
REFRESH-INTERVAL;VALUE=DURATION:PT1H
X-Robots-Tag:noindex
X-PUBLISHED-TTL:PT1H
BEGIN:VTIMEZONE
TZID:Asia/Singapore
BEGIN:STANDARD
TZOFFSETFROM:+0800
TZOFFSETTO:+0800
TZNAME:+08
DTSTART:20210101T000000
END:STANDARD
END:VTIMEZONE
BEGIN:VEVENT
DTSTART;VALUE=DATE:20220906
DTEND;VALUE=DATE:20220910
DTSTAMP:20260422T221030
CREATED:20211129T102236Z
LAST-MODIFIED:20221116T113728Z
UID:10001349-1662422400-1662767999@www.opuskinetic.com
SUMMARY:ESG Impact & Sustainability Communication
DESCRIPTION:Why Choose this Training Course\nThis 4-day training course reinforces the importance of developing and implementing purposeful communication\, and teaches communication professionals a number of practical ways they can improve the way they communicate their organisation’s social impact and performance. Explore how to communicate with stakeholders more openly and build trusted internal and external relationships. \nWhat to expect: \n\nUnderstand what drives societal value for stakeholders in today’s communication environment\nAlign your communication efforts with ESG outcomes\nDevelop your strategic advisory and listening skills\nBuild measures and develop ROI for your ESG communication efforts\nIncrease your perceived value within the organisation\n\nWho Should Attend\nCommunication professionals working in: \n\nCorporate social responsibility\nGovernment relations\nIssues management\nStrategic communication\,\nCorporate communication Career Level: Foundation\, Generalist/Specialist\, Strategic Advisor\, Business Leader\nInternal communication\nExternal communication\nCorporate affairs\nPublic relations\nThose leading teams\, ESG projects\, or having to influence others about ESG within the organisation.\n\nKey Learning Objectives\nUpon completion of this course you’ll be able to: \n\nBUILD alignment between ESG and communication outcomes\nDEVELOP a clear understanding of what drives ESG value for stakeholders\nKNOW the elements of a strategically focused ESG communication plan\nMOBILISE employee ambassadors\nEXPLORE best practices\, principles\, processes and implementation elements designed to equip you with the knowledge and expertise to deliver business results\n\nEnquiry Form\n\n\n                 \n \n                        SalutationMr.Ms.Miss.Mrs.Mdm.Dr.Prof.Capt.-Name*\n                            \n                            \n                                                    \n                                                    First\n                                                \n                            \n                            \n                                                    \n                                                    Last\n                                                \n                            \n                        Phone*Email*\n                            \n                        Company*Current Location*    \n                    \n                        \n                                        AfghanistanAlbaniaAlgeriaAmerican SamoaAndorraAngolaAnguillaAntarcticaAntigua and BarbudaArgentinaArmeniaArubaAustraliaAustriaAzerbaijanBahamasBahrainBangladeshBarbadosBelarusBelgiumBelizeBeninBermudaBhutanBoliviaBonaire\, Sint Eustatius and SabaBosnia and HerzegovinaBotswanaBouvet IslandBrazilBritish Indian Ocean TerritoryBrunei DarussalamBulgariaBurkina FasoBurundiCambodiaCameroonCanadaCape VerdeCayman IslandsCentral African RepublicChadChileChinaChristmas IslandCocos IslandsColombiaComorosCongoCongo\, Democratic Republic of theCook IslandsCosta RicaCroatiaCubaCuraçaoCyprusCzechiaCôte d'IvoireDenmarkDjiboutiDominicaDominican RepublicEcuadorEgyptEl SalvadorEquatorial GuineaEritreaEstoniaEswatiniEthiopiaFalkland IslandsFaroe IslandsFijiFinlandFranceFrench GuianaFrench PolynesiaFrench Southern TerritoriesGabonGambiaGeorgiaGermanyGhanaGibraltarGreeceGreenlandGrenadaGuadeloupeGuamGuatemalaGuernseyGuineaGuinea-BissauGuyanaHaitiHeard Island and McDonald IslandsHoly SeeHondurasHong KongHungaryIcelandIndiaIndonesiaIranIraqIrelandIsle of ManIsraelItalyJamaicaJapanJerseyJordanKazakhstanKenyaKiribatiKorea\, Democratic People's Republic ofKorea\, Republic ofKuwaitKyrgyzstanLao People's Democratic RepublicLatviaLebanonLesothoLiberiaLibyaLiechtensteinLithuaniaLuxembourgMacaoMadagascarMalawiMalaysiaMaldivesMaliMaltaMarshall IslandsMartiniqueMauritaniaMauritiusMayotteMexicoMicronesiaMoldovaMonacoMongoliaMontenegroMontserratMoroccoMozambiqueMyanmarNamibiaNauruNepalNetherlandsNew CaledoniaNew ZealandNicaraguaNigerNigeriaNiueNorfolk IslandNorth MacedoniaNorthern Mariana IslandsNorwayOmanPakistanPalauPalestine\, State ofPanamaPapua New GuineaParaguayPeruPhilippinesPitcairnPolandPortugalPuerto RicoQatarRomaniaRussian FederationRwandaRéunionSaint BarthélemySaint Helena\, Ascension and Tristan da CunhaSaint Kitts and NevisSaint LuciaSaint MartinSaint Pierre and MiquelonSaint Vincent and the GrenadinesSamoaSan MarinoSao Tome and PrincipeSaudi ArabiaSenegalSerbiaSeychellesSierra LeoneSingaporeSint MaartenSlovakiaSloveniaSolomon IslandsSomaliaSouth AfricaSouth Georgia and the South Sandwich IslandsSouth SudanSpainSri LankaSudanSurinameSvalbard and Jan MayenSwedenSwitzerlandSyria Arab RepublicTaiwanTajikistanTanzania\, the United Republic ofThailandTimor-LesteTogoTokelauTongaTrinidad and TobagoTunisiaTurkmenistanTurks and Caicos IslandsTuvaluTürkiyeUS Minor Outlying IslandsUgandaUkraineUnited Arab EmiratesUnited KingdomUnited StatesUruguayUzbekistanVanuatuVenezuelaViet NamVirgin Islands\, BritishVirgin Islands\, U.S.Wallis and FutunaWestern SaharaYemenZambiaZimbabweÅland Islands\n                                        Country\n                                    \n                    \n                How many people are you looking at?1 - 2 Standard Rates3 - 5 Group Discount>10 In-House Training\, Huge Savings!Undecided\, need more informationThis is just an approximate number. You can finalise it when you send in the registration form.\n								\n								Send me brochure\n							Comments:CAPTCHA
URL:https://www.opuskinetic.com/training/esg-impact-sustainability-communication-2/2022-09-06/
LOCATION:Virtual Instructor Led Training (VILT)
CATEGORIES:Communications,ESG/Renewable Energy/Clean Energy/Energy Management,Management and Leadership Development
END:VEVENT
BEGIN:VEVENT
DTSTART;VALUE=DATE:20220912
DTEND;VALUE=DATE:20220916
DTSTAMP:20260422T221030
CREATED:20211203T040730Z
LAST-MODIFIED:20220531T051509Z
UID:10001376-1662940800-1663286399@www.opuskinetic.com
SUMMARY:Project Scheduling and Schedule Risk Analysis
DESCRIPTION:Why Choose this Training Course\nThis is a 4-day training course. All projects need to be planned\, and the project Critical Path Method (CPM) schedule is the most powerful asset in the project planner’s toolset to plan the project\, forecast the project’s key dates and manage the resources assigned. Yet from reviewing many project schedules of oil & gas and construction projects in the commercial sector and in government agency projects such as aerospace\, software and construction we see a wide variation in the capability of the schedulers to put together\, and of management to understand the project schedule. \nThis workshop presents the best practices in project scheduling as simply as possible and explains why following them gets the best result. We discuss the key concept of understanding the schedule as a dynamic tool for project management versus a list of dates\, some of which are often imposed on the project from the outside. Still\, projects often overrun their schedules. We may overrun schedules because the schedule is not the idealized perfect schedule but is influenced by forces that lead to an infeasible plan from the beginning. \nA main reason that we overrun project schedules is that risk from many sources tends to make the work take longer than planned or add work not in the baseline schedule. Identifying risks and estimating their probability and impact on the schedule will accomplish two key goals: (1) developing a realistic view of when the project finishes following the current plan\, and (2) identifying the key risk drivers for risk mitigation and hence better project performance. \nOrganizations are increasingly requiring schedule risk analysis in advance of key decision points to make sure they have a realistic view of their project’s timeline. They realize there is something beyond the static CPM schedule. Building on a well-structured schedule\, risk analysis provides a view of the project’s timeline in an uncertain world\, very common in oil and gas projects. We will discuss experience with offshore installations\, refinery and other on-shore facilities and pipelines during this course. \nWho Should Attend\nMDs\, VPs\, Directors\, GMs\, CFOs\, COOs\, Financial Controllers\, Heads and Senior Managers responsible for: \n\nOperations\nProject Audit\nInternal Audit\nRisk Management\nProject Consultancies\nArchitectural Division\nStrategic Procurement\nSite Management\nProject / Project Planning\nProject Control / Cost Control\nProject Management Office (PMO)\nQuality Assurance and Process Improvement\n\nKey Learning Objectives\n\nLEARN what to expect from your Critical Path Method (CPM) schedule\nUNDERSTAND the common errors in project scheduling and how to avoid or fix them\nMASTER the basics of project scheduling and progress to advanced concepts\nIDENTIFY and deal with the common cultural and individual biases in scheduling\nFIND OUT the 10 Best Practices of project scheduling\nDISCOVER the limitations of static CPM scheduling and why believing in the schedule can lead to trouble\nEXAMINE why Schedule Risk Analysis adds to your understanding of the project’s timeline\nKNOW how to identify risks to the project schedule\nANALYZE how the corporate culture makes it difficult to address schedule risk directly\nLEARN what should we tell the customer or other stakeholders about the project’s completion date\nGAIN INSIGHT on how do we estimate an appropriate schedule contingency reserve of time\n\nEnquiry Form\n\n                 \n \n                        SalutationMr.Ms.Miss.Mrs.Mdm.Dr.Prof.Capt.-Name*\n                            \n                            \n                                                    \n                                                    First\n                                                \n                            \n                            \n                                                    \n                                                    Last\n                                                \n                            \n                        Phone*Email*\n                            \n                        Company*Current Location*    \n                    \n                        \n                                        AfghanistanAlbaniaAlgeriaAmerican SamoaAndorraAngolaAnguillaAntarcticaAntigua and BarbudaArgentinaArmeniaArubaAustraliaAustriaAzerbaijanBahamasBahrainBangladeshBarbadosBelarusBelgiumBelizeBeninBermudaBhutanBoliviaBonaire\, Sint Eustatius and SabaBosnia and HerzegovinaBotswanaBouvet IslandBrazilBritish Indian Ocean TerritoryBrunei DarussalamBulgariaBurkina FasoBurundiCambodiaCameroonCanadaCape VerdeCayman IslandsCentral African RepublicChadChileChinaChristmas IslandCocos IslandsColombiaComorosCongoCongo\, Democratic Republic of theCook IslandsCosta RicaCroatiaCubaCuraçaoCyprusCzechiaCôte d'IvoireDenmarkDjiboutiDominicaDominican RepublicEcuadorEgyptEl SalvadorEquatorial GuineaEritreaEstoniaEswatiniEthiopiaFalkland IslandsFaroe IslandsFijiFinlandFranceFrench GuianaFrench PolynesiaFrench Southern TerritoriesGabonGambiaGeorgiaGermanyGhanaGibraltarGreeceGreenlandGrenadaGuadeloupeGuamGuatemalaGuernseyGuineaGuinea-BissauGuyanaHaitiHeard Island and McDonald IslandsHoly SeeHondurasHong KongHungaryIcelandIndiaIndonesiaIranIraqIrelandIsle of ManIsraelItalyJamaicaJapanJerseyJordanKazakhstanKenyaKiribatiKorea\, Democratic People's Republic ofKorea\, Republic ofKuwaitKyrgyzstanLao People's Democratic RepublicLatviaLebanonLesothoLiberiaLibyaLiechtensteinLithuaniaLuxembourgMacaoMadagascarMalawiMalaysiaMaldivesMaliMaltaMarshall IslandsMartiniqueMauritaniaMauritiusMayotteMexicoMicronesiaMoldovaMonacoMongoliaMontenegroMontserratMoroccoMozambiqueMyanmarNamibiaNauruNepalNetherlandsNew CaledoniaNew ZealandNicaraguaNigerNigeriaNiueNorfolk IslandNorth MacedoniaNorthern Mariana IslandsNorwayOmanPakistanPalauPalestine\, State ofPanamaPapua New GuineaParaguayPeruPhilippinesPitcairnPolandPortugalPuerto RicoQatarRomaniaRussian FederationRwandaRéunionSaint BarthélemySaint Helena\, Ascension and Tristan da CunhaSaint Kitts and NevisSaint LuciaSaint MartinSaint Pierre and MiquelonSaint Vincent and the GrenadinesSamoaSan MarinoSao Tome and PrincipeSaudi ArabiaSenegalSerbiaSeychellesSierra LeoneSingaporeSint MaartenSlovakiaSloveniaSolomon IslandsSomaliaSouth AfricaSouth Georgia and the South Sandwich IslandsSouth SudanSpainSri LankaSudanSurinameSvalbard and Jan MayenSwedenSwitzerlandSyria Arab RepublicTaiwanTajikistanTanzania\, the United Republic ofThailandTimor-LesteTogoTokelauTongaTrinidad and TobagoTunisiaTurkmenistanTurks and Caicos IslandsTuvaluTürkiyeUS Minor Outlying IslandsUgandaUkraineUnited Arab EmiratesUnited KingdomUnited StatesUruguayUzbekistanVanuatuVenezuelaViet NamVirgin Islands\, BritishVirgin Islands\, U.S.Wallis and FutunaWestern SaharaYemenZambiaZimbabweÅland Islands\n                                        Country\n                                    \n                    \n                How many people are you looking at?1 - 2 Standard Rates3 - 5 Group Discount>10 In-House Training\, Huge Savings!Undecided\, need more informationThis is just an approximate number. You can finalise it when you send in the registration form.\n								\n								Send me brochure\n							Comments:CAPTCHA
URL:https://www.opuskinetic.com/training/project-scheduling-and-schedule-risk-analysis/2022-09-12/
LOCATION:Virtual Instructor Led Training (VILT)
CATEGORIES:Management and Leadership Development,Project
END:VEVENT
BEGIN:VEVENT
DTSTART;VALUE=DATE:20220927
DTEND;VALUE=DATE:20220930
DTSTAMP:20260422T221030
CREATED:20211124T013729Z
LAST-MODIFIED:20221130T041641Z
UID:10001275-1664236800-1664495999@www.opuskinetic.com
SUMMARY:Women and Leadership
DESCRIPTION:Why Choose this Training Course\nThis is a women leadership training course. The incredible accomplishments of women as leaders\, entrepreneurs\, and professionals are a clear indication that women are transforming the face of business and society. Regional women have penetrated the international business arena\, moving into leadership roles as business owners and heads of major corporations. Women And Leadership is an exciting and highly interactive course that will equip you with advanced management skills. You will learn to adopt innovative approaches to overcome major challenges affecting today’s women professionals. The women leadership training workshop-style sessions will encourage you to evaluate processes\, tools and techniques\, and to use them to make an impact at your workplace. \nThe opportunity to liaise with like-minded individuals in an open and honest workshop environment will prove extremely valuable to you as you prepare for your future career successes. \nYou will complete two psychometrics designed to strengthen your skills in a management role and assess which skills to focus on for your development. \nWhether you are already in a management role\, or aspire to be in one\, this workshop is for you. \nWho Should Attend\n\nHR Manager\nSales Manager\nMarketing Manager\nR & D Manager\nTrainee Managers\nLine Managers\nProduction Manager\nFinancial Manager\nAdministration Manager\nIndividuals making the transition into management roles\nSupervisors\nTeam Leaders\nAssistant Managers\nPlus any executives without formal management training\nWomen\n\nKey Learning Objectives\n\nDEVELOP your own personal leadership style that suits both your personality and your organisational environment\nCOMMUNICATE with greater personal assertiveness and communication capabilities\nSUCCESSFULLY manage the performance of both individuals and teams\nUNDERSTAND and build on the strengths\, weaknesses\, opportunities and threats for women in management\nDEFINE your personal vision and career expectations as a woman in management\n\nEnquiry Form\n\n                 \n \n                        SalutationMr.Ms.Miss.Mrs.Mdm.Dr.Prof.Capt.-Name*\n                            \n                            \n                                                    \n                                                    First\n                                                \n                            \n                            \n                                                    \n                                                    Last\n                                                \n                            \n                        Phone*Email*\n                            \n                        Company*Current Location*    \n                    \n                        \n                                        AfghanistanAlbaniaAlgeriaAmerican SamoaAndorraAngolaAnguillaAntarcticaAntigua and BarbudaArgentinaArmeniaArubaAustraliaAustriaAzerbaijanBahamasBahrainBangladeshBarbadosBelarusBelgiumBelizeBeninBermudaBhutanBoliviaBonaire\, Sint Eustatius and SabaBosnia and HerzegovinaBotswanaBouvet IslandBrazilBritish Indian Ocean TerritoryBrunei DarussalamBulgariaBurkina FasoBurundiCambodiaCameroonCanadaCape VerdeCayman IslandsCentral African RepublicChadChileChinaChristmas IslandCocos IslandsColombiaComorosCongoCongo\, Democratic Republic of theCook IslandsCosta RicaCroatiaCubaCuraçaoCyprusCzechiaCôte d'IvoireDenmarkDjiboutiDominicaDominican RepublicEcuadorEgyptEl SalvadorEquatorial GuineaEritreaEstoniaEswatiniEthiopiaFalkland IslandsFaroe IslandsFijiFinlandFranceFrench GuianaFrench PolynesiaFrench Southern TerritoriesGabonGambiaGeorgiaGermanyGhanaGibraltarGreeceGreenlandGrenadaGuadeloupeGuamGuatemalaGuernseyGuineaGuinea-BissauGuyanaHaitiHeard Island and McDonald IslandsHoly SeeHondurasHong KongHungaryIcelandIndiaIndonesiaIranIraqIrelandIsle of ManIsraelItalyJamaicaJapanJerseyJordanKazakhstanKenyaKiribatiKorea\, Democratic People's Republic ofKorea\, Republic ofKuwaitKyrgyzstanLao People's Democratic RepublicLatviaLebanonLesothoLiberiaLibyaLiechtensteinLithuaniaLuxembourgMacaoMadagascarMalawiMalaysiaMaldivesMaliMaltaMarshall IslandsMartiniqueMauritaniaMauritiusMayotteMexicoMicronesiaMoldovaMonacoMongoliaMontenegroMontserratMoroccoMozambiqueMyanmarNamibiaNauruNepalNetherlandsNew CaledoniaNew ZealandNicaraguaNigerNigeriaNiueNorfolk IslandNorth MacedoniaNorthern Mariana IslandsNorwayOmanPakistanPalauPalestine\, State ofPanamaPapua New GuineaParaguayPeruPhilippinesPitcairnPolandPortugalPuerto RicoQatarRomaniaRussian FederationRwandaRéunionSaint BarthélemySaint Helena\, Ascension and Tristan da CunhaSaint Kitts and NevisSaint LuciaSaint MartinSaint Pierre and MiquelonSaint Vincent and the GrenadinesSamoaSan MarinoSao Tome and PrincipeSaudi ArabiaSenegalSerbiaSeychellesSierra LeoneSingaporeSint MaartenSlovakiaSloveniaSolomon IslandsSomaliaSouth AfricaSouth Georgia and the South Sandwich IslandsSouth SudanSpainSri LankaSudanSurinameSvalbard and Jan MayenSwedenSwitzerlandSyria Arab RepublicTaiwanTajikistanTanzania\, the United Republic ofThailandTimor-LesteTogoTokelauTongaTrinidad and TobagoTunisiaTurkmenistanTurks and Caicos IslandsTuvaluTürkiyeUS Minor Outlying IslandsUgandaUkraineUnited Arab EmiratesUnited KingdomUnited StatesUruguayUzbekistanVanuatuVenezuelaViet NamVirgin Islands\, BritishVirgin Islands\, U.S.Wallis and FutunaWestern SaharaYemenZambiaZimbabweÅland Islands\n                                        Country\n                                    \n                    \n                How many people are you looking at?1 - 2 Standard Rates3 - 5 Group Discount>10 In-House Training\, Huge Savings!Undecided\, need more informationThis is just an approximate number. You can finalise it when you send in the registration form.\n								\n								Send me brochure\n							Comments:CAPTCHA\n          \n            \n            \n            \n            \n            \n            \n            \n            \n            \n            \n            \n            \n            \n        \n                        \n                        \n		                \n		                \n\n 
URL:https://www.opuskinetic.com/training/women-and-leadership/2022-09-27/
LOCATION:Kuala Lumpur\, Federal Territory of Kuala Lumpur\, Kuala Lumpur\, Malaysia
CATEGORIES:Management and Leadership Development
ATTACH;FMTTYPE=image/png:https://www.opuskinetic.com/wp-content/uploads/2021/11/women-and-leadership-FI2.png
ORGANIZER;CN="Opus Kinetic Pte Ltd":MAILTO:info@opuskinetic.com
GEO:3.1384965;101.7099933
END:VEVENT
END:VCALENDAR