BEGIN:VCALENDAR
VERSION:2.0
PRODID:-//Opus Kinetic - ECPv6.15.12.2//NONSGML v1.0//EN
CALSCALE:GREGORIAN
METHOD:PUBLISH
X-WR-CALNAME:Opus Kinetic
X-ORIGINAL-URL:https://www.opuskinetic.com
X-WR-CALDESC:Events for Opus Kinetic
REFRESH-INTERVAL;VALUE=DURATION:PT1H
X-Robots-Tag:noindex
X-PUBLISHED-TTL:PT1H
BEGIN:VTIMEZONE
TZID:Asia/Singapore
BEGIN:STANDARD
TZOFFSETFROM:+0800
TZOFFSETTO:+0800
TZNAME:+08
DTSTART:20210101T000000
END:STANDARD
END:VTIMEZONE
BEGIN:VEVENT
DTSTART;VALUE=DATE:20221205
DTEND;VALUE=DATE:20221208
DTSTAMP:20260422T174124
CREATED:20211124T013729Z
LAST-MODIFIED:20221130T041641Z
UID:10001276-1670198400-1670457599@www.opuskinetic.com
SUMMARY:Women and Leadership
DESCRIPTION:Why Choose this Training Course\nThis is a women leadership training course. The incredible accomplishments of women as leaders\, entrepreneurs\, and professionals are a clear indication that women are transforming the face of business and society. Regional women have penetrated the international business arena\, moving into leadership roles as business owners and heads of major corporations. Women And Leadership is an exciting and highly interactive course that will equip you with advanced management skills. You will learn to adopt innovative approaches to overcome major challenges affecting today’s women professionals. The women leadership training workshop-style sessions will encourage you to evaluate processes\, tools and techniques\, and to use them to make an impact at your workplace. \nThe opportunity to liaise with like-minded individuals in an open and honest workshop environment will prove extremely valuable to you as you prepare for your future career successes. \nYou will complete two psychometrics designed to strengthen your skills in a management role and assess which skills to focus on for your development. \nWhether you are already in a management role\, or aspire to be in one\, this workshop is for you. \nWho Should Attend\n\nHR Manager\nSales Manager\nMarketing Manager\nR & D Manager\nTrainee Managers\nLine Managers\nProduction Manager\nFinancial Manager\nAdministration Manager\nIndividuals making the transition into management roles\nSupervisors\nTeam Leaders\nAssistant Managers\nPlus any executives without formal management training\nWomen\n\nKey Learning Objectives\n\nDEVELOP your own personal leadership style that suits both your personality and your organisational environment\nCOMMUNICATE with greater personal assertiveness and communication capabilities\nSUCCESSFULLY manage the performance of both individuals and teams\nUNDERSTAND and build on the strengths\, weaknesses\, opportunities and threats for women in management\nDEFINE your personal vision and career expectations as a woman in management\n\nEnquiry Form\n\n\n                 \n \n                        SalutationMr.Ms.Miss.Mrs.Mdm.Dr.Prof.Capt.-Name*\n                            \n                            \n                                                    \n                                                    First\n                                                \n                            \n                            \n                                                    \n                                                    Last\n                                                \n                            \n                        Phone*Email*\n                            \n                        Company*Current Location*    \n                    \n                        \n                                        AfghanistanAlbaniaAlgeriaAmerican SamoaAndorraAngolaAnguillaAntarcticaAntigua and BarbudaArgentinaArmeniaArubaAustraliaAustriaAzerbaijanBahamasBahrainBangladeshBarbadosBelarusBelgiumBelizeBeninBermudaBhutanBoliviaBonaire\, Sint Eustatius and SabaBosnia and HerzegovinaBotswanaBouvet IslandBrazilBritish Indian Ocean TerritoryBrunei DarussalamBulgariaBurkina FasoBurundiCambodiaCameroonCanadaCape VerdeCayman IslandsCentral African RepublicChadChileChinaChristmas IslandCocos IslandsColombiaComorosCongoCongo\, Democratic Republic of theCook IslandsCosta RicaCroatiaCubaCuraçaoCyprusCzechiaCôte d'IvoireDenmarkDjiboutiDominicaDominican RepublicEcuadorEgyptEl SalvadorEquatorial GuineaEritreaEstoniaEswatiniEthiopiaFalkland IslandsFaroe IslandsFijiFinlandFranceFrench GuianaFrench PolynesiaFrench Southern TerritoriesGabonGambiaGeorgiaGermanyGhanaGibraltarGreeceGreenlandGrenadaGuadeloupeGuamGuatemalaGuernseyGuineaGuinea-BissauGuyanaHaitiHeard Island and McDonald IslandsHoly SeeHondurasHong KongHungaryIcelandIndiaIndonesiaIranIraqIrelandIsle of ManIsraelItalyJamaicaJapanJerseyJordanKazakhstanKenyaKiribatiKorea\, Democratic People's Republic ofKorea\, Republic ofKuwaitKyrgyzstanLao People's Democratic RepublicLatviaLebanonLesothoLiberiaLibyaLiechtensteinLithuaniaLuxembourgMacaoMadagascarMalawiMalaysiaMaldivesMaliMaltaMarshall IslandsMartiniqueMauritaniaMauritiusMayotteMexicoMicronesiaMoldovaMonacoMongoliaMontenegroMontserratMoroccoMozambiqueMyanmarNamibiaNauruNepalNetherlandsNew CaledoniaNew ZealandNicaraguaNigerNigeriaNiueNorfolk IslandNorth MacedoniaNorthern Mariana IslandsNorwayOmanPakistanPalauPalestine\, State ofPanamaPapua New GuineaParaguayPeruPhilippinesPitcairnPolandPortugalPuerto RicoQatarRomaniaRussian FederationRwandaRéunionSaint BarthélemySaint Helena\, Ascension and Tristan da CunhaSaint Kitts and NevisSaint LuciaSaint MartinSaint Pierre and MiquelonSaint Vincent and the GrenadinesSamoaSan MarinoSao Tome and PrincipeSaudi ArabiaSenegalSerbiaSeychellesSierra LeoneSingaporeSint MaartenSlovakiaSloveniaSolomon IslandsSomaliaSouth AfricaSouth Georgia and the South Sandwich IslandsSouth SudanSpainSri LankaSudanSurinameSvalbard and Jan MayenSwedenSwitzerlandSyria Arab RepublicTaiwanTajikistanTanzania\, the United Republic ofThailandTimor-LesteTogoTokelauTongaTrinidad and TobagoTunisiaTurkmenistanTurks and Caicos IslandsTuvaluTürkiyeUS Minor Outlying IslandsUgandaUkraineUnited Arab EmiratesUnited KingdomUnited StatesUruguayUzbekistanVanuatuVenezuelaViet NamVirgin Islands\, BritishVirgin Islands\, U.S.Wallis and FutunaWestern SaharaYemenZambiaZimbabweÅland Islands\n                                        Country\n                                    \n                    \n                How many people are you looking at?1 - 2 Standard Rates3 - 5 Group Discount>10 In-House Training\, Huge Savings!Undecided\, need more informationThis is just an approximate number. You can finalise it when you send in the registration form.\n								\n								Send me brochure\n							Comments:CAPTCHA\n          \n            \n            \n            \n            \n            \n            \n            \n            \n            \n            \n            \n            \n            \n        \n                        \n                        \n		                \n		                \n\n 
URL:https://www.opuskinetic.com/training/women-and-leadership/2022-12-05/
LOCATION:Kuala Lumpur\, Federal Territory of Kuala Lumpur\, Kuala Lumpur\, Malaysia
CATEGORIES:Management and Leadership Development
ATTACH;FMTTYPE=image/png:https://www.opuskinetic.com/wp-content/uploads/2021/11/women-and-leadership-FI2.png
ORGANIZER;CN="Opus Kinetic Pte Ltd":MAILTO:info@opuskinetic.com
GEO:3.1384965;101.7099933
END:VEVENT
BEGIN:VEVENT
DTSTART;VALUE=DATE:20221205
DTEND;VALUE=DATE:20221210
DTSTAMP:20260422T174124
CREATED:20220524T091336Z
LAST-MODIFIED:20260130T045220Z
UID:10001435-1670198400-1670630399@www.opuskinetic.com
SUMMARY:ACEA Training Course: Advanced Certificate for the Executive Assistant
DESCRIPTION:Why Choose this Training Course\nThe ACEA training course is a Groundbreaking\, Globally Recognised\, Certified Training Program for the modern day Executive Assistant. \nThe Advanced Certificate for the Executive Assistant: ACEA®  is a world-leading intensive and interactive 5-day executive level training programme\, that equips current and aspiring Executive Assistants with the skills and knowledge they need to become true “Business Partners”. \nThe role of the Executive Assistant is on a journey and the responsibilities of this highly demanding and visible role continue to grow exponentially. To succeed in their role in modern times it is now imperative that Executive Assistants have a deep understating of ‘the business’ and their Executives’ role & responsibilities. Organisations are looking for Assistants that possess ‘Executive Level’ business acumen and skills now more than ever. \nUniquely delivered from an Executive led perspective the ACEA training course focuses on delivering a fundamental conceptual understanding of business and organisations as well as practical skills\, including: \n\nStrategic Thinking\nCorporate Visions & Missions\nUnderstanding the linkages between Strategy\, Projects & Operations\nGoverning & Managing Projects\nCommunication Skills\nEmotional Intelligence\nLeadership skills including Influencing\, Negotiation and Conflict Management\nChange Management and Problem Solving\nRisk Management and Corporate Governance\nEthics & Corporate Social Responsibility\nUnderstanding the role of Financial and Management Accounting\,\nDeveloping Productivity and Time Management techniques\,\n… and much more:\n\nOver 2\,500 Executive Assistants have now participated in this globally recognised and ground-breaking ACEA® programme. \n \n\nACEA® is an International Association of Administrative Professionals (IAAP) Approved training course and qualifies for 28 recertification points.\nACEA® is accredited by the CPD Standards Office and qualifies for 30 CPD credits.\nACEA® is certified by Qualifi a recognised UK awarding body.\n\nWho Should Attend\n\nExecutive Assistants\nManagement Assistants\nChiefs of Staff\nOffice Managers\nSenior Assistants\nExecutive Personal Assistants\nExecutive Secretaries\nPersonal Assistants\nPersonal Secretaries\nAdministration Managers\nManagement Secretaries\nExecutive Personal Secretaries\n\nKey Learning Objectives\n\nGain an accredited Certificate approved by Qualifi\, a recognised UK Awarding Body\nBe awarded 30 CPD Credits from the CPD Standards Office www.cpdstandards.com\nGain a broader understanding of business\, increase your business acumen & bring new ideas / skills to your organisation\nGive your Executive greater confidence to delegate more important and critical tasks to you.\nBe able to manage projects more efficiently and assist your Executive in their role as Project Sponsor\nDevelop skills to increase your productivity through enhanced Time Management and Delegation Skills\nJoin & share experiences with EAs from other sectors and nationalities\nStand out with a globally recognised accredited certification\nEnhance the recognition of the role & its responsibilities\nRejuvenate your passion for your career\, take the next step up & progress career\nLearn from world renowned trainers & accomplished business leaders\nUse ACEA® on your business card and on your resume
URL:https://www.opuskinetic.com/training/advanced-certificate-for-the-executive-assistant-acea-training-course-singapore-malaysia/2022-12-05/
LOCATION:Kuala Lumpur\, Federal Territory of Kuala Lumpur\, Kuala Lumpur\, Malaysia
CATEGORIES:Corporate, Business Management and HR,Management and Leadership Development
ATTACH;FMTTYPE=image/jpeg:https://www.opuskinetic.com/wp-content/uploads/2022/05/ACEA-FI.jpg
ORGANIZER;CN="Opus Kinetic Pte Ltd":MAILTO:info@opuskinetic.com
GEO:3.1384965;101.7099933
END:VEVENT
BEGIN:VEVENT
DTSTART;VALUE=DATE:20221212
DTEND;VALUE=DATE:20221216
DTSTAMP:20260422T174124
CREATED:20211203T022759Z
LAST-MODIFIED:20220706T080712Z
UID:10001374-1670803200-1671148799@www.opuskinetic.com
SUMMARY:Developing Leadership Capability & Thinking Strategically
DESCRIPTION:Why Choose this Training Course\nThis is a 4-day training course. Developing exceptional leaders of tomorrow is the key to meeting the demands and expectations in today’s complex business environment. This short course is a delegate centric period of applied and experiential learning. Designed to provide delegates with the core skills required of senior managers charged with the leadership of their business or business unit\, it will directly contribute to your future role as leader within the sector as you will become equipped with a combination of skills that can be put to immediate use to support growth and change in a developing leadership capacity. \nWho Should Attend\nExecutives with high growth potential and aspirations or manager who fully understand that in order to excel in the competitive world of tomorrow a new set of skills\, competencies and behaviours are required. Someone who is driven and wants to make sure that they are their business / business unit are fully equipped and able to capitalise on future opportunities. People who need an intensive\, yet highly engaging and tight provoking short course in which the skill is to enhance your leadership skills and career development are employed. \nKey Learning Objectives\n\nTo be able to understand the core competencies required in order to rise to the challenges of C21 Leadership.\nTo be able to select from a range of highly effective\, proven models to build effective behavioural change and growth and face with confidence the issues of C21 Leadership.\nTo be able to confidently communicate business dream vision and ensure employee engagement in its delivery.\nTo build a personal framework within which to grow personally and professionally.\nTo understand the impacts of tools such as accelerated change\, EQ\, situational leadership motivation and effective goal setting and to be able to apply these to support growth and\ndevelopment of the person\, team\, business unit and organisation.\nTo drive performance and development with accuracy across your team.\n\nEnquiry Form\n\n                 \n \n                        SalutationMr.Ms.Miss.Mrs.Mdm.Dr.Prof.Capt.-Name*\n                            \n                            \n                                                    \n                                                    First\n                                                \n                            \n                            \n                                                    \n                                                    Last\n                                                \n                            \n                        Phone*Email*\n                            \n                        Company*Current Location*    \n                    \n                        \n                                        AfghanistanAlbaniaAlgeriaAmerican SamoaAndorraAngolaAnguillaAntarcticaAntigua and BarbudaArgentinaArmeniaArubaAustraliaAustriaAzerbaijanBahamasBahrainBangladeshBarbadosBelarusBelgiumBelizeBeninBermudaBhutanBoliviaBonaire\, Sint Eustatius and SabaBosnia and HerzegovinaBotswanaBouvet IslandBrazilBritish Indian Ocean TerritoryBrunei DarussalamBulgariaBurkina FasoBurundiCambodiaCameroonCanadaCape VerdeCayman IslandsCentral African RepublicChadChileChinaChristmas IslandCocos IslandsColombiaComorosCongoCongo\, Democratic Republic of theCook IslandsCosta RicaCroatiaCubaCuraçaoCyprusCzechiaCôte d'IvoireDenmarkDjiboutiDominicaDominican RepublicEcuadorEgyptEl SalvadorEquatorial GuineaEritreaEstoniaEswatiniEthiopiaFalkland IslandsFaroe IslandsFijiFinlandFranceFrench GuianaFrench PolynesiaFrench Southern TerritoriesGabonGambiaGeorgiaGermanyGhanaGibraltarGreeceGreenlandGrenadaGuadeloupeGuamGuatemalaGuernseyGuineaGuinea-BissauGuyanaHaitiHeard Island and McDonald IslandsHoly SeeHondurasHong KongHungaryIcelandIndiaIndonesiaIranIraqIrelandIsle of ManIsraelItalyJamaicaJapanJerseyJordanKazakhstanKenyaKiribatiKorea\, Democratic People's Republic ofKorea\, Republic ofKuwaitKyrgyzstanLao People's Democratic RepublicLatviaLebanonLesothoLiberiaLibyaLiechtensteinLithuaniaLuxembourgMacaoMadagascarMalawiMalaysiaMaldivesMaliMaltaMarshall IslandsMartiniqueMauritaniaMauritiusMayotteMexicoMicronesiaMoldovaMonacoMongoliaMontenegroMontserratMoroccoMozambiqueMyanmarNamibiaNauruNepalNetherlandsNew CaledoniaNew ZealandNicaraguaNigerNigeriaNiueNorfolk IslandNorth MacedoniaNorthern Mariana IslandsNorwayOmanPakistanPalauPalestine\, State ofPanamaPapua New GuineaParaguayPeruPhilippinesPitcairnPolandPortugalPuerto RicoQatarRomaniaRussian FederationRwandaRéunionSaint BarthélemySaint Helena\, Ascension and Tristan da CunhaSaint Kitts and NevisSaint LuciaSaint MartinSaint Pierre and MiquelonSaint Vincent and the GrenadinesSamoaSan MarinoSao Tome and PrincipeSaudi ArabiaSenegalSerbiaSeychellesSierra LeoneSingaporeSint MaartenSlovakiaSloveniaSolomon IslandsSomaliaSouth AfricaSouth Georgia and the South Sandwich IslandsSouth SudanSpainSri LankaSudanSurinameSvalbard and Jan MayenSwedenSwitzerlandSyria Arab RepublicTaiwanTajikistanTanzania\, the United Republic ofThailandTimor-LesteTogoTokelauTongaTrinidad and TobagoTunisiaTurkmenistanTurks and Caicos IslandsTuvaluTürkiyeUS Minor Outlying IslandsUgandaUkraineUnited Arab EmiratesUnited KingdomUnited StatesUruguayUzbekistanVanuatuVenezuelaViet NamVirgin Islands\, BritishVirgin Islands\, U.S.Wallis and FutunaWestern SaharaYemenZambiaZimbabweÅland Islands\n                                        Country\n                                    \n                    \n                How many people are you looking at?1 - 2 Standard Rates3 - 5 Group Discount>10 In-House Training\, Huge Savings!Undecided\, need more informationThis is just an approximate number. You can finalise it when you send in the registration form.\n								\n								Send me brochure\n							Comments:CAPTCHA
URL:https://www.opuskinetic.com/training/developing-leadership-capability-thinking-strategically-5/2022-12-12/
LOCATION:Virtual Instructor Led Training (VILT)
CATEGORIES:Corporate, Business Management and HR,Management and Leadership Development,Project
END:VEVENT
BEGIN:VEVENT
DTSTART;VALUE=DATE:20221213
DTEND;VALUE=DATE:20221218
DTSTAMP:20260422T174124
CREATED:20211215T030758Z
LAST-MODIFIED:20260223T071339Z
UID:10001392-1670889600-1671321540@www.opuskinetic.com
SUMMARY:Talent Management\, Attraction and Retention Masterclass
DESCRIPTION:Why Choose this Training Course\nAn important point to know is that the shape of an organization’s talent management program hinges on how the term talent is understood and how that definition aligns with the strategic goals of the business. It can also have different meanings in other national cultures. Attracting\, developing\, retaining\, deploying and engaging talent fall under the general umbrella of talent management\, but the term talent management may also have other meanings. This talent management training will explore how to set up and administer an innovative talent management program that goes beyond best practice. \nWho Should Attend\n\nExecutive and Senior Managers\nBusiness Owners and Managers\nHuman Resource Directors\nChief HR/People Officers\nHR Business Partners\nTalent Management Practitioners and Professionals\n\nKey Learning Objectives\n\nDefine talent\nIndicate how different definitions of talent may lead to different talent management programs\nDescribe how to attract and acquire talented people\nSummarize how to develop talented people\nReview ways to engage talented people\nList how to retain talented people\nDescribe alternatives ways to get work done that go beyond attracting or promoting people\nDiscuss innovative ways to attract\, develop and retain talent at a time of the “Great Resignation” and the “Lying Flat” movement\n\nEnquiry Form\n\n                 \n \n                        SalutationMr.Ms.Miss.Mrs.Mdm.Dr.Prof.Capt.-Name*\n                            \n                            \n                                                    \n                                                    First\n                                                \n                            \n                            \n                                                    \n                                                    Last\n                                                \n                            \n                        Phone*Email*\n                            \n                        Company*Current Location*    \n                    \n                        \n                                        AfghanistanAlbaniaAlgeriaAmerican SamoaAndorraAngolaAnguillaAntarcticaAntigua and BarbudaArgentinaArmeniaArubaAustraliaAustriaAzerbaijanBahamasBahrainBangladeshBarbadosBelarusBelgiumBelizeBeninBermudaBhutanBoliviaBonaire\, Sint Eustatius and SabaBosnia and HerzegovinaBotswanaBouvet IslandBrazilBritish Indian Ocean TerritoryBrunei DarussalamBulgariaBurkina FasoBurundiCambodiaCameroonCanadaCape VerdeCayman IslandsCentral African RepublicChadChileChinaChristmas IslandCocos IslandsColombiaComorosCongoCongo\, Democratic Republic of theCook IslandsCosta RicaCroatiaCubaCuraçaoCyprusCzechiaCôte d'IvoireDenmarkDjiboutiDominicaDominican RepublicEcuadorEgyptEl SalvadorEquatorial GuineaEritreaEstoniaEswatiniEthiopiaFalkland IslandsFaroe IslandsFijiFinlandFranceFrench GuianaFrench PolynesiaFrench Southern TerritoriesGabonGambiaGeorgiaGermanyGhanaGibraltarGreeceGreenlandGrenadaGuadeloupeGuamGuatemalaGuernseyGuineaGuinea-BissauGuyanaHaitiHeard Island and McDonald IslandsHoly SeeHondurasHong KongHungaryIcelandIndiaIndonesiaIranIraqIrelandIsle of ManIsraelItalyJamaicaJapanJerseyJordanKazakhstanKenyaKiribatiKorea\, Democratic People's Republic ofKorea\, Republic ofKuwaitKyrgyzstanLao People's Democratic RepublicLatviaLebanonLesothoLiberiaLibyaLiechtensteinLithuaniaLuxembourgMacaoMadagascarMalawiMalaysiaMaldivesMaliMaltaMarshall IslandsMartiniqueMauritaniaMauritiusMayotteMexicoMicronesiaMoldovaMonacoMongoliaMontenegroMontserratMoroccoMozambiqueMyanmarNamibiaNauruNepalNetherlandsNew CaledoniaNew ZealandNicaraguaNigerNigeriaNiueNorfolk IslandNorth MacedoniaNorthern Mariana IslandsNorwayOmanPakistanPalauPalestine\, State ofPanamaPapua New GuineaParaguayPeruPhilippinesPitcairnPolandPortugalPuerto RicoQatarRomaniaRussian FederationRwandaRéunionSaint BarthélemySaint Helena\, Ascension and Tristan da CunhaSaint Kitts and NevisSaint LuciaSaint MartinSaint Pierre and MiquelonSaint Vincent and the GrenadinesSamoaSan MarinoSao Tome and PrincipeSaudi ArabiaSenegalSerbiaSeychellesSierra LeoneSingaporeSint MaartenSlovakiaSloveniaSolomon IslandsSomaliaSouth AfricaSouth Georgia and the South Sandwich IslandsSouth SudanSpainSri LankaSudanSurinameSvalbard and Jan MayenSwedenSwitzerlandSyria Arab RepublicTaiwanTajikistanTanzania\, the United Republic ofThailandTimor-LesteTogoTokelauTongaTrinidad and TobagoTunisiaTurkmenistanTurks and Caicos IslandsTuvaluTürkiyeUS Minor Outlying IslandsUgandaUkraineUnited Arab EmiratesUnited KingdomUnited StatesUruguayUzbekistanVanuatuVenezuelaViet NamVirgin Islands\, BritishVirgin Islands\, U.S.Wallis and FutunaWestern SaharaYemenZambiaZimbabweÅland Islands\n                                        Country\n                                    \n                    \n                How many people are you looking at?1 - 2 Standard Rates3 - 5 Group Discount>10 In-House Training\, Huge Savings!Undecided\, need more informationThis is just an approximate number. You can finalise it when you send in the registration form.\n								\n								Send me brochure\n							Comments:CAPTCHA
URL:https://www.opuskinetic.com/training/talent-management-attraction-and-retention-masterclass/2022-12-13/
LOCATION:Virtual Instructor Led Training (VILT)
CATEGORIES:Management and Leadership Development
ATTACH;FMTTYPE=image/png:https://www.opuskinetic.com/wp-content/uploads/2021/12/employee-FI1.png
ORGANIZER;CN="Opus Kinetic Pte Ltd":MAILTO:info@opuskinetic.com
END:VEVENT
END:VCALENDAR