BEGIN:VCALENDAR
VERSION:2.0
PRODID:-//Opus Kinetic - ECPv6.15.12.2//NONSGML v1.0//EN
CALSCALE:GREGORIAN
METHOD:PUBLISH
X-WR-CALNAME:Opus Kinetic
X-ORIGINAL-URL:https://www.opuskinetic.com
X-WR-CALDESC:Events for Opus Kinetic
REFRESH-INTERVAL;VALUE=DURATION:PT1H
X-Robots-Tag:noindex
X-PUBLISHED-TTL:PT1H
BEGIN:VTIMEZONE
TZID:Asia/Singapore
BEGIN:STANDARD
TZOFFSETFROM:+0800
TZOFFSETTO:+0800
TZNAME:+08
DTSTART:20240101T000000
END:STANDARD
END:VTIMEZONE
BEGIN:VEVENT
DTSTART;VALUE=DATE:20250917
DTEND;VALUE=DATE:20250920
DTSTAMP:20260420T151242
CREATED:20220622T110056Z
LAST-MODIFIED:20250203T044841Z
UID:10002016-1758096000-1758301200@www.opuskinetic.com
SUMMARY:Coiled Tubing Operations
DESCRIPTION:Why Choose this Training Course\nThis coiled tubing training course is designed to introduce an overview of the coiled tubing operations concept and its applications in oil fields. It introduces variety of the coiled tubing technologies with special attention to the unit as surface equipment and downhole tools. The course also covers the main components\, application envelope and coiled tubing special applications as well as the contingency plan for all possible situations which could be encountered throughout various operations. Moreover\, the course provides better understanding\, enhance knowledge and strengthen the decision-making capability of the participants about all types of wellbore treatments implemented to recover or enhance the well performance throughout presentations\, case studies\, group discussions and exercise as well as practical videos of actual cases. \nWho Should Attend\n\nProduction Engineers\nField Operations Engineers\nDrilling Engineers\nReservoir Engineers\nPetroleum Engineers\nCoiled tubing Supervisors/Operators\nOperations Engineers/Supervisors\nField Service Engineers\n\nKey Learning Objectives\n\nUnderstand the fundamentals & concept of the coiled tubing unit\nIncrease awareness and knowledge of the coiled tubing operations and factors affecting its performance.\nAcquire necessary knowledge of the coiled tubing operational techniques\, technologies and equipment.\nUnderstand alternate deployment scenarios and multisensory applications for surveillance and optimization.\nPossess the basic skills required to select and implement various coiled tubing techniques as per operational requirements.\nBe able to handle various coiled tubing emergency situations\, plan its operations\, monitor and analyze its performance\nLearn strategies and best practices for coiled tubing operations optimization\nUnderstand the geological and basic reservoir properties\nUnderstand the formation damage concept and mechanism\nUnderstand the effect of formation damage on revenue of the operator\nUnderstand the impact of skin damage effect on productivity for both vertical and horizontal wells.\nGain knowledge about various types of wellbore treatments to remove formation damage.\nAcquire knowledge on how to select the best fluid (less damaging) at every phase of the well development: drilling\, completion\, cementing\, perforating\, stimulation\, gravel packing\, workover\, production and injection operations\n\nEnquiry Form\n\n\n                 \n \n                        SalutationMr.Ms.Miss.Mrs.Mdm.Dr.Prof.Capt.-Name*\n                            \n                            \n                                                    \n                                                    First\n                                                \n                            \n                            \n                                                    \n                                                    Last\n                                                \n                            \n                        Phone*Email*\n                            \n                        Company*Current Location*    \n                    \n                        \n                                        AfghanistanAlbaniaAlgeriaAmerican SamoaAndorraAngolaAnguillaAntarcticaAntigua and BarbudaArgentinaArmeniaArubaAustraliaAustriaAzerbaijanBahamasBahrainBangladeshBarbadosBelarusBelgiumBelizeBeninBermudaBhutanBoliviaBonaire\, Sint Eustatius and SabaBosnia and HerzegovinaBotswanaBouvet IslandBrazilBritish Indian Ocean TerritoryBrunei DarussalamBulgariaBurkina FasoBurundiCambodiaCameroonCanadaCape VerdeCayman IslandsCentral African RepublicChadChileChinaChristmas IslandCocos IslandsColombiaComorosCongoCongo\, Democratic Republic of theCook IslandsCosta RicaCroatiaCubaCuraçaoCyprusCzechiaCôte d'IvoireDenmarkDjiboutiDominicaDominican RepublicEcuadorEgyptEl SalvadorEquatorial GuineaEritreaEstoniaEswatiniEthiopiaFalkland IslandsFaroe IslandsFijiFinlandFranceFrench GuianaFrench PolynesiaFrench Southern TerritoriesGabonGambiaGeorgiaGermanyGhanaGibraltarGreeceGreenlandGrenadaGuadeloupeGuamGuatemalaGuernseyGuineaGuinea-BissauGuyanaHaitiHeard Island and McDonald IslandsHoly SeeHondurasHong KongHungaryIcelandIndiaIndonesiaIranIraqIrelandIsle of ManIsraelItalyJamaicaJapanJerseyJordanKazakhstanKenyaKiribatiKorea\, Democratic People's Republic ofKorea\, Republic ofKuwaitKyrgyzstanLao People's Democratic RepublicLatviaLebanonLesothoLiberiaLibyaLiechtensteinLithuaniaLuxembourgMacaoMadagascarMalawiMalaysiaMaldivesMaliMaltaMarshall IslandsMartiniqueMauritaniaMauritiusMayotteMexicoMicronesiaMoldovaMonacoMongoliaMontenegroMontserratMoroccoMozambiqueMyanmarNamibiaNauruNepalNetherlandsNew CaledoniaNew ZealandNicaraguaNigerNigeriaNiueNorfolk IslandNorth MacedoniaNorthern Mariana IslandsNorwayOmanPakistanPalauPalestine\, State ofPanamaPapua New GuineaParaguayPeruPhilippinesPitcairnPolandPortugalPuerto RicoQatarRomaniaRussian FederationRwandaRéunionSaint BarthélemySaint Helena\, Ascension and Tristan da CunhaSaint Kitts and NevisSaint LuciaSaint MartinSaint Pierre and MiquelonSaint Vincent and the GrenadinesSamoaSan MarinoSao Tome and PrincipeSaudi ArabiaSenegalSerbiaSeychellesSierra LeoneSingaporeSint MaartenSlovakiaSloveniaSolomon IslandsSomaliaSouth AfricaSouth Georgia and the South Sandwich IslandsSouth SudanSpainSri LankaSudanSurinameSvalbard and Jan MayenSwedenSwitzerlandSyria Arab RepublicTaiwanTajikistanTanzania\, the United Republic ofThailandTimor-LesteTogoTokelauTongaTrinidad and TobagoTunisiaTurkmenistanTurks and Caicos IslandsTuvaluTürkiyeUS Minor Outlying IslandsUgandaUkraineUnited Arab EmiratesUnited KingdomUnited StatesUruguayUzbekistanVanuatuVenezuelaViet NamVirgin Islands\, BritishVirgin Islands\, U.S.Wallis and FutunaWestern SaharaYemenZambiaZimbabweÅland Islands\n                                        Country\n                                    \n                    \n                How many people are you looking at?1 - 2 Standard Rates3 - 5 Group Discount>10 In-House Training\, Huge Savings!Undecided\, need more informationThis is just an approximate number. You can finalise it when you send in the registration form.\n								\n								Send me brochure\n							Comments:CAPTCHA
URL:https://www.opuskinetic.com/training/coiled-tubing-training/2025-09-17/
LOCATION:Kuala Lumpur\, Federal Territory of Kuala Lumpur\, Kuala Lumpur\, Malaysia
CATEGORIES:Drilling,Oil/Gas/Petrochemicals,Operations,Production
ATTACH;FMTTYPE=image/jpeg:https://www.opuskinetic.com/wp-content/uploads/2022/06/coiledtubing-FI.jpg
ORGANIZER;CN="Opus Kinetic Pte Ltd":MAILTO:info@opuskinetic.com
GEO:3.1384965;101.7099933
END:VEVENT
BEGIN:VEVENT
DTSTART;VALUE=DATE:20250917
DTEND;VALUE=DATE:20250920
DTSTAMP:20260420T151242
CREATED:20211124T032003Z
LAST-MODIFIED:20260130T045438Z
UID:10002017-1758099600-1758301200@www.opuskinetic.com
SUMMARY:Introduction to Drilling and Completion and Well Intervention (DCWI)
DESCRIPTION:Why Choose this Training Course\nThis is a drilling completion training course. The drilling and CWI discipline is a very specialized field\, with a lot of unique and dedicated equipment. The technology is difficult to understand as it happens underground and can only be imagined. For young\, new and/or staff from support departments there is a lot value added to have an introduction to and get better background understanding of the technologies. \nWho Should Attend\nPersonnel directly responsible and or involved in Drilling and Intervention operations or about to be involved after having completed pre-study can attend this drilling completion training. Similarly for personnel in support function for the drilling and intervention operations\, like HSE\, Finance\, Production of HR staff. \nKey Learning Objectives\n\nUnderstanding the drilling process\, its risks\, difficulties and terminology\nUnderstanding the Well Intervention process\, why it needs to be performed\, risk\, terminology\, difficulties and effects on Unit Technical Cost\nUnderstand the drilling process\nUnderstand the terminology used\, names of material and equipment\nUnderstand the need and requirement of WRM\, cost of regrets\, economics of intervention\nUnderstand the terminology used\, names of material and equipment\nDiscuss well design and construction to create a “integer” well with lowest Unit Technical Cost\nDevelop sufficient understanding of the full selection process of a well\, the design\, complication during construction\nDevelop the need for Well and Reservoir Maintenance (WRM) in design and execution\nAppreciate the planning and execution of drilling wells and well interventions\n\nEnquiry Form\n\n                 \n \n                        SalutationMr.Ms.Miss.Mrs.Mdm.Dr.Prof.Capt.-Name*\n                            \n                            \n                                                    \n                                                    First\n                                                \n                            \n                            \n                                                    \n                                                    Last\n                                                \n                            \n                        Phone*Email*\n                            \n                        Company*Current Location*    \n                    \n                        \n                                        AfghanistanAlbaniaAlgeriaAmerican SamoaAndorraAngolaAnguillaAntarcticaAntigua and BarbudaArgentinaArmeniaArubaAustraliaAustriaAzerbaijanBahamasBahrainBangladeshBarbadosBelarusBelgiumBelizeBeninBermudaBhutanBoliviaBonaire\, Sint Eustatius and SabaBosnia and HerzegovinaBotswanaBouvet IslandBrazilBritish Indian Ocean TerritoryBrunei DarussalamBulgariaBurkina FasoBurundiCambodiaCameroonCanadaCape VerdeCayman IslandsCentral African RepublicChadChileChinaChristmas IslandCocos IslandsColombiaComorosCongoCongo\, Democratic Republic of theCook IslandsCosta RicaCroatiaCubaCuraçaoCyprusCzechiaCôte d'IvoireDenmarkDjiboutiDominicaDominican RepublicEcuadorEgyptEl SalvadorEquatorial GuineaEritreaEstoniaEswatiniEthiopiaFalkland IslandsFaroe IslandsFijiFinlandFranceFrench GuianaFrench PolynesiaFrench Southern TerritoriesGabonGambiaGeorgiaGermanyGhanaGibraltarGreeceGreenlandGrenadaGuadeloupeGuamGuatemalaGuernseyGuineaGuinea-BissauGuyanaHaitiHeard Island and McDonald IslandsHoly SeeHondurasHong KongHungaryIcelandIndiaIndonesiaIranIraqIrelandIsle of ManIsraelItalyJamaicaJapanJerseyJordanKazakhstanKenyaKiribatiKorea\, Democratic People's Republic ofKorea\, Republic ofKuwaitKyrgyzstanLao People's Democratic RepublicLatviaLebanonLesothoLiberiaLibyaLiechtensteinLithuaniaLuxembourgMacaoMadagascarMalawiMalaysiaMaldivesMaliMaltaMarshall IslandsMartiniqueMauritaniaMauritiusMayotteMexicoMicronesiaMoldovaMonacoMongoliaMontenegroMontserratMoroccoMozambiqueMyanmarNamibiaNauruNepalNetherlandsNew CaledoniaNew ZealandNicaraguaNigerNigeriaNiueNorfolk IslandNorth MacedoniaNorthern Mariana IslandsNorwayOmanPakistanPalauPalestine\, State ofPanamaPapua New GuineaParaguayPeruPhilippinesPitcairnPolandPortugalPuerto RicoQatarRomaniaRussian FederationRwandaRéunionSaint BarthélemySaint Helena\, Ascension and Tristan da CunhaSaint Kitts and NevisSaint LuciaSaint MartinSaint Pierre and MiquelonSaint Vincent and the GrenadinesSamoaSan MarinoSao Tome and PrincipeSaudi ArabiaSenegalSerbiaSeychellesSierra LeoneSingaporeSint MaartenSlovakiaSloveniaSolomon IslandsSomaliaSouth AfricaSouth Georgia and the South Sandwich IslandsSouth SudanSpainSri LankaSudanSurinameSvalbard and Jan MayenSwedenSwitzerlandSyria Arab RepublicTaiwanTajikistanTanzania\, the United Republic ofThailandTimor-LesteTogoTokelauTongaTrinidad and TobagoTunisiaTurkmenistanTurks and Caicos IslandsTuvaluTürkiyeUS Minor Outlying IslandsUgandaUkraineUnited Arab EmiratesUnited KingdomUnited StatesUruguayUzbekistanVanuatuVenezuelaViet NamVirgin Islands\, BritishVirgin Islands\, U.S.Wallis and FutunaWestern SaharaYemenZambiaZimbabweÅland Islands\n                                        Country\n                                    \n                    \n                How many people are you looking at?1 - 2 Standard Rates3 - 5 Group Discount>10 In-House Training\, Huge Savings!Undecided\, need more informationThis is just an approximate number. You can finalise it when you send in the registration form.\n								\n								Send me brochure\n							Comments:CAPTCHA
URL:https://www.opuskinetic.com/training/introduction-to-drilling-and-completion-and-well-intervention-cwi-3/2025-09-17/
LOCATION:Kuala Lumpur\, Federal Territory of Kuala Lumpur\, Kuala Lumpur\, Malaysia
CATEGORIES:Drilling,Oil/Gas/Petrochemicals,Operations,Well Engineering
ATTACH;FMTTYPE=image/jpeg:https://www.opuskinetic.com/wp-content/uploads/2019/07/oil-rig-sea-well.jpg
ORGANIZER;CN="Opus Kinetic Pte Ltd":MAILTO:info@opuskinetic.com
GEO:3.1384965;101.7099933
END:VEVENT
BEGIN:VEVENT
DTSTART;VALUE=DATE:20250922
DTEND;VALUE=DATE:20250926
DTSTAMP:20260420T151242
CREATED:20250630T013406Z
LAST-MODIFIED:20250630T013652Z
UID:10002161-1758499200-1758844799@www.opuskinetic.com
SUMMARY:Managing Subsurface Pressures for Oil & Gas and Carbon Storage
DESCRIPTION:Why Choose this Training Course\nThis subsurface pressures carbon storage training offers a comprehensive overview of well planning and the strategic use of subsurface pressure data throughout the entire lifecycle of oilfields and carbon capture projects. Participants will be introduced to the fundamentals of well planning\, pore pressure prediction\, and the influence of geopressure on the petroleum cycle. \nThe curriculum emphasizes the importance of integrating geological data with pressure analysis to achieve optimal results. It also covers critical topics relevant to CCUS\, including assessing storage capacity in deep saline aquifers and depleted oil and gas fields. By understanding how pressure\, temperature\, and trapping criteria influence carbon storage\, professionals will gain the skills needed to manage carbon capture projects safely and efficiently. \nThis subsurface pressures carbon storage course equips professionals to improve well planning\, pore pressure prediction\, and overpressure mapping for better decisions and efficiency. It also supports CCUS projects by offering insights into safe carbon storage\, helping companies meet sustainability goals and maximize project value. \nWho Should Attend\nGeoscientists\, petroleum engineers\, well planners\, and drilling engineers involved in exploration\, drilling\, and reservoir management. \nIt is also relevant for CCUS professionals working on carbon storage projects\, reservoir and production engineers focused on performance optimization\, and basin modelers integrating pressure data. \nAsset managers and decision-makers seeking to understand the impact of pressure data on oilfield development and carbon capture will also benefit. \nKey Learning Objectives\n\nIdentify the key components of well planning\, including pressure-depth plots\, overburden\, and fracture pressures\nDescribe overpressure generating mechanisms and the relationship between shale and reservoir pressures\nApply tools such as drilling data\, logs\, seismic velocities\, and basin models for pore pressure prediction\nExplain the influence of geopressure on hydraulic seal failure\, fault seal integrity\, and reservoir quality\nInterpret overpressure mapping and hydrodynamics in relation to fill/spill dynamics and volumetrics\nSummarize the key factors affecting carbon storage capacity\, including trapping criteria and pressure/temperature conditions in deep saline aquifers and depleted reservoirs\n\nEnquiry Form\n\n                 \n \n                        SalutationMr.Ms.Miss.Mrs.Mdm.Dr.Prof.Capt.-Name*\n                            \n                            \n                                                    \n                                                    First\n                                                \n                            \n                            \n                                                    \n                                                    Last\n                                                \n                            \n                        Phone*Email*\n                            \n                        Company*Current Location*    \n                    \n                        \n                                        AfghanistanAlbaniaAlgeriaAmerican SamoaAndorraAngolaAnguillaAntarcticaAntigua and BarbudaArgentinaArmeniaArubaAustraliaAustriaAzerbaijanBahamasBahrainBangladeshBarbadosBelarusBelgiumBelizeBeninBermudaBhutanBoliviaBonaire\, Sint Eustatius and SabaBosnia and HerzegovinaBotswanaBouvet IslandBrazilBritish Indian Ocean TerritoryBrunei DarussalamBulgariaBurkina FasoBurundiCambodiaCameroonCanadaCape VerdeCayman IslandsCentral African RepublicChadChileChinaChristmas IslandCocos IslandsColombiaComorosCongoCongo\, Democratic Republic of theCook IslandsCosta RicaCroatiaCubaCuraçaoCyprusCzechiaCôte d'IvoireDenmarkDjiboutiDominicaDominican RepublicEcuadorEgyptEl SalvadorEquatorial GuineaEritreaEstoniaEswatiniEthiopiaFalkland IslandsFaroe IslandsFijiFinlandFranceFrench GuianaFrench PolynesiaFrench Southern TerritoriesGabonGambiaGeorgiaGermanyGhanaGibraltarGreeceGreenlandGrenadaGuadeloupeGuamGuatemalaGuernseyGuineaGuinea-BissauGuyanaHaitiHeard Island and McDonald IslandsHoly SeeHondurasHong KongHungaryIcelandIndiaIndonesiaIranIraqIrelandIsle of ManIsraelItalyJamaicaJapanJerseyJordanKazakhstanKenyaKiribatiKorea\, Democratic People's Republic ofKorea\, Republic ofKuwaitKyrgyzstanLao People's Democratic RepublicLatviaLebanonLesothoLiberiaLibyaLiechtensteinLithuaniaLuxembourgMacaoMadagascarMalawiMalaysiaMaldivesMaliMaltaMarshall IslandsMartiniqueMauritaniaMauritiusMayotteMexicoMicronesiaMoldovaMonacoMongoliaMontenegroMontserratMoroccoMozambiqueMyanmarNamibiaNauruNepalNetherlandsNew CaledoniaNew ZealandNicaraguaNigerNigeriaNiueNorfolk IslandNorth MacedoniaNorthern Mariana IslandsNorwayOmanPakistanPalauPalestine\, State ofPanamaPapua New GuineaParaguayPeruPhilippinesPitcairnPolandPortugalPuerto RicoQatarRomaniaRussian FederationRwandaRéunionSaint BarthélemySaint Helena\, Ascension and Tristan da CunhaSaint Kitts and NevisSaint LuciaSaint MartinSaint Pierre and MiquelonSaint Vincent and the GrenadinesSamoaSan MarinoSao Tome and PrincipeSaudi ArabiaSenegalSerbiaSeychellesSierra LeoneSingaporeSint MaartenSlovakiaSloveniaSolomon IslandsSomaliaSouth AfricaSouth Georgia and the South Sandwich IslandsSouth SudanSpainSri LankaSudanSurinameSvalbard and Jan MayenSwedenSwitzerlandSyria Arab RepublicTaiwanTajikistanTanzania\, the United Republic ofThailandTimor-LesteTogoTokelauTongaTrinidad and TobagoTunisiaTurkmenistanTurks and Caicos IslandsTuvaluTürkiyeUS Minor Outlying IslandsUgandaUkraineUnited Arab EmiratesUnited KingdomUnited StatesUruguayUzbekistanVanuatuVenezuelaViet NamVirgin Islands\, BritishVirgin Islands\, U.S.Wallis and FutunaWestern SaharaYemenZambiaZimbabweÅland Islands\n                                        Country\n                                    \n                    \n                How many people are you looking at?1 - 2 Standard Rates3 - 5 Group Discount>10 In-House Training\, Huge Savings!Undecided\, need more informationThis is just an approximate number. You can finalise it when you send in the registration form.\n								\n								Send me brochure\n							Comments:CAPTCHA
URL:https://www.opuskinetic.com/training/managing-subsurface-pressures-for-oil-gas-and-carbon-storage/
LOCATION:Kuala Lumpur\, Federal Territory of Kuala Lumpur\, Kuala Lumpur\, Malaysia
CATEGORIES:Drilling,ESG/Renewable Energy/Clean Energy/Energy Management,Geology,Oil/Gas/Petrochemicals,Petroleum Engineering,Reservoir Engineering
ATTACH;FMTTYPE=image/jpeg:https://www.opuskinetic.com/wp-content/uploads/2025/06/subsurface-pressure-fi1-scaled.jpg
ORGANIZER;CN="Opus Kinetic Pte Ltd":MAILTO:info@opuskinetic.com
GEO:3.1384965;101.7099933
END:VEVENT
BEGIN:VEVENT
DTSTART;VALUE=DATE:20250922
DTEND;VALUE=DATE:20250925
DTSTAMP:20260420T151242
CREATED:20240205T020720Z
LAST-MODIFIED:20260130T045558Z
UID:10002018-1758531600-1758733200@www.opuskinetic.com
SUMMARY:Well Completion and Workover
DESCRIPTION:Why Choose this Training Course\nThe well completion training course is designed to give an overview of well completions as well as workover operations being carried out to maintain well integrity and availability for production/ injection. It introduces completion techniques\, equipment\, perforating methodologies and techniques\, wellhead and downhole equipment\, hydraulic fracturing\, acidizing\, squeeze cementing and scale removal techniques. It helps attendants to understand completion technology and be familiar with the tools and the know-how of various oil well completions. Moreover\, it focuses on: \n\nPractical application of various techniques and methodologies in well completion from completion type selection\, perforation strategies\, fluid selection as well as surface installations.\nSpecific completion design project and case studies for success/failure case histories for different cases of well completion installations in different operating environment.\n\nWho Should Attend\nThe well completion training course will include full explanation of the modules with detailed practical examples along with actual video clips for actual field cases. It also includes group discussions & exercises and daily quizzes to keep the information live. Pre & Post-course tests will be conducted as well to M & E the participants and learning process performance. \nKey Learning Objectives\n\nDEVELOP high level completion strategy for wells in variety of situations.\nSELECT tubing\, packers\, and completion flow control equipment\nDESIGN suitable flow barrier strategy\nINTRODUCE recommendations on installation and retrieval practices for tubing\, packers\, etc.\nIDENTIFY key design for horizontal\, multilateral\, HPHT wells\, etc.\nSELECT appropriate intervention strategy/equipment\nIDENTIFY key features of the main sand control\, formation fracing and well stimulation options.\nASSESS concerns measures for formation damage/ skin removal.\nDEVELOP and outlining overall strategy for a completion program.\nPLAN Effective Operation\n\nLearn practical methods of design\nPlan and install safe and efficient well completion and workover\nImprove well productivity by integrating the importance of completion process to future production in order to enhance performance and failures.\n\n\nIMPROVE effectiveness and efficiency of work performance by learning ways to conduct operations smoothly in a correct technique.\nIMPROVE effectiveness of operations\n\nEnquiry Form\n\n                 \n \n                        SalutationMr.Ms.Miss.Mrs.Mdm.Dr.Prof.Capt.-Name*\n                            \n                            \n                                                    \n                                                    First\n                                                \n                            \n                            \n                                                    \n                                                    Last\n                                                \n                            \n                        Phone*Email*\n                            \n                        Company*Current Location*    \n                    \n                        \n                                        AfghanistanAlbaniaAlgeriaAmerican SamoaAndorraAngolaAnguillaAntarcticaAntigua and BarbudaArgentinaArmeniaArubaAustraliaAustriaAzerbaijanBahamasBahrainBangladeshBarbadosBelarusBelgiumBelizeBeninBermudaBhutanBoliviaBonaire\, Sint Eustatius and SabaBosnia and HerzegovinaBotswanaBouvet IslandBrazilBritish Indian Ocean TerritoryBrunei DarussalamBulgariaBurkina FasoBurundiCambodiaCameroonCanadaCape VerdeCayman IslandsCentral African RepublicChadChileChinaChristmas IslandCocos IslandsColombiaComorosCongoCongo\, Democratic Republic of theCook IslandsCosta RicaCroatiaCubaCuraçaoCyprusCzechiaCôte d'IvoireDenmarkDjiboutiDominicaDominican RepublicEcuadorEgyptEl SalvadorEquatorial GuineaEritreaEstoniaEswatiniEthiopiaFalkland IslandsFaroe IslandsFijiFinlandFranceFrench GuianaFrench PolynesiaFrench Southern TerritoriesGabonGambiaGeorgiaGermanyGhanaGibraltarGreeceGreenlandGrenadaGuadeloupeGuamGuatemalaGuernseyGuineaGuinea-BissauGuyanaHaitiHeard Island and McDonald IslandsHoly SeeHondurasHong KongHungaryIcelandIndiaIndonesiaIranIraqIrelandIsle of ManIsraelItalyJamaicaJapanJerseyJordanKazakhstanKenyaKiribatiKorea\, Democratic People's Republic ofKorea\, Republic ofKuwaitKyrgyzstanLao People's Democratic RepublicLatviaLebanonLesothoLiberiaLibyaLiechtensteinLithuaniaLuxembourgMacaoMadagascarMalawiMalaysiaMaldivesMaliMaltaMarshall IslandsMartiniqueMauritaniaMauritiusMayotteMexicoMicronesiaMoldovaMonacoMongoliaMontenegroMontserratMoroccoMozambiqueMyanmarNamibiaNauruNepalNetherlandsNew CaledoniaNew ZealandNicaraguaNigerNigeriaNiueNorfolk IslandNorth MacedoniaNorthern Mariana IslandsNorwayOmanPakistanPalauPalestine\, State ofPanamaPapua New GuineaParaguayPeruPhilippinesPitcairnPolandPortugalPuerto RicoQatarRomaniaRussian FederationRwandaRéunionSaint BarthélemySaint Helena\, Ascension and Tristan da CunhaSaint Kitts and NevisSaint LuciaSaint MartinSaint Pierre and MiquelonSaint Vincent and the GrenadinesSamoaSan MarinoSao Tome and PrincipeSaudi ArabiaSenegalSerbiaSeychellesSierra LeoneSingaporeSint MaartenSlovakiaSloveniaSolomon IslandsSomaliaSouth AfricaSouth Georgia and the South Sandwich IslandsSouth SudanSpainSri LankaSudanSurinameSvalbard and Jan MayenSwedenSwitzerlandSyria Arab RepublicTaiwanTajikistanTanzania\, the United Republic ofThailandTimor-LesteTogoTokelauTongaTrinidad and TobagoTunisiaTurkmenistanTurks and Caicos IslandsTuvaluTürkiyeUS Minor Outlying IslandsUgandaUkraineUnited Arab EmiratesUnited KingdomUnited StatesUruguayUzbekistanVanuatuVenezuelaViet NamVirgin Islands\, BritishVirgin Islands\, U.S.Wallis and FutunaWestern SaharaYemenZambiaZimbabweÅland Islands\n                                        Country\n                                    \n                    \n                How many people are you looking at?1 - 2 Standard Rates3 - 5 Group Discount>10 In-House Training\, Huge Savings!Undecided\, need more informationThis is just an approximate number. You can finalise it when you send in the registration form.\n								\n								Send me brochure\n							Comments:CAPTCHA
URL:https://www.opuskinetic.com/training/well-completion-and-workover/2025-09-22/
LOCATION:Kuala Lumpur\, Federal Territory of Kuala Lumpur\, Kuala Lumpur\, Malaysia
CATEGORIES:Drilling,Oil/Gas/Petrochemicals,Well Engineering
ATTACH;FMTTYPE=image/png:https://www.opuskinetic.com/wp-content/uploads/2024/02/well-completion-fi1.png
ORGANIZER;CN="Opus Kinetic Pte Ltd":MAILTO:info@opuskinetic.com
GEO:3.1384965;101.7099933
END:VEVENT
END:VCALENDAR