BEGIN:VCALENDAR
VERSION:2.0
PRODID:-//Opus Kinetic - ECPv6.15.12.2//NONSGML v1.0//EN
CALSCALE:GREGORIAN
METHOD:PUBLISH
X-WR-CALNAME:Opus Kinetic
X-ORIGINAL-URL:https://www.opuskinetic.com
X-WR-CALDESC:Events for Opus Kinetic
REFRESH-INTERVAL;VALUE=DURATION:PT1H
X-Robots-Tag:noindex
X-PUBLISHED-TTL:PT1H
BEGIN:VTIMEZONE
TZID:Asia/Singapore
BEGIN:STANDARD
TZOFFSETFROM:+0800
TZOFFSETTO:+0800
TZNAME:+08
DTSTART:20170101T000000
END:STANDARD
END:VTIMEZONE
BEGIN:VEVENT
DTSTART;VALUE=DATE:20180815
DTEND;VALUE=DATE:20180818
DTSTAMP:20260426T040216
CREATED:20180117T094407Z
LAST-MODIFIED:20180117T094407Z
UID:10000239-1534291200-1534550399@www.opuskinetic.com
SUMMARY:Advanced Basin Analysis Masterclass
DESCRIPTION:Overview\nThis advanced case-study led course is designed to teach participants a process for rapidly screening frontier\nbasin opportunities with minimal data\, with case studies from across the world\, including many African\, Atlantic and South-East Asian Basins. \nThree day modules cover the essentials of basin classification and tectonostratigraphic analysis\, the prediction of\npetroleum system elements (reservoir\, source rocks and seals) and the presentation of a workflow with which the\nprospects of a basin can be rapidly assessed. The most recent world’s frontier discoveries are reviewed in their\nbasin context and key elements are recognised that will identify the frontier discoveries of the future. \nThe lectures are interspersed with numerous case studies analysing the regional controls on the main global\ndiscoveries of the last decade\, some of which will be run as group discussions and guided exercises. This will\nexpand the participants’ knowledge bank of key analogues that can be used to identify and risk new plays in their\nown regions of interest. \nWho Should Attend\nGeologists and geophysicists or exploration managers that are involved in the assessment of new exploration\nopportunities and new country entry\, particularly if working on rifts and or passive margins. The course contents are\non intermediate/advanced level and a basic knowledge of petroleum geology and in particular of petroleum systems is required. \nPotential attendees include: \n\nBasin Management & Analyst\nExploration & Development Department\nGeologists\nGeophysicists\nGeoscientists\nPetroleum Engineers\nReservoir Engineers\nDrilling Engineers\nRisk Management\nResearch & Development\nProject Support & Services\n\nKey Learning Objectives\n\nParticipants will learn how to rapidly differentiate prospective from non-prospective basins using series of key\ntools and techniques\, even in situations where they have limited data and knowledge.\nParticipants will learn how to rapidly compile many key diagrams within a workflow that synthesises the key tectonic and other basin-wide controls on prospectivity.\nThey will learn how to research and apply appropriate analogue basins to their individual areas of interest from around the world\nThey will acquire check-lists of the parameters which most frequently cause basins to succeed or fail\, that they will be able to use in data rooms and in the assessment of licence or farming blocks.\n\nEnquiry Form\n\n\n                 \n \n                        SalutationMr.Miss.Mrs.Mdm.Dr.Prof.Capt.Name\n                            \n                            \n                                                    \n                                                    First\n                                                \n                            \n                            \n                                                    \n                                                    Last\n                                                \n                            \n                        PhoneEmail\n                            \n                        CompanyAdditional Comments:CAPTCHA
URL:https://www.opuskinetic.com/training/advanced-basin-analysis-masterclass-2/
LOCATION:Malaysia\, Malaysia
CATEGORIES:Geology
GEO:4.210484;101.975766
END:VEVENT
BEGIN:VEVENT
DTSTART;VALUE=DATE:20180820
DTEND;VALUE=DATE:20180822
DTSTAMP:20260426T040216
CREATED:20180525T085854Z
LAST-MODIFIED:20180528T011430Z
UID:10000458-1534723200-1534895999@www.opuskinetic.com
SUMMARY:Petroleum Geology of the South and Central Atlantic
DESCRIPTION:Overview\nUnderstand the regional controls underpinning some of the world’s key frontier exploration provinces in the South and Central Atlantic. Save considerable time in your own researches in these regions. Learn how to assess the key factors controlling exploration success and failure in the region and in particular the complications involved in identifying pre-salt and turbidite plays. Acquire a methodology to assess opportunities through a petroleum systems ‘checklist’ approach\, with attention to key issues such as tectonic history\, heat flow\, reservoir quality and petroleum generation history.  \nWho Should Attend\nGeologists and geophysicists or exploration managers that are involved in the assessment of new exploration opportunities\, acreage and prospects in the Central or South Atlantic. This is an advanced level course and a basic knowledge of petroleum geology and in particular of petroleum systems is required. \n\nExploration & Development Department\nGeologists\nGeophysicists\nExploration Managers\nGeoscientists\nPetroleum Engineers\n\nKey Learning Objectives\n\nParticipants will be provided with the regional picture controlling prospectivity in pre-salt\, rift and post rift/salt plays\, enabling them to concentrate in their own work on local and prospect specific issues\nParticipants will learn how the tectonic and heat flow history of the region\, and in particular processes preceding and during continental break-up\, control the prospectivity of the South and Central Atlantic\nSpecific attention is given to the complex controls on pre-salt plays on both sides of the Atlantic. Participants will learn how to screen for both pre-salt clastic and carbonate plays and avoid regions with downgrading influences such as early high heat flow and gas generation.\nFor post-salt plays the key objective is to learn how to screen for thick effective reservoirs though the understanding of regional sediment/ reservoir supply and integrate this with seismic attribute analysis.\nParticipants will learn how to apply ‘dataroom checklists’ to rapidly assess opportunities presented to them in this region\n\nEnquiry Form\n\n                 \n \n                        SalutationMr.Miss.Mrs.Mdm.Dr.Prof.Capt.Name\n                            \n                            \n                                                    \n                                                    First\n                                                \n                            \n                            \n                                                    \n                                                    Last\n                                                \n                            \n                        PhoneEmail\n                            \n                        CompanyAdditional Comments:CAPTCHA
URL:https://www.opuskinetic.com/training/petroleum-geology-of-the-south-and-central-atlantic-4/
LOCATION:Indonesia\, Indonesia
CATEGORIES:Geology
GEO:-0.789275;113.921327
END:VEVENT
END:VCALENDAR