BEGIN:VCALENDAR
VERSION:2.0
PRODID:-//Opus Kinetic - ECPv6.15.12.2//NONSGML v1.0//EN
CALSCALE:GREGORIAN
METHOD:PUBLISH
X-ORIGINAL-URL:https://www.opuskinetic.com
X-WR-CALDESC:Events for Opus Kinetic
REFRESH-INTERVAL;VALUE=DURATION:PT1H
X-Robots-Tag:noindex
X-PUBLISHED-TTL:PT1H
BEGIN:VTIMEZONE
TZID:Asia/Singapore
BEGIN:STANDARD
TZOFFSETFROM:+0800
TZOFFSETTO:+0800
TZNAME:+08
DTSTART:20170101T000000
END:STANDARD
END:VTIMEZONE
BEGIN:VEVENT
DTSTART;VALUE=DATE:20181210
DTEND;VALUE=DATE:20181212
DTSTAMP:20260425T220614
CREATED:20180726T025902Z
LAST-MODIFIED:20180726T025902Z
UID:10000531-1544400000-1544572799@www.opuskinetic.com
SUMMARY:Petroleum Geology of the South and Central Atlantic
DESCRIPTION:Overview\nUnderstand the regional controls underpinning some of the world’s key frontier exploration provinces in the South and Central Atlantic. Save considerable time in your own researches in these regions. Learn how to assess the key factors controlling exploration success and failure in the region and in particular the complications involved in identifying pre-salt and turbidite plays. Acquire a methodology to assess opportunities through a petroleum systems ‘checklist’ approach\, with attention to key issues such as tectonic history\, heat flow\, reservoir quality and petroleum generation history.  \nWho Should Attend\nGeologists and geophysicists or exploration managers that are involved in the assessment of new exploration opportunities\, acreage and prospects in the Central or South Atlantic. This is an advanced level course and a basic knowledge of petroleum geology and in particular of petroleum systems is required. \n\nExploration & Development Department\nGeologists\nGeophysicists\nExploration Managers\nGeoscientists\nPetroleum Engineers\n\nKey Learning Objectives\n\nParticipants will be provided with the regional picture controlling prospectivity in pre-salt\, rift and post rift/salt plays\, enabling them to concentrate in their own work on local and prospect specific issues\nParticipants will learn how the tectonic and heat flow history of the region\, and in particular processes preceding and during continental break-up\, control the prospectivity of the South and Central Atlantic\nSpecific attention is given to the complex controls on pre-salt plays on both sides of the Atlantic. Participants will learn how to screen for both pre-salt clastic and carbonate plays and avoid regions with downgrading influences such as early high heat flow and gas generation.\nFor post-salt plays the key objective is to learn how to screen for thick effective reservoirs though the understanding of regional sediment/ reservoir supply and integrate this with seismic attribute analysis.\nParticipants will learn how to apply ‘dataroom checklists’ to rapidly assess opportunities presented to them in this region\n\nEnquiry Form\n\n\n                 \n \n                        SalutationMr.Miss.Mrs.Mdm.Dr.Prof.Capt.Name\n                            \n                            \n                                                    \n                                                    First\n                                                \n                            \n                            \n                                                    \n                                                    Last\n                                                \n                            \n                        PhoneEmail\n                            \n                        CompanyAdditional Comments:CAPTCHA
URL:https://www.opuskinetic.com/training/petroleum-geology-of-the-south-and-central-atlantic-6/
LOCATION:Singapore\, Singapore
CATEGORIES:Geology
GEO:1.352083;103.819836
END:VEVENT
END:VCALENDAR