BEGIN:VCALENDAR
VERSION:2.0
PRODID:-//Opus Kinetic - ECPv6.15.12.2//NONSGML v1.0//EN
CALSCALE:GREGORIAN
METHOD:PUBLISH
X-ORIGINAL-URL:https://www.opuskinetic.com
X-WR-CALDESC:Events for Opus Kinetic
REFRESH-INTERVAL;VALUE=DURATION:PT1H
X-Robots-Tag:noindex
X-PUBLISHED-TTL:PT1H
BEGIN:VTIMEZONE
TZID:Asia/Singapore
BEGIN:STANDARD
TZOFFSETFROM:+0800
TZOFFSETTO:+0800
TZNAME:+08
DTSTART:20180101T000000
END:STANDARD
END:VTIMEZONE
BEGIN:VEVENT
DTSTART;VALUE=DATE:20191104
DTEND;VALUE=DATE:20191108
DTSTAMP:20260425T042303
CREATED:20190422T013705Z
LAST-MODIFIED:20190422T013705Z
UID:10000448-1572825600-1573171199@www.opuskinetic.com
SUMMARY:Unconventional Petroleum (Shale Gas Oil\, CBM\, TAR Sands\, Oil Sands\, Gas Hydrates etc..). Geology\, Exploration & Production
DESCRIPTION:Who Should Attend\n\nEngineers\nGeoscientists \nMembers of staff\, involved in unconventional E&P projects\n\nKey Learning Objectives\n\nGeology of organic-rich shales – prediction of good quality targets\nBiogeochemistry and petroleum microbiology.\nProduction of unconventional oil & gas. Production curves. The EUR\nBasic petroleum economics of unconventional projects; Risking of unconventional prospects.\nOccurrence and distribution of unconventional oil and natural gas; other energy sources\nUse of seismic data in unconventional petroleum E & P;\nUnconventional petroleum (shale gas/oil etc.) – theory and practice;\nSequence stratigraphy – application in unconventional petroleum;\nBasin Analysis on a PC;\nCalculation of unconventional reserves – various methods.\n\nEnquiry Form\n\n\n                 \n \n                        SalutationMr.Miss.Mrs.Mdm.Dr.Prof.Capt.Name\n                            \n                            \n                                                    \n                                                    First\n                                                \n                            \n                            \n                                                    \n                                                    Last\n                                                \n                            \n                        PhoneEmail\n                            \n                        CompanyAdditional Comments:CAPTCHA
URL:https://www.opuskinetic.com/training/unconventional-petroleum-shale-gas-oil-cbm-tar-sands-oil-sands-gas-hydrates-etc-geology-exploration-production/
LOCATION:Kuala Lumpur\, Federal Territory of Kuala Lumpur\, Kuala Lumpur\, Malaysia
CATEGORIES:Geology
GEO:3.1384965;101.7099933
END:VEVENT
BEGIN:VEVENT
DTSTART;VALUE=DATE:20191125
DTEND;VALUE=DATE:20191130
DTSTAMP:20260425T042303
CREATED:20190920T024449Z
LAST-MODIFIED:20190920T024449Z
UID:10000785-1574640000-1575071999@www.opuskinetic.com
SUMMARY:Petroleum Geology of Deepwater West & East Africa
DESCRIPTION:Overview\nThe first\, second and fifth days of this course are set at a moderate scientific level suitable for young geologists working on these regions. The third and fourth days are targeted at more advanced staff working on the specific countries listed. The aim is to deliver the regional picture controlling African frontier opportunities so that staffs from the companies attending gain a head start in evaluating specific opportunities such as licence rounds and farmout. Secondly\, the course will help companies focus on the opportunities most likely to succeed that are consistent with their own strategies and finances. \n  \nWho Should Attend\nAll disciplines that interact with geologists and geophysicists. \n\nGeologists\nGeophysicists\nExploration Managers\n\n  \nKey Learning Objectives\n\nParticipants will gain a regional overview of the main controls on the development of source\, reservoir\, trap and seal in deepwater areas around Africa.\nThis will include key controls exerted by the onshore tectonic history of the African continent\, such as those controlled the development of ‘source to sink’ reservoir factories.\nThis will include a review of known and speculative source rock occurrences n deepwater settings\, in addition to apparent relationships between source rock volumetrics\, effective migration and seal in stratigraphic settings.\nSpecific basins specified by the client will be addressed in greater detail\, namely Gabon\, Congo\, Senegal\, Mauritania\, Madagascar\, Mozambique\, Kenya and Tanzania.\nGiven recent disappointing well results in the region\, participants will learn a methodology to identify\, analyse and reduce risk in the most promising and effective petroleum system settings.\nThere will be particular emphasis on the thermal regime and how gas rather than oil opportunities can be identified.\nOptional fourth and fifth days can\, if the client wishes\, be arranged to transfer\, deliver and present the authors GIS database on the region and to extend the regions considered to the Eastern Mediterranean.\n\n  \nEnquiry Form\n\n                 \n \n                        SalutationMr.Miss.Mrs.Mdm.Dr.Prof.Capt.Name\n                            \n                            \n                                                    \n                                                    First\n                                                \n                            \n                            \n                                                    \n                                                    Last\n                                                \n                            \n                        PhoneEmail\n                            \n                        CompanyAdditional Comments:CAPTCHA
URL:https://www.opuskinetic.com/training/petroleum-geology-of-deepwater-west-east-africa/
LOCATION:Kuala Lumpur\, Federal Territory of Kuala Lumpur\, Kuala Lumpur\, Malaysia
CATEGORIES:Geology,Oil/Gas/Petrochemicals
GEO:3.1384965;101.7099933
END:VEVENT
END:VCALENDAR