BEGIN:VCALENDAR
VERSION:2.0
PRODID:-//Opus Kinetic - ECPv6.15.12.2//NONSGML v1.0//EN
CALSCALE:GREGORIAN
METHOD:PUBLISH
X-WR-CALNAME:Opus Kinetic
X-ORIGINAL-URL:https://www.opuskinetic.com
X-WR-CALDESC:Events for Opus Kinetic
REFRESH-INTERVAL;VALUE=DURATION:PT1H
X-Robots-Tag:noindex
X-PUBLISHED-TTL:PT1H
BEGIN:VTIMEZONE
TZID:Asia/Singapore
BEGIN:STANDARD
TZOFFSETFROM:+0800
TZOFFSETTO:+0800
TZNAME:+08
DTSTART:20190101T000000
END:STANDARD
END:VTIMEZONE
BEGIN:VEVENT
DTSTART;VALUE=DATE:20200325
DTEND;VALUE=DATE:20200328
DTSTAMP:20260424T222503
CREATED:20191217T083801Z
LAST-MODIFIED:20191217T083801Z
UID:10000841-1585094400-1585353599@www.opuskinetic.com
SUMMARY:Biomarkers and Isotopes Use in Geochemistry
DESCRIPTION:Overview\nAttendees would be able to understand the definition and types of petroleum fluids as well as the various bio markers to take note of and the reasons for using biomarkers. They will also be able to understand the correlation of petroleum to source rocks which is the best way to find out which source rock our petroleum came from. There will be detailed explanations on the formation of petroleum fluids as well as the definitions for combustion and energy.  \nThe participants will learn about basic geochemistry and basin modelling along with the prediction of different petroleum fluid types and geochemical interpretation as well as understanding the steps to build a basin model. Participants will be knowledgeable in petroleum fluids inside the earth and learn about the pressure caused by petroleum fluids in the well site. They will understand how to use geochemical data in exploration and production. The will be able to perform analysis on the formation pressure and thus understand about the problems of over pressure as well as how to predict it. There will also be a section about the pitfalls in petroleum exploration and fuel analysis to provide attendees with a holistic education with regards to source rocks. \nWho Should Attend\n\nExploration geologist\nGeochemist\nGeophysics professionals such as geophysics researchers\nAll geoscientist involved in Exploration and production\n\n*some knowledge of Geology is needed. \nEnquiry Form\n\n\n                 \n \n                        SalutationMr.Miss.Mrs.Mdm.Dr.Prof.Capt.Name\n                            \n                            \n                                                    \n                                                    First\n                                                \n                            \n                            \n                                                    \n                                                    Last\n                                                \n                            \n                        PhoneEmail\n                            \n                        CompanyAdditional Comments:CAPTCHA
URL:https://www.opuskinetic.com/training/biomarkers-and-isotopes-use-in-geochemistry-2/
LOCATION:Kuala Lumpur\, Federal Territory of Kuala Lumpur\, Kuala Lumpur\, Malaysia
CATEGORIES:Geology,Oil/Gas/Petrochemicals
GEO:3.1384965;101.7099933
END:VEVENT
END:VCALENDAR