BEGIN:VCALENDAR
VERSION:2.0
PRODID:-//Opus Kinetic - ECPv6.15.12.2//NONSGML v1.0//EN
CALSCALE:GREGORIAN
METHOD:PUBLISH
X-ORIGINAL-URL:https://www.opuskinetic.com
X-WR-CALDESC:Events for Opus Kinetic
REFRESH-INTERVAL;VALUE=DURATION:PT1H
X-Robots-Tag:noindex
X-PUBLISHED-TTL:PT1H
BEGIN:VTIMEZONE
TZID:Asia/Singapore
BEGIN:STANDARD
TZOFFSETFROM:+0800
TZOFFSETTO:+0800
TZNAME:+08
DTSTART:20190101T000000
END:STANDARD
END:VTIMEZONE
BEGIN:VEVENT
DTSTART;VALUE=DATE:20200401
DTEND;VALUE=DATE:20200404
DTSTAMP:20260424T205037
CREATED:20200220T083200Z
LAST-MODIFIED:20200227T094106Z
UID:10000552-1585699200-1585958399@www.opuskinetic.com
SUMMARY:Petroleum Systems of the Mexican Gulf of Mexico - Kuala Lumpur\, Malaysia
DESCRIPTION:Overview\nThis course summarises the main petroleum systems of the Mexican Gulf of Mexico. It is based on Cambridge Carbonates Ltd. 50 man-years experience of working on play evaluation\, reservoir description and regional studies of Jurassic\, Cretaceous and Tertiary petroleum systems of Mexico. It emphasises the importance of the regional tectonic and palaeogeographical evolution of the area and how it differs from the USA side of the Gulf of Mexico. Emphasis is placed on Jurassic and Cretaceous carbonate reservoirs and petroleum systems since these contain the majority of Mexican reserves; however\, petroleum systems in the siliciclastic-dominated Tertiary stratigraphy will also be described. \nTopics and case histories covered include: \n• Plate tectonic reconstructions of the Gulf of Mexico. \n• Mesozoic and Tertiary reservoirs\, source rocks and petroleum systems. \n• Cretaceous fractured basinal carbonates. \n• Salt-carbonate interactions and implications for reservoir development in the Jurassic and Cretaceous. \n• Models for dolomitisation and diagenetic methodologies. \n• Workflows for evaluating Jurassic and Cretaceous play types and reservoirs. \n• Case histories of existing fields and discoveries including recent discoveries in the Mesozoic and Tertiary. \nWho Should Attend\nThis course is aimed at geoscientists involved in exploration and development of reservoirs in Mexico. \nEnquiry Form\n\n\n                 \n \n                        SalutationMr.Miss.Mrs.Mdm.Dr.Prof.Capt.Name\n                            \n                            \n                                                    \n                                                    First\n                                                \n                            \n                            \n                                                    \n                                                    Last\n                                                \n                            \n                        PhoneEmail\n                            \n                        CompanyAdditional Comments:CAPTCHA
URL:https://www.opuskinetic.com/training/petroleum-systems-of-the-mexican-gulf-of-mexico-kuala-lumpur-malaysia/
LOCATION:Kuala Lumpur\, Federal Territory of Kuala Lumpur\, Kuala Lumpur\, Malaysia
CATEGORIES:Geology
GEO:3.1384965;101.7099933
END:VEVENT
BEGIN:VEVENT
DTSTART;VALUE=DATE:20200408
DTEND;VALUE=DATE:20200411
DTSTAMP:20260424T205037
CREATED:20200220T084133Z
LAST-MODIFIED:20200228T070254Z
UID:10000858-1586304000-1586563199@www.opuskinetic.com
SUMMARY:Introduction to Petroleum Geology - Kuala Lumpur\, Malaysia
DESCRIPTION:Overview\nThis is a basic course that explains petroleum geology in elementary scientific principles. It provides sufficient knowledge of the subject for engineers\, economics\, geophysicists and other disciplines to interact effectively with geologists. The course is also suitable for young geologists or managers who require a refresher in the subject Following an introduction to the properties of various rock types and their relevance to the key factors controlling petroleum occurrence and productivity\, the course is ordered according to the ‘exploration and production cycle’ commencing with basin level studies and ending in effective production plans so that both exploration and production geology are covered. Particular emphasis is given to the key interactions required between geologists and other disciplines in the making of key decisions such as the choice of prospects for drilling and the design of safe wells. Unconventional as well as conventional plays are reviewed. The lectures are interspersed with numerous case studies\, group discussions and guided exercises. \nWho Should Attend\nAll disciplines that interact with geologists and geophysicists \n\nPetroleum Engineers\nProduction Engineers\nDrilling Engineers\nGeophysicists\nEconomists\nManagers\nJunior Geologists\n\nKey Learning Objectives\n\nLEARN the basis of geology as applied in the petroleum industry to explore and develop hydrocarbons. Non-\ngeologists will gain sufficient knowledge to be able to effectively interact with geologists in their day to day work.\nLEARN how geologists and other disciplines such as petroleum engineers\, geophysicists\, drilling engineers and economists should collaborate in making key exploration and production decisions.\nGAIN a full understanding of concepts such as the exploration and development cycle\, commencing with\nthe development of petroleum play concepts and regional analysis through to the importance of monitoring production in a geological context.\nGAIN a full understanding of the geological risks involved at all levels in the industry\n\nEnquiry Form\n\n                 \n \n                        SalutationMr.Miss.Mrs.Mdm.Dr.Prof.Capt.Name\n                            \n                            \n                                                    \n                                                    First\n                                                \n                            \n                            \n                                                    \n                                                    Last\n                                                \n                            \n                        PhoneEmail\n                            \n                        CompanyAdditional Comments:CAPTCHA
URL:https://www.opuskinetic.com/training/introduction-to-petroleum-geology-kuala-lumpur-malaysia-2/
LOCATION:Kuala Lumpur\, Federal Territory of Kuala Lumpur\, Kuala Lumpur\, Malaysia
CATEGORIES:Geology
GEO:3.1384965;101.7099933
END:VEVENT
END:VCALENDAR