BEGIN:VCALENDAR
VERSION:2.0
PRODID:-//Opus Kinetic - ECPv6.15.12.2//NONSGML v1.0//EN
CALSCALE:GREGORIAN
METHOD:PUBLISH
X-ORIGINAL-URL:https://www.opuskinetic.com
X-WR-CALDESC:Events for Opus Kinetic
REFRESH-INTERVAL;VALUE=DURATION:PT1H
X-Robots-Tag:noindex
X-PUBLISHED-TTL:PT1H
BEGIN:VTIMEZONE
TZID:Asia/Singapore
BEGIN:STANDARD
TZOFFSETFROM:+0800
TZOFFSETTO:+0800
TZNAME:+08
DTSTART:20190101T000000
END:STANDARD
END:VTIMEZONE
BEGIN:VEVENT
DTSTART;VALUE=DATE:20200701
DTEND;VALUE=DATE:20200704
DTSTAMP:20260424T155924
CREATED:20200228T014722Z
LAST-MODIFIED:20200302T041732Z
UID:10000966-1593561600-1593820799@www.opuskinetic.com
SUMMARY:Advanced Basin Analysis Masterclass - Kuala Lumpur \, Malaysia
DESCRIPTION:Overview\nThis advanced case-study led course is designed to teach participants a process for rapidly screening frontier\nbasin opportunities with minimal data\, with case studies from across the world\, including many African\, Atlantic and South-East Asian Basins. \nThree day modules cover the essentials of basin classification and tectonostratigraphic analysis\, the prediction of\npetroleum system elements (reservoir\, source rocks and seals) and the presentation of a workflow with which the\nprospects of a basin can be rapidly assessed. The most recent world’s frontier discoveries are reviewed in their\nbasin context and key elements are recognised that will identify the frontier discoveries of the future. \nThe lectures are interspersed with numerous case studies analysing the regional controls on the main global\ndiscoveries of the last decade\, some of which will be run as group discussions and guided exercises. This will\nexpand the participants’ knowledge bank of key analogues that can be used to identify and risk new plays in their\nown regions of interest. \nWho Should Attend\nGeologists and geophysicists or exploration managers that are involved in the assessment of new exploration\nopportunities and new country entry\, particularly if working on rifts and or passive margins. The course contents are\non intermediate/advanced level and a basic knowledge of petroleum geology and in particular of petroleum systems is required. \nPotential attendees include: \n\nBasin Management & Analyst\nExploration & Development Department\nGeologists\nGeophysicists\nGeoscientists\nPetroleum Engineers\nReservoir Engineers\nDrilling Engineers\nRisk Management\nResearch & Development\nProject Support & Services\n\nKey Learning Objectives\n\nParticipants will learn how to rapidly differentiate prospective from non-prospective basins using series of key\ntools and techniques\, even in situations where they have limited data and knowledge.\nParticipants will learn how to rapidly compile many key diagrams within a workflow that synthesises the key tectonic and other basin-wide controls on prospectivity.\nThey will learn how to research and apply appropriate analogue basins to their individual areas of interest from around the world\nThey will acquire check-lists of the parameters which most frequently cause basins to succeed or fail\, that they will be able to use in data rooms and in the assessment of licence or farming blocks.\n\nEnquiry Form\n\n\n                 \n \n                        SalutationMr.Miss.Mrs.Mdm.Dr.Prof.Capt.Name\n                            \n                            \n                                                    \n                                                    First\n                                                \n                            \n                            \n                                                    \n                                                    Last\n                                                \n                            \n                        PhoneEmail\n                            \n                        CompanyAdditional Comments:CAPTCHA
URL:https://www.opuskinetic.com/training/advanced-basin-analysis-masterclass-kuala-lumpur-malaysia-4/
LOCATION:Kuala Lumpur\, Federal Territory of Kuala Lumpur\, Kuala Lumpur\, Malaysia
CATEGORIES:Geology
GEO:3.1384965;101.7099933
END:VEVENT
BEGIN:VEVENT
DTSTART;VALUE=DATE:20200706
DTEND;VALUE=DATE:20200709
DTSTAMP:20260424T155924
CREATED:20200228T015402Z
LAST-MODIFIED:20200302T072821Z
UID:10000968-1593993600-1594252799@www.opuskinetic.com
SUMMARY:Petroleum Geology of The South and Central Atlantic - Kuala Lumpur \, Malaysia
DESCRIPTION:Overview\nThis course aims at providing participants with the ‘regional picture’ that controls the complex play systems of the Central and South Atlantic using largely unpublished material gathered from the authors own regional work and attendance at scores of conferences on the region\, many organised by himself. By presenting these regional models during the course and in a detailed manual full of palaeotectonic- paleogeographic maps\, stratigraphic charts and play cross-sections\, the course aims to save participants the equivalents of hundreds of thousands of dollars on mantime conducting regional research\, so that they can then concentrate on their own ventures and prospects. Specific attention is paid to the pre-salt plays of the South Atlantic\, and the complex interrelated tectonic\, depositional and geochemical models that are now being unravelled for these plays. Recent well results are reviewed and explained. The lectures are interspersed with numerous case studies analysing each of the key regional controls\, some of which will be run as group discussions and guided exercises. \nWho Should Attend\nGeologists and geophysicists or exploration managers that are involved in the assessment of new exploration opportunities\, acreage and prospects in the Central or South Atlantic. This is an advanced level course and a basic knowledge of petroleum geology and in particular of petroleum systems is required. \n\nExploration & Development Department\nGeologists\nGeophysicists\nExploration Managers\nGeoscientists\nPetroleum Engineers\n\nKey Learning Objectives\n\nParticipants will be provided with the regional picture controlling prospectivity in pre-salt\, rift and post-rift/salt plays\, enabling them to concentrate in their own work on local and prospect specific issues\nParticipants will learn how the tectonic and heat flow history of the region\, and in particular processes preceding and during continental break-up\, control the prospectivity of the South and Central Atlantic\nSpecific attention is given to the complex controls on pre-salt plays on both sides of the Atlantic.\nParticipants will learn how to screen for both pre-salt clastic and carbonate plays and avoid regions with downgrading influences such as early high heat flow and gas generation.\nFor post-salt plays the key objective is to learn how to screen for thick effective reservoirs though the understanding of regional sediment/reservoir supply and integrate this with seismic attribute analysis.\nParticipants will learn how to apply ‘data room checklists’ to rapidly assess opportunities presented to them in this region\n\nEnquiry Form\n\n                 \n \n                        SalutationMr.Miss.Mrs.Mdm.Dr.Prof.Capt.Name\n                            \n                            \n                                                    \n                                                    First\n                                                \n                            \n                            \n                                                    \n                                                    Last\n                                                \n                            \n                        PhoneEmail\n                            \n                        CompanyAdditional Comments:CAPTCHA
URL:https://www.opuskinetic.com/training/petroleum-geology-of-the-south-and-central-atlantic-kuala-lumpur-malaysia-10/
LOCATION:Kuala Lumpur\, Federal Territory of Kuala Lumpur\, Kuala Lumpur\, Malaysia
CATEGORIES:Geology
GEO:3.1384965;101.7099933
END:VEVENT
BEGIN:VEVENT
DTSTART;VALUE=DATE:20200713
DTEND;VALUE=DATE:20200716
DTSTAMP:20260424T155924
CREATED:20200228T023508Z
LAST-MODIFIED:20200302T075210Z
UID:10000574-1594598400-1594857599@www.opuskinetic.com
SUMMARY:Advanced Carbonate Geology - Kuala Lumpur \, Malaysia
DESCRIPTION:Overview\nThe aims of this course will be focussed on Tertiary carbonate systems and reservoirs of SE Asia and will provide an updated review on the controls of carbonate sedimentation\, global changes through the Tertiary and how these affect reservoir types. The sequence stratigraphy of carbonate\, and mixed siliciclastic carbonate systems will be discussed drawing on examples from SE Asia. The seismic and log expression of SE Asia carbonate systems will also be examined. The origin of sub-surface CO2 will be reviewed. Controls on the pore systems within carbonate reservoirs will be described. \nWho Should Attend\nThis course is ideal for professionals directly involved with carbonate reservoir geology\, and who need a deeper understanding of the complexity and problems associated with carbonate reservoirs.\nJob titles include but are not limited to: \n\nExploration & Development Geoscientists (Geologists & Geophysicists)\nSedimentologists\nReservoir & Petroleum Engineers\nPetrophysicists\nE&P Managers\n\nKey Learning Points\n\nTo understand how evolving organisms and global oceanographic conditions influence carbonate systems\, their diagenesis and reservoir quality\nTo understand the unique features of the sequence stratigraphic controls of carbonate systems\nTo understand the seismic geometries and attributes assist in the interpretation of carbonates\nTo understand the application of various petrographic and analytical techniques to solving reservoir quality issues in carbonates\n\nEnquiry Form\n\n                 \n \n                        SalutationMr.Miss.Mrs.Mdm.Dr.Prof.Capt.Name\n                            \n                            \n                                                    \n                                                    First\n                                                \n                            \n                            \n                                                    \n                                                    Last\n                                                \n                            \n                        PhoneEmail\n                            \n                        CompanyAdditional Comments:CAPTCHA
URL:https://www.opuskinetic.com/training/advanced-carbonate-geology-kuala-lumpur-malaysia-7/
LOCATION:Kuala Lumpur\, Federal Territory of Kuala Lumpur\, Kuala Lumpur\, Malaysia
CATEGORIES:Geology
GEO:3.1384965;101.7099933
END:VEVENT
END:VCALENDAR