BEGIN:VCALENDAR
VERSION:2.0
PRODID:-//Opus Kinetic - ECPv6.15.12.2//NONSGML v1.0//EN
CALSCALE:GREGORIAN
METHOD:PUBLISH
X-WR-CALNAME:Opus Kinetic
X-ORIGINAL-URL:https://www.opuskinetic.com
X-WR-CALDESC:Events for Opus Kinetic
REFRESH-INTERVAL;VALUE=DURATION:PT1H
X-Robots-Tag:noindex
X-PUBLISHED-TTL:PT1H
BEGIN:VTIMEZONE
TZID:Asia/Singapore
BEGIN:STANDARD
TZOFFSETFROM:+0800
TZOFFSETTO:+0800
TZNAME:+08
DTSTART:20190101T000000
END:STANDARD
END:VTIMEZONE
BEGIN:VEVENT
DTSTART;VALUE=DATE:20201021
DTEND;VALUE=DATE:20201024
DTSTAMP:20260424T111421
CREATED:20200415T094653Z
LAST-MODIFIED:20200415T094653Z
UID:10000628-1603238400-1603497599@www.opuskinetic.com
SUMMARY:Advanced Basin Analysis Masterclass
DESCRIPTION:Overview\nThis advanced case-study led course is designed to teach participants a process for rapidly screening frontier\nbasin opportunities with minimal data\, with case studies from across the world\, including many African\, Atlantic and South-East Asian Basins. \nThree day modules cover the essentials of basin classification and tectonostratigraphic analysis\, the prediction of\npetroleum system elements (reservoir\, source rocks and seals) and the presentation of a workflow with which the\nprospects of a basin can be rapidly assessed. The most recent world’s frontier discoveries are reviewed in their\nbasin context and key elements are recognised that will identify the frontier discoveries of the future. \nThe lectures are interspersed with numerous case studies analysing the regional controls on the main global\ndiscoveries of the last decade\, some of which will be run as group discussions and guided exercises. This will\nexpand the participants’ knowledge bank of key analogues that can be used to identify and risk new plays in their\nown regions of interest. \nWho Should Attend\nGeologists and geophysicists or exploration managers that are involved in the assessment of new exploration\nopportunities and new country entry\, particularly if working on rifts and or passive margins. The course contents are\non intermediate/advanced level and a basic knowledge of petroleum geology and in particular of petroleum systems is required. \nPotential attendees include: \n\nBasin Management & Analyst\nExploration & Development Department\nGeologists\nGeophysicists\nGeoscientists\nPetroleum Engineers\nReservoir Engineers\nDrilling Engineers\nRisk Management\nResearch & Development\nProject Support & Services\n\nKey Learning Objectives\n\nParticipants will learn how to rapidly differentiate prospective from non-prospective basins using series of key\ntools and techniques\, even in situations where they have limited data and knowledge.\nParticipants will learn how to rapidly compile many key diagrams within a workflow that synthesises the key tectonic and other basin-wide controls on prospectivity.\nThey will learn how to research and apply appropriate analogue basins to their individual areas of interest from around the world\nThey will acquire check-lists of the parameters which most frequently cause basins to succeed or fail\, that they will be able to use in data rooms and in the assessment of licence or farming blocks.\n\nEnquiry Form\n\n\n                 \n \n                        SalutationMr.Miss.Mrs.Mdm.Dr.Prof.Capt.Name\n                            \n                            \n                                                    \n                                                    First\n                                                \n                            \n                            \n                                                    \n                                                    Last\n                                                \n                            \n                        PhoneEmail\n                            \n                        CompanyAdditional Comments:CAPTCHA
URL:https://www.opuskinetic.com/training/advanced-basin-analysis-masterclass-4/
LOCATION:Kuala Lumpur\, Federal Territory of Kuala Lumpur\, Kuala Lumpur\, Malaysia
CATEGORIES:Geology
GEO:3.1384965;101.7099933
END:VEVENT
END:VCALENDAR