BEGIN:VCALENDAR
VERSION:2.0
PRODID:-//Opus Kinetic - ECPv6.15.12.2//NONSGML v1.0//EN
CALSCALE:GREGORIAN
METHOD:PUBLISH
X-ORIGINAL-URL:https://www.opuskinetic.com
X-WR-CALDESC:Events for Opus Kinetic
REFRESH-INTERVAL;VALUE=DURATION:PT1H
X-Robots-Tag:noindex
X-PUBLISHED-TTL:PT1H
BEGIN:VTIMEZONE
TZID:Asia/Singapore
BEGIN:STANDARD
TZOFFSETFROM:+0800
TZOFFSETTO:+0800
TZNAME:+08
DTSTART:20200101T000000
END:STANDARD
END:VTIMEZONE
BEGIN:VEVENT
DTSTART;VALUE=DATE:20210906
DTEND;VALUE=DATE:20210911
DTSTAMP:20260423T175616
CREATED:20210506T092358Z
LAST-MODIFIED:20220103T073127Z
UID:10001197-1630886400-1631318399@www.opuskinetic.com
SUMMARY:Carbonate Reservoirs Masterclass
DESCRIPTION:Why Choose this Training Course\nThe 4-day training course introduces the participants to modern carbonate environments mainly from the Arabian/Persian Gulf and the Caribbean. Discussion of diagenesis explains how carbonate sediment becomes lithified and changed after deposition to provide potential reservoir rocks. Large scale carbonate architectures are discussed and illustrated from a sequence stratigraphic perspective with seismic scale examples. \nThere are numerous illustrations of outcropping carbonates and evaporites from a wide range of depositional settings throughout the Phanerozoic. Porosity and permeability characteristics of carbonates are described. Petrophysical approaches to carbonate reservoir characterization are introduced with emphasis on fracture modelling\, fluid saturation modelling and hydraulic flow units. A selection of carbonate oil and gas models and fields from various parts of the world are discussed. \nWho Should Attend\n\nExploration\, development and production geoscientists\nPetroleum and reservoir engineers\nPetrophysicists\n\nKey Learning Objectives\n\nINTRODUCE oil and gas professionals to modern carbonate environments\nPROVIDE an insight to the complexity of carbonate depositional systems\, including associated evaporites\nEXPLAIN the susceptibility of carbonates to post-depositional (diagenetic) changes\nEXAMINE petrophysical approaches to carbonate reservoir characterization\nPRESENT worldwide case studies of carbonate models and carbonate oil and gas fields\n\nEnquiry Form\n\n\n                 \n \n                        SalutationMr.Ms.Miss.Mrs.Mdm.Dr.Prof.Capt.-Name*\n                            \n                            \n                                                    \n                                                    First\n                                                \n                            \n                            \n                                                    \n                                                    Last\n                                                \n                            \n                        Phone*Email*\n                            \n                        Company*Current Location*    \n                    \n                        \n                                        AfghanistanAlbaniaAlgeriaAmerican SamoaAndorraAngolaAnguillaAntarcticaAntigua and BarbudaArgentinaArmeniaArubaAustraliaAustriaAzerbaijanBahamasBahrainBangladeshBarbadosBelarusBelgiumBelizeBeninBermudaBhutanBoliviaBonaire\, Sint Eustatius and SabaBosnia and HerzegovinaBotswanaBouvet IslandBrazilBritish Indian Ocean TerritoryBrunei DarussalamBulgariaBurkina FasoBurundiCambodiaCameroonCanadaCape VerdeCayman IslandsCentral African RepublicChadChileChinaChristmas IslandCocos IslandsColombiaComorosCongoCongo\, Democratic Republic of theCook IslandsCosta RicaCroatiaCubaCuraçaoCyprusCzechiaCôte d'IvoireDenmarkDjiboutiDominicaDominican RepublicEcuadorEgyptEl SalvadorEquatorial GuineaEritreaEstoniaEswatiniEthiopiaFalkland IslandsFaroe IslandsFijiFinlandFranceFrench GuianaFrench PolynesiaFrench Southern TerritoriesGabonGambiaGeorgiaGermanyGhanaGibraltarGreeceGreenlandGrenadaGuadeloupeGuamGuatemalaGuernseyGuineaGuinea-BissauGuyanaHaitiHeard Island and McDonald IslandsHoly SeeHondurasHong KongHungaryIcelandIndiaIndonesiaIranIraqIrelandIsle of ManIsraelItalyJamaicaJapanJerseyJordanKazakhstanKenyaKiribatiKorea\, Democratic People's Republic ofKorea\, Republic ofKuwaitKyrgyzstanLao People's Democratic RepublicLatviaLebanonLesothoLiberiaLibyaLiechtensteinLithuaniaLuxembourgMacaoMadagascarMalawiMalaysiaMaldivesMaliMaltaMarshall IslandsMartiniqueMauritaniaMauritiusMayotteMexicoMicronesiaMoldovaMonacoMongoliaMontenegroMontserratMoroccoMozambiqueMyanmarNamibiaNauruNepalNetherlandsNew CaledoniaNew ZealandNicaraguaNigerNigeriaNiueNorfolk IslandNorth MacedoniaNorthern Mariana IslandsNorwayOmanPakistanPalauPalestine\, State ofPanamaPapua New GuineaParaguayPeruPhilippinesPitcairnPolandPortugalPuerto RicoQatarRomaniaRussian FederationRwandaRéunionSaint BarthélemySaint Helena\, Ascension and Tristan da CunhaSaint Kitts and NevisSaint LuciaSaint MartinSaint Pierre and MiquelonSaint Vincent and the GrenadinesSamoaSan MarinoSao Tome and PrincipeSaudi ArabiaSenegalSerbiaSeychellesSierra LeoneSingaporeSint MaartenSlovakiaSloveniaSolomon IslandsSomaliaSouth AfricaSouth Georgia and the South Sandwich IslandsSouth SudanSpainSri LankaSudanSurinameSvalbard and Jan MayenSwedenSwitzerlandSyria Arab RepublicTaiwanTajikistanTanzania\, the United Republic ofThailandTimor-LesteTogoTokelauTongaTrinidad and TobagoTunisiaTurkmenistanTurks and Caicos IslandsTuvaluTürkiyeUS Minor Outlying IslandsUgandaUkraineUnited Arab EmiratesUnited KingdomUnited StatesUruguayUzbekistanVanuatuVenezuelaViet NamVirgin Islands\, BritishVirgin Islands\, U.S.Wallis and FutunaWestern SaharaYemenZambiaZimbabweÅland Islands\n                                        Country\n                                    \n                    \n                How many people are you looking at?1 - 2 Standard Rates3 - 5 Group Discount>10 In-House Training\, Huge Savings!Undecided\, need more informationThis is just an approximate number. You can finalise it when you send in the registration form.\n								\n								Send me brochure\n							Comments:CAPTCHA
URL:https://www.opuskinetic.com/training/carbonate-reservoirs-masterclass/2021-09-06/
LOCATION:Virtual Instructor Led Training (VILT)
CATEGORIES:Geology
END:VEVENT
BEGIN:VEVENT
DTSTART;VALUE=DATE:20210920
DTEND;VALUE=DATE:20210925
DTSTAMP:20260423T175616
CREATED:20210304T023511Z
LAST-MODIFIED:20210304T023511Z
UID:10001153-1632096000-1632527999@www.opuskinetic.com
SUMMARY:Advanced Basin Analysis Africa
DESCRIPTION:About this Training Course\nThis advanced case-study led course is designed to teach participants a process for rapidly screening frontier\nbasin opportunities with minimal data\, with case studies from across the world\, including many African and Atlantic  Basins. \nFour day modules cover the essentials of basin classification and tectonostratigraphic analysis\, the prediction of\npetroleum system elements (reservoir\, source rocks and seals) and the presentation of a workflow with which the\nprospects of a basin can be rapidly assessed. The most recent world’s frontier discoveries are reviewed in their\nbasin context and key elements are recognised that will identify the frontier discoveries of the future. \nThe lectures are interspersed with numerous case studies analysing the regional controls on the main global\ndiscoveries of the last decade\, some of which will be run as group discussions and guided exercises. This will\nexpand the participants’ knowledge bank of key analogues that can be used to identify and risk new plays in their\nown regions of interest. \nWho Should Attend\nGeologists and geophysicists or exploration managers that are involved in the assessment of new exploration\nopportunities and new country entry\, particularly if working on rifts and or passive margins. The course contents are\non intermediate/advanced level and a basic knowledge of petroleum geology and in particular of petroleum systems is required. \nPotential attendees include: \n\nBasin Management & Analyst\nExploration & Development Department\nGeologists\nGeophysicists\nGeoscientists\nPetroleum Engineers\nReservoir Engineers\nDrilling Engineers\nRisk Management\nResearch & Development\nProject Support & Services\n\nKey Learning Objectives\n\nParticipants will learn how to rapidly differentiate prospective from non-prospective basins using series of key\ntools and techniques\, even in situations where they have limited data and knowledge.\nParticipants will learn how to rapidly compile many key diagrams within a workflow that synthesises the key tectonic and other basin-wide controls on prospectivity.\nThey will learn how to research and apply appropriate analogue basins to their individual areas of interest from around the world\nThey will acquire check-lists of the parameters which most frequently cause basins to succeed or fail\, that they will be able to use in data rooms and in the assessment of license or farming blocks.\n\nEnquiry Form\n\n                 \n \n                        SalutationMr.Miss.Mrs.Mdm.Dr.Prof.Capt.Name\n                            \n                            \n                                                    \n                                                    First\n                                                \n                            \n                            \n                                                    \n                                                    Last\n                                                \n                            \n                        PhoneEmail\n                            \n                        CompanyAdditional Comments:CAPTCHA
URL:https://www.opuskinetic.com/training/advanced-basin-analysis-africa-5/
LOCATION:Virtual Instructor Led Training (VILT)
CATEGORIES:Geology
END:VEVENT
BEGIN:VEVENT
DTSTART;VALUE=DATE:20210920
DTEND;VALUE=DATE:20210925
DTSTAMP:20260423T175616
CREATED:20210304T030659Z
LAST-MODIFIED:20210304T030659Z
UID:10000756-1632096000-1632527999@www.opuskinetic.com
SUMMARY:Integrated Petrophysics for Carbonate and Fractured Reservoirs
DESCRIPTION:About this Training Course\nThis course presents the Complete Carbonate & Fracture Evaluation Recipe for carbonate petrophysical characterisation\, from Quick Look log analysis to full Core-Log-Test integration. It is also a systematic plan of action for Carbonate Petrophysics\, from data acquisition to core\, log and well test integration\, highlighting the problems and explaining solutions. All data is ranked and located correctly in the workflow\, from drilling and LWD to well tests and the latest hi-tech logs. This recipe provides a definitive set of results and secure basis for decisions for the management of any carbonate or complex reservoir. The course explains how the physical characteristics of Carbonates – tight\, fractured\, vuggy or permeable – present log analysis Failure Points. How to Drill\, Core\, Log\, Test and evaluate specifically to address these failure points is explained via a condensed learning session of interleaved theory\, PetroDB-WEB demos\, workshops and videos. Drilling data\, core\, SCAL\, logs\, LithoScanner\, NMR\, Dielectric\, Sigma\, Acoustic\, Image-logs and MDTs are all briefly explained and fitted together to form the definitive solution for any given data set. The course’s powerful Excel Carbonate Petrophysics Toolbox includes all Workshops\, a detailed Sw cap.press:n calibration\, a vuggy Carbonate QL LAS evaluator\, 100+ Eqns\, PetroDB-WEB extracts\, QL Sigma\, HPV Sensitivities and calculators for Fracture Probability and Fracture Ø & HPV. \nWho Should Attend\nPetrophysicists. Geologists\, Operations Geologists\, Structural Geologists\, Geo-modellers\, Reservoir Engineers\, Well Test Engineers or Core Analysts who use or create petrophysical results for carbonate or “complex” reservoirs. Basic principles are reviewed; however\, a year’s experience information evaluation is desirable. \nKey Learning Objectives\n\nThe physical differences between Carbonates and Clastics and their data response implications.\nUnderstand why extreme pores\, vugs\, fractures and oil wetness occurs in carbonates and how to recognize and treat them.\n\nCarbonate & Fracture petrophysical essentials. The Carbonates Failure Points which must be identified & healed.\n\nWhy fracture well tests can be misleading and what other critical data you must-have?\n\nHow common errors impact results using PetroDB-WEB interactive demos?\n\nHow to acquire and integrate key drilling\, mudlog\, core\, special log and well test data?\nHow to do Quick Look Carbonate Log Analysis and integrate capillary pressures with logs in Excel\, PetroDB WEB\, IP and other software packs?\nHow to derive Reservoir Rock Type Equation Sets and apply them with modern logs?\n\nHow to do thorough\, integrated and robust evaluations in any complex\, conventional reservoir?\n\nHow end-users can critically review complex petrophysical results using the author’s Petrophysical Greenlists?\n\nEnquiry Form\n\n                 \n \n                        SalutationMr.Miss.Mrs.Mdm.Dr.Prof.Capt.Name\n                            \n                            \n                                                    \n                                                    First\n                                                \n                            \n                            \n                                                    \n                                                    Last\n                                                \n                            \n                        PhoneEmail\n                            \n                        CompanyAdditional Comments:CAPTCHA\n          \n            \n            \n            \n            \n            \n            \n            \n            \n            \n            \n            \n            \n            \n        \n                        \n                        \n		                \n		                \n\n 
URL:https://www.opuskinetic.com/training/integrated-petrophysics-for-carbonate-and-fractured-reservoirs-2/
LOCATION:Virtual Instructor Led Training (VILT)
CATEGORIES:Geology
END:VEVENT
END:VCALENDAR