BEGIN:VCALENDAR
VERSION:2.0
PRODID:-//Opus Kinetic - ECPv6.15.12.2//NONSGML v1.0//EN
CALSCALE:GREGORIAN
METHOD:PUBLISH
X-ORIGINAL-URL:https://www.opuskinetic.com
X-WR-CALDESC:Events for Opus Kinetic
REFRESH-INTERVAL;VALUE=DURATION:PT1H
X-Robots-Tag:noindex
X-PUBLISHED-TTL:PT1H
BEGIN:VTIMEZONE
TZID:Asia/Singapore
BEGIN:STANDARD
TZOFFSETFROM:+0800
TZOFFSETTO:+0800
TZNAME:+08
DTSTART:20230101T000000
END:STANDARD
END:VTIMEZONE
BEGIN:VEVENT
DTSTART;VALUE=DATE:20240724
DTEND;VALUE=DATE:20240727
DTSTAMP:20260421T115410
CREATED:20210226T073650Z
LAST-MODIFIED:20240628T030237Z
UID:10001589-1721811600-1722013200@www.opuskinetic.com
SUMMARY:Petroleum Geology of the South and Central Atlantic
DESCRIPTION:Why Choose this Training Course\nThis Atlantic petroleum geology training aims at providing participants with the ‘regional picture’ that controls the complex play systems of the Central and South Atlantic using largely unpublished material gathered from the authors own regional work and attendance at scores of conferences on the region\, many organised by himself. By presenting these regional models during the course and in a detailed manual full of palaeotectonic- paleogeographic maps\, stratigraphic charts and play cross-sections\, the course aims to save participants the equivalents of hundreds of thousands of dollars on mantime conducting regional research\, so that they can then concentrate on their own ventures and prospects. Specific attention is paid to the pre-salt plays of the South Atlantic\, and the complex interrelated tectonic\, depositional and geochemical models that are now being unravelled for these plays. Recent well results are reviewed and explained. The lectures are interspersed with numerous case studies analysing each of the key regional controls\, some of which will be run as group discussions and guided exercises. \nWho Should Attend\nGeologists and geophysicists or exploration managers that are involved in the assessment of new exploration opportunities\, acreage and prospects in the Central or South Atlantic. This is an advanced level Atlantic petroleum geology training course and a basic knowledge of petroleum geology and in particular of petroleum systems is required. \n\nExploration & Development Department\nGeologists\nGeophysicists\nExploration Managers\nGeoscientists\nPetroleum Engineers\n\nKey Learning Objectives\n\nParticipants will be provided with the regional picture controlling prospectivity in pre-salt\, rift and post-rift/salt plays\, enabling them to concentrate in their own work on local and prospect specific issues\nParticipants will learn how the tectonic and heat flow history of the region\, and in particular processes preceding and during continental break-up\, control the prospectivity of the South and Central Atlantic\nSpecific attention is given to the complex controls on pre-salt plays on both sides of the Atlantic.\nParticipants will learn how to screen for both pre-salt clastic and carbonate plays and avoid regions with downgrading influences such as early high heat flow and gas generation.\nFor post-salt plays the key objective is to learn how to screen for thick effective reservoirs though the understanding of regional sediment/reservoir supply and integrate this with seismic attribute analysis.\nParticipants will learn how to apply ‘data room checklists’ to rapidly assess opportunities presented to them in this region\n\nEnquiry Form\n\n\n                 \n \n                        SalutationMr.Ms.Miss.Mrs.Mdm.Dr.Prof.Capt.-Name*\n                            \n                            \n                                                    \n                                                    First\n                                                \n                            \n                            \n                                                    \n                                                    Last\n                                                \n                            \n                        Phone*Email*\n                            \n                        Company*Current Location*    \n                    \n                        \n                                        AfghanistanAlbaniaAlgeriaAmerican SamoaAndorraAngolaAnguillaAntarcticaAntigua and BarbudaArgentinaArmeniaArubaAustraliaAustriaAzerbaijanBahamasBahrainBangladeshBarbadosBelarusBelgiumBelizeBeninBermudaBhutanBoliviaBonaire\, Sint Eustatius and SabaBosnia and HerzegovinaBotswanaBouvet IslandBrazilBritish Indian Ocean TerritoryBrunei DarussalamBulgariaBurkina FasoBurundiCambodiaCameroonCanadaCape VerdeCayman IslandsCentral African RepublicChadChileChinaChristmas IslandCocos IslandsColombiaComorosCongoCongo\, Democratic Republic of theCook IslandsCosta RicaCroatiaCubaCuraçaoCyprusCzechiaCôte d'IvoireDenmarkDjiboutiDominicaDominican RepublicEcuadorEgyptEl SalvadorEquatorial GuineaEritreaEstoniaEswatiniEthiopiaFalkland IslandsFaroe IslandsFijiFinlandFranceFrench GuianaFrench PolynesiaFrench Southern TerritoriesGabonGambiaGeorgiaGermanyGhanaGibraltarGreeceGreenlandGrenadaGuadeloupeGuamGuatemalaGuernseyGuineaGuinea-BissauGuyanaHaitiHeard Island and McDonald IslandsHoly SeeHondurasHong KongHungaryIcelandIndiaIndonesiaIranIraqIrelandIsle of ManIsraelItalyJamaicaJapanJerseyJordanKazakhstanKenyaKiribatiKorea\, Democratic People's Republic ofKorea\, Republic ofKuwaitKyrgyzstanLao People's Democratic RepublicLatviaLebanonLesothoLiberiaLibyaLiechtensteinLithuaniaLuxembourgMacaoMadagascarMalawiMalaysiaMaldivesMaliMaltaMarshall IslandsMartiniqueMauritaniaMauritiusMayotteMexicoMicronesiaMoldovaMonacoMongoliaMontenegroMontserratMoroccoMozambiqueMyanmarNamibiaNauruNepalNetherlandsNew CaledoniaNew ZealandNicaraguaNigerNigeriaNiueNorfolk IslandNorth MacedoniaNorthern Mariana IslandsNorwayOmanPakistanPalauPalestine\, State ofPanamaPapua New GuineaParaguayPeruPhilippinesPitcairnPolandPortugalPuerto RicoQatarRomaniaRussian FederationRwandaRéunionSaint BarthélemySaint Helena\, Ascension and Tristan da CunhaSaint Kitts and NevisSaint LuciaSaint MartinSaint Pierre and MiquelonSaint Vincent and the GrenadinesSamoaSan MarinoSao Tome and PrincipeSaudi ArabiaSenegalSerbiaSeychellesSierra LeoneSingaporeSint MaartenSlovakiaSloveniaSolomon IslandsSomaliaSouth AfricaSouth Georgia and the South Sandwich IslandsSouth SudanSpainSri LankaSudanSurinameSvalbard and Jan MayenSwedenSwitzerlandSyria Arab RepublicTaiwanTajikistanTanzania\, the United Republic ofThailandTimor-LesteTogoTokelauTongaTrinidad and TobagoTunisiaTurkmenistanTurks and Caicos IslandsTuvaluTürkiyeUS Minor Outlying IslandsUgandaUkraineUnited Arab EmiratesUnited KingdomUnited StatesUruguayUzbekistanVanuatuVenezuelaViet NamVirgin Islands\, BritishVirgin Islands\, U.S.Wallis and FutunaWestern SaharaYemenZambiaZimbabweÅland Islands\n                                        Country\n                                    \n                    \n                How many people are you looking at?1 - 2 Standard Rates3 - 5 Group Discount>10 In-House Training\, Huge Savings!Undecided\, need more informationThis is just an approximate number. You can finalise it when you send in the registration form.\n								\n								Send me brochure\n							Comments:CAPTCHA
URL:https://www.opuskinetic.com/training/petroleum-geology-of-the-south-and-central-atlantic-10/2024-07-24/
LOCATION:Kuala Lumpur\, Federal Territory of Kuala Lumpur\, Kuala Lumpur\, Malaysia
CATEGORIES:Geology
ATTACH;FMTTYPE=image/png:https://www.opuskinetic.com/wp-content/uploads/2021/02/petroleum-geology-atlantic-fi1.png
ORGANIZER;CN="Opus Kinetic Pte Ltd":MAILTO:info@opuskinetic.com
GEO:3.1384965;101.7099933
END:VEVENT
BEGIN:VEVENT
DTSTART;VALUE=DATE:20240729
DTEND;VALUE=DATE:20240801
DTSTAMP:20260421T115410
CREATED:20210527T041323Z
LAST-MODIFIED:20231207T061022Z
UID:10001590-1722243600-1722445200@www.opuskinetic.com
SUMMARY:Petroleum Geology of Deepwater West and East Africa
DESCRIPTION:Why Choose this Training Course\nThis Africa basin analysis training course are set at a moderate scientific level suitable for young geologists working on these regions. It is targeted at more advanced staff working on the specific countries listed. The aim is to deliver the regional picture controlling African frontier opportunities so that staffs from the companies attending gain a head start in evaluating specific opportunities such as licence rounds and farmout. Secondly\, the course will help companies focus on the opportunities most likely to succeed that are consistent with their own strategies and finances. \nWho Should Attend\nAll disciplines that interact with geologists and geophysicists. \n\nGeologists\nGeophysicists\nExploration Managers\n\nKey Learning Objectives\n\nParticipants will gain a regional overview of the main controls on the development of source\, reservoir\, trap and seal in deepwater areas around Africa.\nThis will include key controls exerted by the onshore tectonic history of the African continent\, such as those controlled the development of ‘source to sink’ reservoir factories.\nThis will include a review of known and speculative source rock occurrences n deepwater settings\, in addition to apparent relationships between source rock volumetrics\, effective migration and seal in stratigraphic settings.\nSpecific basins specified by the client will be addressed in greater detail\, namely Gabon\, Congo\, Senegal\, Mauritania\, Madagascar\, Mozambique\, Kenya and Tanzania.\nGiven recent disappointing well results in the region\, participants will learn a methodology to identify\, analyse and reduce risk in the most promising and effective petroleum system settings.\nThere will be particular emphasis on the thermal regime and how gas rather than oil opportunities can be identified.\nOptional fourth and fifth days can\, if the client wishes\, be arranged to transfer\, deliver and present the authors GIS database on the region and to extend the regions considered to the Eastern Mediterranean.\n\nEnquiry Form\n\n                 \n \n                        SalutationMr.Ms.Miss.Mrs.Mdm.Dr.Prof.Capt.-Name*\n                            \n                            \n                                                    \n                                                    First\n                                                \n                            \n                            \n                                                    \n                                                    Last\n                                                \n                            \n                        Phone*Email*\n                            \n                        Company*Current Location*    \n                    \n                        \n                                        AfghanistanAlbaniaAlgeriaAmerican SamoaAndorraAngolaAnguillaAntarcticaAntigua and BarbudaArgentinaArmeniaArubaAustraliaAustriaAzerbaijanBahamasBahrainBangladeshBarbadosBelarusBelgiumBelizeBeninBermudaBhutanBoliviaBonaire\, Sint Eustatius and SabaBosnia and HerzegovinaBotswanaBouvet IslandBrazilBritish Indian Ocean TerritoryBrunei DarussalamBulgariaBurkina FasoBurundiCambodiaCameroonCanadaCape VerdeCayman IslandsCentral African RepublicChadChileChinaChristmas IslandCocos IslandsColombiaComorosCongoCongo\, Democratic Republic of theCook IslandsCosta RicaCroatiaCubaCuraçaoCyprusCzechiaCôte d'IvoireDenmarkDjiboutiDominicaDominican RepublicEcuadorEgyptEl SalvadorEquatorial GuineaEritreaEstoniaEswatiniEthiopiaFalkland IslandsFaroe IslandsFijiFinlandFranceFrench GuianaFrench PolynesiaFrench Southern TerritoriesGabonGambiaGeorgiaGermanyGhanaGibraltarGreeceGreenlandGrenadaGuadeloupeGuamGuatemalaGuernseyGuineaGuinea-BissauGuyanaHaitiHeard Island and McDonald IslandsHoly SeeHondurasHong KongHungaryIcelandIndiaIndonesiaIranIraqIrelandIsle of ManIsraelItalyJamaicaJapanJerseyJordanKazakhstanKenyaKiribatiKorea\, Democratic People's Republic ofKorea\, Republic ofKuwaitKyrgyzstanLao People's Democratic RepublicLatviaLebanonLesothoLiberiaLibyaLiechtensteinLithuaniaLuxembourgMacaoMadagascarMalawiMalaysiaMaldivesMaliMaltaMarshall IslandsMartiniqueMauritaniaMauritiusMayotteMexicoMicronesiaMoldovaMonacoMongoliaMontenegroMontserratMoroccoMozambiqueMyanmarNamibiaNauruNepalNetherlandsNew CaledoniaNew ZealandNicaraguaNigerNigeriaNiueNorfolk IslandNorth MacedoniaNorthern Mariana IslandsNorwayOmanPakistanPalauPalestine\, State ofPanamaPapua New GuineaParaguayPeruPhilippinesPitcairnPolandPortugalPuerto RicoQatarRomaniaRussian FederationRwandaRéunionSaint BarthélemySaint Helena\, Ascension and Tristan da CunhaSaint Kitts and NevisSaint LuciaSaint MartinSaint Pierre and MiquelonSaint Vincent and the GrenadinesSamoaSan MarinoSao Tome and PrincipeSaudi ArabiaSenegalSerbiaSeychellesSierra LeoneSingaporeSint MaartenSlovakiaSloveniaSolomon IslandsSomaliaSouth AfricaSouth Georgia and the South Sandwich IslandsSouth SudanSpainSri LankaSudanSurinameSvalbard and Jan MayenSwedenSwitzerlandSyria Arab RepublicTaiwanTajikistanTanzania\, the United Republic ofThailandTimor-LesteTogoTokelauTongaTrinidad and TobagoTunisiaTurkmenistanTurks and Caicos IslandsTuvaluTürkiyeUS Minor Outlying IslandsUgandaUkraineUnited Arab EmiratesUnited KingdomUnited StatesUruguayUzbekistanVanuatuVenezuelaViet NamVirgin Islands\, BritishVirgin Islands\, U.S.Wallis and FutunaWestern SaharaYemenZambiaZimbabweÅland Islands\n                                        Country\n                                    \n                    \n                How many people are you looking at?1 - 2 Standard Rates3 - 5 Group Discount>10 In-House Training\, Huge Savings!Undecided\, need more informationThis is just an approximate number. You can finalise it when you send in the registration form.\n								\n								Send me brochure\n							Comments:CAPTCHA
URL:https://www.opuskinetic.com/training/petroleum-geology-of-deepwater-west-and-east-africa-2/2024-07-29/
LOCATION:Kuala Lumpur\, Federal Territory of Kuala Lumpur\, Kuala Lumpur\, Malaysia
CATEGORIES:Geology,Oil/Gas/Petrochemicals
ATTACH;FMTTYPE=image/png:https://www.opuskinetic.com/wp-content/uploads/2021/05/africa-fi1.png
ORGANIZER;CN="Opus Kinetic Pte Ltd":MAILTO:info@opuskinetic.com
GEO:3.1384965;101.7099933
END:VEVENT
END:VCALENDAR