BEGIN:VCALENDAR
VERSION:2.0
PRODID:-//Opus Kinetic - ECPv6.15.12.2//NONSGML v1.0//EN
CALSCALE:GREGORIAN
METHOD:PUBLISH
X-ORIGINAL-URL:https://www.opuskinetic.com
X-WR-CALDESC:Events for Opus Kinetic
REFRESH-INTERVAL;VALUE=DURATION:PT1H
X-Robots-Tag:noindex
X-PUBLISHED-TTL:PT1H
BEGIN:VTIMEZONE
TZID:Asia/Singapore
BEGIN:STANDARD
TZOFFSETFROM:+0800
TZOFFSETTO:+0800
TZNAME:+08
DTSTART:20200101T000000
END:STANDARD
END:VTIMEZONE
BEGIN:VEVENT
DTSTART;VALUE=DATE:20210216
DTEND;VALUE=DATE:20210219
DTSTAMP:20260424T000149
CREATED:20201021T063947Z
LAST-MODIFIED:20201021T063947Z
UID:10001072-1613433600-1613692799@www.opuskinetic.com
SUMMARY:Effective Incident Investigation and Reporting
DESCRIPTION:Overview\nInvestigating a worksite incident – a fatality\, injury\, illness\, or close call – provides employers and workers the opportunity to identify hazards in their operations and shortcomings in their safety and health programs. Most importantly\, it enables employers and workers to identify and implement the corrective actions necessary to prevent future incidents.  \nIncident investigations that focus on identifying and correcting root causes\, not on finding fault or blame\, also improve workplace morale and increase productivity\, by demonstrating an employer’s commitment to a safe and healthful workplace. \nThis course provides the delegates with an overview of incident investigation. The motivation for this course is to outline a procedure of incident investigation that is objective and satisfies most regulatory requirements. The aim is to learn the lessons\, determine the root cause of the incident and develop effective measures to avoid such incidents in future.  \nWho Should Attend\n\nO&M (Operations and Maintenance) professionals who are keen to attain a holistic and integrated overview of incident investigation and reporting\nHSE Staff\, Support Functions Professionals\, Administration Managers\, Procurement Managers\, Finance Executives\, Corporate Services Executives\nLabor Union representatives\nERM (Enterprise Risk Management) Professionals\nCorporate Planning Professionals\n\nKey Learning Objectives\nAt the end of this four day program\, participants will be able to: \n\nAchieve a comprehensive overview of incident investigation and reporting\nLearn how to use effective investigation and interviewing techniques to gather complete\, objective and accurate data\nDevelop understanding of how to analyzing incidents to identify root causes\nGet awareness about the human relations aspects of incident reporting\nDetermine which data to include in investigation reports\nDevelop understanding of Hazard control measures and follow-up\n\n  \nEnquiry Form\n\n\n                 \n \n                        SalutationMr.Miss.Mrs.Mdm.Dr.Prof.Capt.Name\n                            \n                            \n                                                    \n                                                    First\n                                                \n                            \n                            \n                                                    \n                                                    Last\n                                                \n                            \n                        PhoneEmail\n                            \n                        CompanyAdditional Comments:CAPTCHA
URL:https://www.opuskinetic.com/training/effective-incident-investigation-and-reporting-5/
LOCATION:Virtual Instructor Led Training (VILT)
CATEGORIES:HSE and Process Safety,Oil/Gas/Petrochemicals
END:VEVENT
BEGIN:VEVENT
DTSTART;VALUE=DATE:20210222
DTEND;VALUE=DATE:20210226
DTSTAMP:20260424T000149
CREATED:20201022T025937Z
LAST-MODIFIED:20210225T055329Z
UID:10001076-1613952000-1614297599@www.opuskinetic.com
SUMMARY:TÜV Rheinland Functional Safety Engineer Safety Instrumented Systems: FS Engineering (TÜV Rheinland) SIS
DESCRIPTION:About this Training Course\nThis training focuses on functional safety aspects for process\, oil & gas\, petrochemical and chemical industries according to IEC 61508 / IEC 61511. This includes the complete safety lifecycle in the context of Safety Instrumented Systems (SIS) projects.\n \nThese courses comprise of classroom tuition and practical guidance\, for understanding and mastering the application\, principles and requirements of Edition 2 IEC 61508 & Edition 2 of IEC 61511 for SIS. We also include many fundamental topics that we know you need to understand\, but are not covered in the standards. Practical exercises will be performed throughout the course based on real-life examples. There is a 4-hour competency examination on the last day. \nWho Should Attend\nInstrument Engineer\, Process Engineers\, Process Safety Engineers and Safety Engineers as well as senior Operating and Maintenance personnel who are involved in any of the safety lifecycle phases for safety instrumented systems from hazard and risk analysis through the design of shutdown systems/fire and gas systems to installation\, commissioning\, testing and maintenance. \nEnquiry Form\n\n                 \n \n                        SalutationMr.Miss.Mrs.Mdm.Dr.Prof.Capt.Name\n                            \n                            \n                                                    \n                                                    First\n                                                \n                            \n                            \n                                                    \n                                                    Last\n                                                \n                            \n                        PhoneEmail\n                            \n                        CompanyAdditional Comments:CAPTCHA
URL:https://www.opuskinetic.com/training/tuv-rheinland-functional-safety-engineer-safety-instrumented-systems-fs-engineering-tuv-rheinland-sis-8/
LOCATION:Virtual Instructor Led Training (VILT)
CATEGORIES:HSE and Process Safety
END:VEVENT
END:VCALENDAR