BEGIN:VCALENDAR
VERSION:2.0
PRODID:-//Opus Kinetic - ECPv6.15.12.2//NONSGML v1.0//EN
CALSCALE:GREGORIAN
METHOD:PUBLISH
X-WR-CALNAME:Opus Kinetic
X-ORIGINAL-URL:https://www.opuskinetic.com
X-WR-CALDESC:Events for Opus Kinetic
REFRESH-INTERVAL;VALUE=DURATION:PT1H
X-Robots-Tag:noindex
X-PUBLISHED-TTL:PT1H
BEGIN:VTIMEZONE
TZID:Asia/Singapore
BEGIN:STANDARD
TZOFFSETFROM:+0800
TZOFFSETTO:+0800
TZNAME:+08
DTSTART:20200101T000000
END:STANDARD
END:VTIMEZONE
BEGIN:VEVENT
DTSTART;VALUE=DATE:20211108
DTEND;VALUE=DATE:20211112
DTSTAMP:20260423T110527
CREATED:20210527T035131Z
LAST-MODIFIED:20210527T035131Z
UID:10000791-1636329600-1636675199@www.opuskinetic.com
SUMMARY:Best Practices in HSE Management
DESCRIPTION:About this Training Course\nThe management of the risks associated with Health\, Safety and Environmental HSE  threats to a business is becoming increasingly complex and as part of any credible global business\, needs to be managed at all levels of the business\, with leadership provided by an Executive Team\, supported by the Board of Directors\, in a consistent\, systematic manner. \nHistory also demonstrates\, that in many instances major accident events can result in consequences beyond what the management envisage\, resulting in a situation that escalates beyond the capacity of the company to recover both financially and reputationally. The 2010 Deepwater well blow-out accident is an example\, whereby the company had to deal with a significant financial penalty associated with the environmental impact that stretched the capacity of the company to maintain operations\, in addition to managing the personnel casualties and reputation damage. \nDuring this four-day course\, participants will discover the real HSE challenges that face the Executive Management team and their sub-ordinate managers and staff within a global business developing and operating any high hazard facility\, but with a focus on the upstream\, mid-stream and downstream oil\, gas and petrochemicals business segments. The course will describe industry HSE management systems\, to cater for both occupational and process safety hazards and the specific aspects requiring control to ensure risks are controlled to As Low as Is Reasonably Practicable\, ALARP\, through the people\, processes and plant utilised in the business.  \nWho Should Attend\n\nExecutive leaders in the oil\, gas\, petrochemicals and other major hazards industries\nCorporate HSE directors\, managers and advisors\nOperational HSE managers and advisors\nQuality managers and engineers\nAsset integrity managers and engineers\nMaintenance managers and engineers\nQuality assurance managers and quality control inspectors\nProcess safety managers and specialists\nProject managers and engineers\n\nKey Learning Objectives\n\nLearn best practices used by major global companies in the development of occupational and major hazard HSE management systems.\n\nGain in depth knowledge from a recognized expert in investigating major accidents\, including incident reporting\, data gathering\, taking witness statements and the application of incident causation analysis.\nUnderstand how to develop organizational structures and HSE critical competency to ensure businesses reduce HSE risks and create High Reliability Organisations\, HROs\nLearn about the regulatory framework applicable in various regions of the world and how companies develop and manage their Regulatory Compliance Plans for projects and operations\, essential to maintaining their licence to operate.\nBuild knowledge of how Executive Teams and their line functional managers control HSE risks in the business and how HSE Managers conduct annual ISO Management Reviews and the definition and reporting of Key Performance Indicators \nGain knowledge of technical safety concepts applied to major hazards\, bow-tie developments for barrier management and the importance of leadership and managing human factors to ensure risks are controlled ALARP  \n\nEnquiry Form\n\n\n                 \n \n                        SalutationMr.Miss.Mrs.Mdm.Dr.Prof.Capt.Name\n                            \n                            \n                                                    \n                                                    First\n                                                \n                            \n                            \n                                                    \n                                                    Last\n                                                \n                            \n                        PhoneEmail\n                            \n                        CompanyAdditional Comments:CAPTCHA\n          \n            \n            \n            \n            \n            \n            \n            \n            \n            \n            \n            \n            \n            \n        \n                        \n                        \n		                \n		                \n \n 
URL:https://www.opuskinetic.com/training/best-practices-in-hse-management-3/
LOCATION:Virtual Instructor Led Training (VILT)
CATEGORIES:HSE and Process Safety,Oil/Gas/Petrochemicals
END:VEVENT
END:VCALENDAR