BEGIN:VCALENDAR
VERSION:2.0
PRODID:-//Opus Kinetic - ECPv6.15.12.2//NONSGML v1.0//EN
CALSCALE:GREGORIAN
METHOD:PUBLISH
X-ORIGINAL-URL:https://www.opuskinetic.com
X-WR-CALDESC:Events for Opus Kinetic
REFRESH-INTERVAL;VALUE=DURATION:PT1H
X-Robots-Tag:noindex
X-PUBLISHED-TTL:PT1H
BEGIN:VTIMEZONE
TZID:Asia/Singapore
BEGIN:STANDARD
TZOFFSETFROM:+0800
TZOFFSETTO:+0800
TZNAME:+08
DTSTART:20210101T000000
END:STANDARD
END:VTIMEZONE
BEGIN:VEVENT
DTSTART;VALUE=DATE:20220221
DTEND;VALUE=DATE:20220224
DTSTAMP:20260423T063710
CREATED:20211213T045529Z
LAST-MODIFIED:20250513T092330Z
UID:10001388-1645401600-1645660799@www.opuskinetic.com
SUMMARY:Gas Explosion Hazards\, Fire Detection and Protection Systems Design for Oil and Gas
DESCRIPTION:Why Choose this Training Course\nThis gas explosion training course is designed to provide an insight into the major drivers into fire and explosion hazard risk\, and the various methods of preventing and mitigating such risk. The course will discuss quantitative consequence analysis\, such as vapor dispersion modelling\, vapor cloud explosion modelling\, fire modelling\, and presents the details necessary to perform such analyses. In addition\, it will focus on the fire and gas detection systems for oﬀshore and onshore process areas\, and how such systems can be used to lower the overall explosion risk to facilities.  \nThe gas explosion training course will demonstrate how performance based designs can be used to evaluate the eﬀectiveness of a fire and gas detection system\, but will not provide comprehensive instruction on designing such systems.  \nWho Should Attend\nThis gas explosion training course will be of interest to safety engineers\, managers\, supervisors\, and other personnel involved in the design\, operation or modification of oﬀshore oil and gas facilities (FLNGs\, platforms\, FPSOs\, etc.)\, as well as\, onshore processing facilities. The course also provides key factors\, tools and techniques in fire and gas system management in order to enhance the reliability and safety of your safety network. These factors and techniques will focus on their eﬀect on performance based design. The course will provide case studies on how preventive and protective measures can reduce the fire and explosion risk at petrochemical facilities. One case study of interest will discuss the benefits gas detection optimization to not only enhance performance but minimize unwanted and costly false alarm shutdowns. \nKey Learning Objectives\n\nBe aware of oﬀshore release and accident statistics and some important oﬀshore and petrochemical accidents\n\nUnderstand the accident chain of events and important parameters aﬀecting gas release and dispersion\n\nUnderstand the basics and important parameters governing vapor cloud explosions (VCEs)\n\nUnderstand and be aware of various preventive measures to reduce the occurrence of accidents and various mitigation and control techniques to reduce gas explosion consequences\n\nLearn about the various explosion modeling techniques that may be applied and understand the importance of using advance 3D modelling for fire and gas explosion analyses\n\nReview the fire and gas system design methods and guidelines that are currently available including their strengths and limitations\n\nUnderstand quantitative consequences analysis and how it is employed in performance-based fire and gas system engineering\n\nAnalyze the impact on overall risk of consequence scenarios and the beneficial eﬀect of fire and gas systems using consequence integration\n\nUnderstand the impact of mitigating the consequences of fire and gas release events on the overall process plant risk and the diﬀerence between prevention and mitigation\n\nEnquiry Form\n\n\n                 \n \n                        SalutationMr.Ms.Miss.Mrs.Mdm.Dr.Prof.Capt.-Name*\n                            \n                            \n                                                    \n                                                    First\n                                                \n                            \n                            \n                                                    \n                                                    Last\n                                                \n                            \n                        Phone*Email*\n                            \n                        Company*Current Location*    \n                    \n                        \n                                        AfghanistanAlbaniaAlgeriaAmerican SamoaAndorraAngolaAnguillaAntarcticaAntigua and BarbudaArgentinaArmeniaArubaAustraliaAustriaAzerbaijanBahamasBahrainBangladeshBarbadosBelarusBelgiumBelizeBeninBermudaBhutanBoliviaBonaire\, Sint Eustatius and SabaBosnia and HerzegovinaBotswanaBouvet IslandBrazilBritish Indian Ocean TerritoryBrunei DarussalamBulgariaBurkina FasoBurundiCambodiaCameroonCanadaCape VerdeCayman IslandsCentral African RepublicChadChileChinaChristmas IslandCocos IslandsColombiaComorosCongoCongo\, Democratic Republic of theCook IslandsCosta RicaCroatiaCubaCuraçaoCyprusCzechiaCôte d'IvoireDenmarkDjiboutiDominicaDominican RepublicEcuadorEgyptEl SalvadorEquatorial GuineaEritreaEstoniaEswatiniEthiopiaFalkland IslandsFaroe IslandsFijiFinlandFranceFrench GuianaFrench PolynesiaFrench Southern TerritoriesGabonGambiaGeorgiaGermanyGhanaGibraltarGreeceGreenlandGrenadaGuadeloupeGuamGuatemalaGuernseyGuineaGuinea-BissauGuyanaHaitiHeard Island and McDonald IslandsHoly SeeHondurasHong KongHungaryIcelandIndiaIndonesiaIranIraqIrelandIsle of ManIsraelItalyJamaicaJapanJerseyJordanKazakhstanKenyaKiribatiKorea\, Democratic People's Republic ofKorea\, Republic ofKuwaitKyrgyzstanLao People's Democratic RepublicLatviaLebanonLesothoLiberiaLibyaLiechtensteinLithuaniaLuxembourgMacaoMadagascarMalawiMalaysiaMaldivesMaliMaltaMarshall IslandsMartiniqueMauritaniaMauritiusMayotteMexicoMicronesiaMoldovaMonacoMongoliaMontenegroMontserratMoroccoMozambiqueMyanmarNamibiaNauruNepalNetherlandsNew CaledoniaNew ZealandNicaraguaNigerNigeriaNiueNorfolk IslandNorth MacedoniaNorthern Mariana IslandsNorwayOmanPakistanPalauPalestine\, State ofPanamaPapua New GuineaParaguayPeruPhilippinesPitcairnPolandPortugalPuerto RicoQatarRomaniaRussian FederationRwandaRéunionSaint BarthélemySaint Helena\, Ascension and Tristan da CunhaSaint Kitts and NevisSaint LuciaSaint MartinSaint Pierre and MiquelonSaint Vincent and the GrenadinesSamoaSan MarinoSao Tome and PrincipeSaudi ArabiaSenegalSerbiaSeychellesSierra LeoneSingaporeSint MaartenSlovakiaSloveniaSolomon IslandsSomaliaSouth AfricaSouth Georgia and the South Sandwich IslandsSouth SudanSpainSri LankaSudanSurinameSvalbard and Jan MayenSwedenSwitzerlandSyria Arab RepublicTaiwanTajikistanTanzania\, the United Republic ofThailandTimor-LesteTogoTokelauTongaTrinidad and TobagoTunisiaTurkmenistanTurks and Caicos IslandsTuvaluTürkiyeUS Minor Outlying IslandsUgandaUkraineUnited Arab EmiratesUnited KingdomUnited StatesUruguayUzbekistanVanuatuVenezuelaViet NamVirgin Islands\, BritishVirgin Islands\, U.S.Wallis and FutunaWestern SaharaYemenZambiaZimbabweÅland Islands\n                                        Country\n                                    \n                    \n                How many people are you looking at?1 - 2 Standard Rates3 - 5 Group Discount>10 In-House Training\, Huge Savings!Undecided\, need more informationThis is just an approximate number. You can finalise it when you send in the registration form.\n								\n								Send me brochure\n							Comments:CAPTCHA
URL:https://www.opuskinetic.com/training/gas-explosion-hazards-fire-detection-and-protection-systems-design-for-oil-and-gas-5/2022-02-21/
LOCATION:Kuala Lumpur\, Federal Territory of Kuala Lumpur\, Kuala Lumpur\, Malaysia
CATEGORIES:HSE and Process Safety,Oil/Gas/Petrochemicals
ATTACH;FMTTYPE=image/png:https://www.opuskinetic.com/wp-content/uploads/2021/12/gas-explosion-fi1.png
ORGANIZER;CN="Opus Kinetic Pte Ltd":MAILTO:info@opuskinetic.com
GEO:3.1384965;101.7099933
END:VEVENT
BEGIN:VEVENT
DTSTART;VALUE=DATE:20220221
DTEND;VALUE=DATE:20220225
DTSTAMP:20260423T063710
CREATED:20210506T060948Z
LAST-MODIFIED:20220106T021803Z
UID:10001183-1645401600-1645747199@www.opuskinetic.com
SUMMARY:Effective Incident Investigation and Reporting
DESCRIPTION:Why Choose this Training Course\nThis is a 4-day training course. Investigating a worksite incident – a fatality\, injury\, illness\, or close call – provides employers and workers the opportunity to identify hazards in their operations and shortcomings in their safety and health programs. Most importantly\, it enables employers and workers to identify and implement the corrective actions necessary to prevent future incidents.  \nIncident investigations that focus on identifying and correcting root causes\, not on finding fault or blame\, also improve workplace morale and increase productivity\, by demonstrating an employer’s commitment to a safe and healthful workplace. \nThis course provides the delegates with an overview of incident investigation. The motivation for this course is to outline a procedure of incident investigation that is objective and satisfies most regulatory requirements. The aim is to learn the lessons\, determine the root cause of the incident and develop effective measures to avoid such incidents in future.  \nWho Should Attend\n\nO&M (Operations and Maintenance) professionals who are keen to attain a holistic and integrated overview of incident investigation and reporting\nHSE Staff\, Support Functions Professionals\, Administration Managers\, Procurement Managers\, Finance Executives\, Corporate Services Executives\nLabor Union representatives\nERM (Enterprise Risk Management) Professionals\nCorporate Planning Professionals\n\nKey Learning Objectives\nAt the end of this four day program\, participants will be able to: \n\nAchieve a comprehensive overview of incident investigation and reporting\nLearn how to use effective investigation and interviewing techniques to gather complete\, objective and accurate data\nDevelop understanding of how to analyzing incidents to identify root causes\nGet awareness about the human relations aspects of incident reporting\nDetermine which data to include in investigation reports\nDevelop understanding of Hazard control measures and follow-up\n\nEnquiry Form\n\n                 \n \n                        SalutationMr.Ms.Miss.Mrs.Mdm.Dr.Prof.Capt.-Name*\n                            \n                            \n                                                    \n                                                    First\n                                                \n                            \n                            \n                                                    \n                                                    Last\n                                                \n                            \n                        Phone*Email*\n                            \n                        Company*Current Location*    \n                    \n                        \n                                        AfghanistanAlbaniaAlgeriaAmerican SamoaAndorraAngolaAnguillaAntarcticaAntigua and BarbudaArgentinaArmeniaArubaAustraliaAustriaAzerbaijanBahamasBahrainBangladeshBarbadosBelarusBelgiumBelizeBeninBermudaBhutanBoliviaBonaire\, Sint Eustatius and SabaBosnia and HerzegovinaBotswanaBouvet IslandBrazilBritish Indian Ocean TerritoryBrunei DarussalamBulgariaBurkina FasoBurundiCambodiaCameroonCanadaCape VerdeCayman IslandsCentral African RepublicChadChileChinaChristmas IslandCocos IslandsColombiaComorosCongoCongo\, Democratic Republic of theCook IslandsCosta RicaCroatiaCubaCuraçaoCyprusCzechiaCôte d'IvoireDenmarkDjiboutiDominicaDominican RepublicEcuadorEgyptEl SalvadorEquatorial GuineaEritreaEstoniaEswatiniEthiopiaFalkland IslandsFaroe IslandsFijiFinlandFranceFrench GuianaFrench PolynesiaFrench Southern TerritoriesGabonGambiaGeorgiaGermanyGhanaGibraltarGreeceGreenlandGrenadaGuadeloupeGuamGuatemalaGuernseyGuineaGuinea-BissauGuyanaHaitiHeard Island and McDonald IslandsHoly SeeHondurasHong KongHungaryIcelandIndiaIndonesiaIranIraqIrelandIsle of ManIsraelItalyJamaicaJapanJerseyJordanKazakhstanKenyaKiribatiKorea\, Democratic People's Republic ofKorea\, Republic ofKuwaitKyrgyzstanLao People's Democratic RepublicLatviaLebanonLesothoLiberiaLibyaLiechtensteinLithuaniaLuxembourgMacaoMadagascarMalawiMalaysiaMaldivesMaliMaltaMarshall IslandsMartiniqueMauritaniaMauritiusMayotteMexicoMicronesiaMoldovaMonacoMongoliaMontenegroMontserratMoroccoMozambiqueMyanmarNamibiaNauruNepalNetherlandsNew CaledoniaNew ZealandNicaraguaNigerNigeriaNiueNorfolk IslandNorth MacedoniaNorthern Mariana IslandsNorwayOmanPakistanPalauPalestine\, State ofPanamaPapua New GuineaParaguayPeruPhilippinesPitcairnPolandPortugalPuerto RicoQatarRomaniaRussian FederationRwandaRéunionSaint BarthélemySaint Helena\, Ascension and Tristan da CunhaSaint Kitts and NevisSaint LuciaSaint MartinSaint Pierre and MiquelonSaint Vincent and the GrenadinesSamoaSan MarinoSao Tome and PrincipeSaudi ArabiaSenegalSerbiaSeychellesSierra LeoneSingaporeSint MaartenSlovakiaSloveniaSolomon IslandsSomaliaSouth AfricaSouth Georgia and the South Sandwich IslandsSouth SudanSpainSri LankaSudanSurinameSvalbard and Jan MayenSwedenSwitzerlandSyria Arab RepublicTaiwanTajikistanTanzania\, the United Republic ofThailandTimor-LesteTogoTokelauTongaTrinidad and TobagoTunisiaTurkmenistanTurks and Caicos IslandsTuvaluTürkiyeUS Minor Outlying IslandsUgandaUkraineUnited Arab EmiratesUnited KingdomUnited StatesUruguayUzbekistanVanuatuVenezuelaViet NamVirgin Islands\, BritishVirgin Islands\, U.S.Wallis and FutunaWestern SaharaYemenZambiaZimbabweÅland Islands\n                                        Country\n                                    \n                    \n                How many people are you looking at?1 - 2 Standard Rates3 - 5 Group Discount>10 In-House Training\, Huge Savings!Undecided\, need more informationThis is just an approximate number. You can finalise it when you send in the registration form.\n								\n								Send me brochure\n							Comments:CAPTCHA
URL:https://www.opuskinetic.com/training/effective-incident-investigation-and-reporting-7/2022-02-21/
LOCATION:Virtual Instructor Led Training (VILT)
CATEGORIES:HSE and Process Safety,Management and Leadership Development,Oil/Gas/Petrochemicals,Operations
END:VEVENT
END:VCALENDAR