BEGIN:VCALENDAR
VERSION:2.0
PRODID:-//Opus Kinetic - ECPv6.15.12.2//NONSGML v1.0//EN
CALSCALE:GREGORIAN
METHOD:PUBLISH
X-WR-CALNAME:Opus Kinetic
X-ORIGINAL-URL:https://www.opuskinetic.com
X-WR-CALDESC:Events for Opus Kinetic
REFRESH-INTERVAL;VALUE=DURATION:PT1H
X-Robots-Tag:noindex
X-PUBLISHED-TTL:PT1H
BEGIN:VTIMEZONE
TZID:Asia/Singapore
BEGIN:STANDARD
TZOFFSETFROM:+0800
TZOFFSETTO:+0800
TZNAME:+08
DTSTART:20210101T000000
END:STANDARD
END:VTIMEZONE
BEGIN:VTIMEZONE
TZID:UTC
BEGIN:STANDARD
TZOFFSETFROM:+0000
TZOFFSETTO:+0000
TZNAME:UTC
DTSTART:20210101T000000
END:STANDARD
END:VTIMEZONE
BEGIN:VEVENT
DTSTART;VALUE=DATE:20221031
DTEND;VALUE=DATE:20221103
DTSTAMP:20260424T171558
CREATED:20220525T030349Z
LAST-MODIFIED:20260414T041328Z
UID:10001436-1667174400-1667433599@www.opuskinetic.com
SUMMARY:Heavy Lift Training: Heavy Transport and Lifting
DESCRIPTION:Why Choose this Training Course\nThis is a 3-day heavy lift training course held in Singapore\, Malaysia\, Perth\, Abu Dhabi and Dubai. The efficient and safe execution of lifting and transporting objects that are heavy or awkward in size or shape involves specialized load handling equipment and various different modes of operation. These kinds of operations require a thorough understanding of the physics and laws of nature that contribute to the success of such activities. This heavy lift training is designed for personnel involved in specialized transportation and lifting from contract transport organizations and original equipment manufacturers (OEM) to engineering companies and project owners in the oil and gas\, power generation and other plant-environment industries. \nCharacteristic for this industry is often the absence of standardization across multiple countries or companies. This leads to unique engineering and planning for each project\, a truly indispensable element in projects of this nature. The engineering principles of hydraulic platform trailers like self-propelled modular transporters (SPMTs) are delved into along with a variety of other load handling equipment. Heavy lift\, jacking and skidding\, and load-out (roll-on/roll-off) project case studies are utilized for participants to gain a broad understanding of the art and science of specialized transport and heavy lift operation. \nThe knowledge gained in this heavy lifting training course is universally applicable to all specialized transport and heavy lift projects\, not just in Malaysia\, as it is based on solid engineering principles\, it will provide each participant with a lifetime of benefits. \nWho Should Attend\n\nCEOs and Company Owners\nCrane & Transport Contractors\nFreight Forwarders\nLifting Engineers\nEPC Contractors\nOperation Managers\nCargo Superintendents\nMarine Warrantee Surveyors\nRigging & Transport Supervisors\nOffshore Installation Contractors\nTransport & Lifting Supervisors\nHSE Managers & Engineers\nOnshore/Offshore Project Managers & Planners\nConstruction Managers\nStructural Engineers\nNaval Architects\nLift Directors & Planners\nRigging Foremen\nHeavy Lift Managers\nCrane and trailer operators\nRefineries\nOil & Gas\nPower Plants\nConstruction\nMarine Warrantee\nInsurance Companies\nConsulting Companies\nCrane Rental Companies\nFabrication Yards\nProject Logistics Companies\nHeavy Lift Shipping Companies\nFreight Forwarding Companies\nHeavy Transport Companies\nEngineering Companies\n\nKey Learning Objectives\n\nUnderstanding the importance of good and correct communication\, examples from NASA\nHow to plan a project\, understanding the planning and execution of a transport and lift covering the load\, the route to travel\, equipment selection and execution\nSelecting the right transporter or crane for the load or job\nWhat is possible and what is not\, learn how to take equipment to the max in a safe way\nUnderstand why it is important to know the application and limits of each equipment\, rigging tool\nLearn why it is important to agree on terminology before starting the job\nRecognize unsafe situations before they occur\nUnderstanding and calculation of ground pressure\nLearn how to assess (complex and multi-discipline) transport and lift plans\nLearn how to properly prepare and perform a load-out\nA thorough understanding of all Heavy Lift and Transport aspects beyond the common boundaries\n\nEnquiry Form\n\n\n                 \n \n                        SalutationMr.Ms.Miss.Mrs.Mdm.Dr.Prof.Capt.-Name*\n                            \n                            \n                                                    \n                                                    First\n                                                \n                            \n                            \n                                                    \n                                                    Last\n                                                \n                            \n                        Phone*Email*\n                            \n                        Company*Current Location*    \n                    \n                        \n                                        AfghanistanAlbaniaAlgeriaAmerican SamoaAndorraAngolaAnguillaAntarcticaAntigua and BarbudaArgentinaArmeniaArubaAustraliaAustriaAzerbaijanBahamasBahrainBangladeshBarbadosBelarusBelgiumBelizeBeninBermudaBhutanBoliviaBonaire\, Sint Eustatius and SabaBosnia and HerzegovinaBotswanaBouvet IslandBrazilBritish Indian Ocean TerritoryBrunei DarussalamBulgariaBurkina FasoBurundiCambodiaCameroonCanadaCape VerdeCayman IslandsCentral African RepublicChadChileChinaChristmas IslandCocos IslandsColombiaComorosCongoCongo\, Democratic Republic of theCook IslandsCosta RicaCroatiaCubaCuraçaoCyprusCzechiaCôte d'IvoireDenmarkDjiboutiDominicaDominican RepublicEcuadorEgyptEl SalvadorEquatorial GuineaEritreaEstoniaEswatiniEthiopiaFalkland IslandsFaroe IslandsFijiFinlandFranceFrench GuianaFrench PolynesiaFrench Southern TerritoriesGabonGambiaGeorgiaGermanyGhanaGibraltarGreeceGreenlandGrenadaGuadeloupeGuamGuatemalaGuernseyGuineaGuinea-BissauGuyanaHaitiHeard Island and McDonald IslandsHoly SeeHondurasHong KongHungaryIcelandIndiaIndonesiaIranIraqIrelandIsle of ManIsraelItalyJamaicaJapanJerseyJordanKazakhstanKenyaKiribatiKorea\, Democratic People's Republic ofKorea\, Republic ofKuwaitKyrgyzstanLao People's Democratic RepublicLatviaLebanonLesothoLiberiaLibyaLiechtensteinLithuaniaLuxembourgMacaoMadagascarMalawiMalaysiaMaldivesMaliMaltaMarshall IslandsMartiniqueMauritaniaMauritiusMayotteMexicoMicronesiaMoldovaMonacoMongoliaMontenegroMontserratMoroccoMozambiqueMyanmarNamibiaNauruNepalNetherlandsNew CaledoniaNew ZealandNicaraguaNigerNigeriaNiueNorfolk IslandNorth MacedoniaNorthern Mariana IslandsNorwayOmanPakistanPalauPalestine\, State ofPanamaPapua New GuineaParaguayPeruPhilippinesPitcairnPolandPortugalPuerto RicoQatarRomaniaRussian FederationRwandaRéunionSaint BarthélemySaint Helena\, Ascension and Tristan da CunhaSaint Kitts and NevisSaint LuciaSaint MartinSaint Pierre and MiquelonSaint Vincent and the GrenadinesSamoaSan MarinoSao Tome and PrincipeSaudi ArabiaSenegalSerbiaSeychellesSierra LeoneSingaporeSint MaartenSlovakiaSloveniaSolomon IslandsSomaliaSouth AfricaSouth Georgia and the South Sandwich IslandsSouth SudanSpainSri LankaSudanSurinameSvalbard and Jan MayenSwedenSwitzerlandSyria Arab RepublicTaiwanTajikistanTanzania\, the United Republic ofThailandTimor-LesteTogoTokelauTongaTrinidad and TobagoTunisiaTurkmenistanTurks and Caicos IslandsTuvaluTürkiyeUS Minor Outlying IslandsUgandaUkraineUnited Arab EmiratesUnited KingdomUnited StatesUruguayUzbekistanVanuatuVenezuelaViet NamVirgin Islands\, BritishVirgin Islands\, U.S.Wallis and FutunaWestern SaharaYemenZambiaZimbabweÅland Islands\n                                        Country\n                                    \n                    \n                How many people are you looking at?1 - 2 Standard Rates3 - 5 Group Discount>10 In-House Training\, Huge Savings!Undecided\, need more informationThis is just an approximate number. You can finalise it when you send in the registration form.\n								\n								Send me brochure\n							Comments:CAPTCHA
URL:https://www.opuskinetic.com/training/heavy-transport-and-lifting-shipping-and-offshore-training-course/2022-10-31/
LOCATION:Singapore\, Singapore
CATEGORIES:Logistics and Supply Chain,Marine and Offshore,Operations,Project
ATTACH;FMTTYPE=image/jpeg:https://www.opuskinetic.com/wp-content/uploads/2022/05/heavylift-FI.jpg
ORGANIZER;CN="Opus Kinetic Pte Ltd":MAILTO:info@opuskinetic.com
GEO:1.352083;103.819836
END:VEVENT
BEGIN:VEVENT
DTSTART;VALUE=DATE:20221114
DTEND;VALUE=DATE:20221117
DTSTAMP:20260424T171558
CREATED:20190409T024213Z
LAST-MODIFIED:20260420T123448Z
UID:10000682-1668384000-1668643199@www.opuskinetic.com
SUMMARY:Advanced Well Plug and Abandonment
DESCRIPTION:Why Choose this Training Course\nThis is a 3-day classroom plug and abandonment training course. Well Abandonment is commonly the largest cost element of decommissioning and often results in significant cost overrun. However\, adoption of good practices and lessons learnt from the growing portfolio of operations completed to date\, have shown significant improvements in job duration and non-productive time. In addition\, lessons learnt in job design can be used to ensure abandonment barrier quality\, minimizing the risk of future environmental impact and liability for costly remedial well re-entry. \nThe course instructor draws on his extensive exposure to well abandonment design\, planning and execution\, bringing experience from projects in the North Sea\, Gulf of Mexico\, SE Asia\, Australia\, Brazil and South Africa. \nThe plug and abandonment course will include real life examples of good and poor practices to highlight how the specific challenges of abandonment can be confidently managed to give high quality isolation barriers while maintaining cost control. \nWho Should Attend\n\nWell Abandonment engineers engaged in design and operations\n\nEngineering and operational team leaders\n\nOperations supervisors and superintendents\n\nManagers responsible for well abandonment planning and cost control\n\nKey Learning Objectives\nThe principle objective of the course is to equip practitioners with good practices for the management of design\, planning and executing abandonment\, focusing the major and sometimes unique challenges posed by abandoning aged well stock\, whether subsea or on land/platforms. \nDelegates will \n\nAppreciate the drivers behind approaches to well abandonment\n\nUnderstand good practices in both design\, planning and execution\n\nIntroduction to a wide range of techniques including new and emerging technologies and plugging materials\n\nDevelop knowledge of effective cost minimisation strategies\n\nLearn how to identify and manage key data gaps\n\nUnderstand how to address common problems\n\nEnquiry Form\n\n                 \n \n                        SalutationMr.Ms.Miss.Mrs.Mdm.Dr.Prof.Capt.-Name*\n                            \n                            \n                                                    \n                                                    First\n                                                \n                            \n                            \n                                                    \n                                                    Last\n                                                \n                            \n                        Phone*Email*\n                            \n                        Company*Current Location*    \n                    \n                        \n                                        AfghanistanAlbaniaAlgeriaAmerican SamoaAndorraAngolaAnguillaAntarcticaAntigua and BarbudaArgentinaArmeniaArubaAustraliaAustriaAzerbaijanBahamasBahrainBangladeshBarbadosBelarusBelgiumBelizeBeninBermudaBhutanBoliviaBonaire\, Sint Eustatius and SabaBosnia and HerzegovinaBotswanaBouvet IslandBrazilBritish Indian Ocean TerritoryBrunei DarussalamBulgariaBurkina FasoBurundiCambodiaCameroonCanadaCape VerdeCayman IslandsCentral African RepublicChadChileChinaChristmas IslandCocos IslandsColombiaComorosCongoCongo\, Democratic Republic of theCook IslandsCosta RicaCroatiaCubaCuraçaoCyprusCzechiaCôte d'IvoireDenmarkDjiboutiDominicaDominican RepublicEcuadorEgyptEl SalvadorEquatorial GuineaEritreaEstoniaEswatiniEthiopiaFalkland IslandsFaroe IslandsFijiFinlandFranceFrench GuianaFrench PolynesiaFrench Southern TerritoriesGabonGambiaGeorgiaGermanyGhanaGibraltarGreeceGreenlandGrenadaGuadeloupeGuamGuatemalaGuernseyGuineaGuinea-BissauGuyanaHaitiHeard Island and McDonald IslandsHoly SeeHondurasHong KongHungaryIcelandIndiaIndonesiaIranIraqIrelandIsle of ManIsraelItalyJamaicaJapanJerseyJordanKazakhstanKenyaKiribatiKorea\, Democratic People's Republic ofKorea\, Republic ofKuwaitKyrgyzstanLao People's Democratic RepublicLatviaLebanonLesothoLiberiaLibyaLiechtensteinLithuaniaLuxembourgMacaoMadagascarMalawiMalaysiaMaldivesMaliMaltaMarshall IslandsMartiniqueMauritaniaMauritiusMayotteMexicoMicronesiaMoldovaMonacoMongoliaMontenegroMontserratMoroccoMozambiqueMyanmarNamibiaNauruNepalNetherlandsNew CaledoniaNew ZealandNicaraguaNigerNigeriaNiueNorfolk IslandNorth MacedoniaNorthern Mariana IslandsNorwayOmanPakistanPalauPalestine\, State ofPanamaPapua New GuineaParaguayPeruPhilippinesPitcairnPolandPortugalPuerto RicoQatarRomaniaRussian FederationRwandaRéunionSaint BarthélemySaint Helena\, Ascension and Tristan da CunhaSaint Kitts and NevisSaint LuciaSaint MartinSaint Pierre and MiquelonSaint Vincent and the GrenadinesSamoaSan MarinoSao Tome and PrincipeSaudi ArabiaSenegalSerbiaSeychellesSierra LeoneSingaporeSint MaartenSlovakiaSloveniaSolomon IslandsSomaliaSouth AfricaSouth Georgia and the South Sandwich IslandsSouth SudanSpainSri LankaSudanSurinameSvalbard and Jan MayenSwedenSwitzerlandSyria Arab RepublicTaiwanTajikistanTanzania\, the United Republic ofThailandTimor-LesteTogoTokelauTongaTrinidad and TobagoTunisiaTurkmenistanTurks and Caicos IslandsTuvaluTürkiyeUS Minor Outlying IslandsUgandaUkraineUnited Arab EmiratesUnited KingdomUnited StatesUruguayUzbekistanVanuatuVenezuelaViet NamVirgin Islands\, BritishVirgin Islands\, U.S.Wallis and FutunaWestern SaharaYemenZambiaZimbabweÅland Islands\n                                        Country\n                                    \n                    \n                How many people are you looking at?1 - 2 Standard Rates3 - 5 Group Discount>10 In-House Training\, Huge Savings!Undecided\, need more informationThis is just an approximate number. You can finalise it when you send in the registration form.\n								\n								Send me brochure\n							Comments:CAPTCHA
URL:https://www.opuskinetic.com/training/advanced-well-plug-abandonment/2022-11-14/
LOCATION:Kuala Lumpur\, Bangkok\, Bali
CATEGORIES:Decommissioning,Marine and Offshore,Oil/Gas/Petrochemicals,Operations,Well Engineering
ATTACH;FMTTYPE=image/jpeg:https://www.opuskinetic.com/wp-content/uploads/2019/04/pna-fi.jpg
ORGANIZER;CN="Opus Kinetic Pte Ltd":MAILTO:info@opuskinetic.com
END:VEVENT
BEGIN:VEVENT
DTSTART;VALUE=DATE:20221121
DTEND;VALUE=DATE:20221124
DTSTAMP:20260424T171558
CREATED:20211123T063007Z
LAST-MODIFIED:20231026T032224Z
UID:10001263-1668988800-1669247940@www.opuskinetic.com
SUMMARY:Practical A to Z Guide to Laytime and Demurrage
DESCRIPTION:Why Choose this Training Course\nThis is a 3-day laytime training course. Led by an experienced maritime arbitrator\, this course will provide an in-depth understanding of laytime and demurrage to avoid expensive legal proceedings and maximize the profitability of a fixture\, especially for liquid cargo. Catered to the perspectives of both shipowners and charterers\, this course will discuss the calculation and exceptions of laytime\, despatch\, and the role played by damages for detention. Breach of pumping and/or temperature warranties and pumping warranty claims will be examined. This course will also look at the possible revisions of contract clauses that either party can negotiate for improved clarity and increased advantage. \nThrough real-life case studies\, practical exercises\, and or interactive mock dispute\, our expert course facilitator will share the ways to reduce a charterer’s potential exposure to demurrage claims\, and to increase the collection of demurrage for shipowners through tighter drafting and effective use of lien on cargo and other legal remedies. \nWho Should Attend\nThis laytime training course is for professionals in the shipping industry who have some experience with ship chartering\, and would like to enhance their working knowledge of demurrage for outstanding business performance. \n\nChartering Managers\nCommercial Managers\nMarine Operations Managers\nMarine Claims Managers\nLegal Counsels & Managers\nContracts Managers\nLogistics & Supply Chain Managers\nP&I Executives\nPort & Terminal Managers\nSales & Marketing Executives\nCommodity Traders\n\nKey Learning Objectives\n\nUNDERSTAND different type of charter-party and the various issues involved\nLEARN the definition and calculation of laytime based on “Laytime Definitions 2013” and charter-party clauses\nDISCOVER the fundamental of contract law in relation of demurrage\, damages of detention and despatch\nLEARN the responsibilities and liabilities of charterers and how to assess the termination of demurrage period\nACQUIRE practical skills in demurrage calculation for both dry and wet charters and its applications from early negotiation stage to voyage\n\nKNOW the importance of various interpretation of legal terms agreed and the possible legal claim\nIMPROVE understanding on dispute resolutions methods and arbitration processes\n\nEnquiry Form\n\n                 \n \n                        SalutationMr.Ms.Miss.Mrs.Mdm.Dr.Prof.Capt.-Name*\n                            \n                            \n                                                    \n                                                    First\n                                                \n                            \n                            \n                                                    \n                                                    Last\n                                                \n                            \n                        Phone*Email*\n                            \n                        Company*Current Location*    \n                    \n                        \n                                        AfghanistanAlbaniaAlgeriaAmerican SamoaAndorraAngolaAnguillaAntarcticaAntigua and BarbudaArgentinaArmeniaArubaAustraliaAustriaAzerbaijanBahamasBahrainBangladeshBarbadosBelarusBelgiumBelizeBeninBermudaBhutanBoliviaBonaire\, Sint Eustatius and SabaBosnia and HerzegovinaBotswanaBouvet IslandBrazilBritish Indian Ocean TerritoryBrunei DarussalamBulgariaBurkina FasoBurundiCambodiaCameroonCanadaCape VerdeCayman IslandsCentral African RepublicChadChileChinaChristmas IslandCocos IslandsColombiaComorosCongoCongo\, Democratic Republic of theCook IslandsCosta RicaCroatiaCubaCuraçaoCyprusCzechiaCôte d'IvoireDenmarkDjiboutiDominicaDominican RepublicEcuadorEgyptEl SalvadorEquatorial GuineaEritreaEstoniaEswatiniEthiopiaFalkland IslandsFaroe IslandsFijiFinlandFranceFrench GuianaFrench PolynesiaFrench Southern TerritoriesGabonGambiaGeorgiaGermanyGhanaGibraltarGreeceGreenlandGrenadaGuadeloupeGuamGuatemalaGuernseyGuineaGuinea-BissauGuyanaHaitiHeard Island and McDonald IslandsHoly SeeHondurasHong KongHungaryIcelandIndiaIndonesiaIranIraqIrelandIsle of ManIsraelItalyJamaicaJapanJerseyJordanKazakhstanKenyaKiribatiKorea\, Democratic People's Republic ofKorea\, Republic ofKuwaitKyrgyzstanLao People's Democratic RepublicLatviaLebanonLesothoLiberiaLibyaLiechtensteinLithuaniaLuxembourgMacaoMadagascarMalawiMalaysiaMaldivesMaliMaltaMarshall IslandsMartiniqueMauritaniaMauritiusMayotteMexicoMicronesiaMoldovaMonacoMongoliaMontenegroMontserratMoroccoMozambiqueMyanmarNamibiaNauruNepalNetherlandsNew CaledoniaNew ZealandNicaraguaNigerNigeriaNiueNorfolk IslandNorth MacedoniaNorthern Mariana IslandsNorwayOmanPakistanPalauPalestine\, State ofPanamaPapua New GuineaParaguayPeruPhilippinesPitcairnPolandPortugalPuerto RicoQatarRomaniaRussian FederationRwandaRéunionSaint BarthélemySaint Helena\, Ascension and Tristan da CunhaSaint Kitts and NevisSaint LuciaSaint MartinSaint Pierre and MiquelonSaint Vincent and the GrenadinesSamoaSan MarinoSao Tome and PrincipeSaudi ArabiaSenegalSerbiaSeychellesSierra LeoneSingaporeSint MaartenSlovakiaSloveniaSolomon IslandsSomaliaSouth AfricaSouth Georgia and the South Sandwich IslandsSouth SudanSpainSri LankaSudanSurinameSvalbard and Jan MayenSwedenSwitzerlandSyria Arab RepublicTaiwanTajikistanTanzania\, the United Republic ofThailandTimor-LesteTogoTokelauTongaTrinidad and TobagoTunisiaTurkmenistanTurks and Caicos IslandsTuvaluTürkiyeUS Minor Outlying IslandsUgandaUkraineUnited Arab EmiratesUnited KingdomUnited StatesUruguayUzbekistanVanuatuVenezuelaViet NamVirgin Islands\, BritishVirgin Islands\, U.S.Wallis and FutunaWestern SaharaYemenZambiaZimbabweÅland Islands\n                                        Country\n                                    \n                    \n                How many people are you looking at?1 - 2 Standard Rates3 - 5 Group Discount>10 In-House Training\, Huge Savings!Undecided\, need more informationThis is just an approximate number. You can finalise it when you send in the registration form.\n								\n								Send me brochure\n							Comments:CAPTCHA
URL:https://www.opuskinetic.com/training/practical-a-to-z-guide-to-laytime-and-demurrage-7/2022-11-21/
LOCATION:Kuala Lumpur\, Singapore
CATEGORIES:Contracts,Logistics and Supply Chain,Marine and Offshore,Oil/Gas/Petrochemicals
ATTACH;FMTTYPE=image/png:https://www.opuskinetic.com/wp-content/uploads/2021/11/laytime-fi1.png
ORGANIZER;CN="Opus Kinetic Pte Ltd":MAILTO:info@opuskinetic.com
END:VEVENT
END:VCALENDAR