BEGIN:VCALENDAR
VERSION:2.0
PRODID:-//Opus Kinetic - ECPv6.15.12.2//NONSGML v1.0//EN
CALSCALE:GREGORIAN
METHOD:PUBLISH
X-WR-CALNAME:Opus Kinetic
X-ORIGINAL-URL:https://www.opuskinetic.com
X-WR-CALDESC:Events for Opus Kinetic
REFRESH-INTERVAL;VALUE=DURATION:PT1H
X-Robots-Tag:noindex
X-PUBLISHED-TTL:PT1H
BEGIN:VTIMEZONE
TZID:Asia/Singapore
BEGIN:STANDARD
TZOFFSETFROM:+0800
TZOFFSETTO:+0800
TZNAME:+08
DTSTART:20240101T000000
END:STANDARD
END:VTIMEZONE
BEGIN:VEVENT
DTSTART;VALUE=DATE:20250929
DTEND;VALUE=DATE:20251002
DTSTAMP:20260420T113638
CREATED:20170623T070312Z
LAST-MODIFIED:20250704T050418Z
UID:10002177-1759136400-1759338000@www.opuskinetic.com
SUMMARY:FPSO Topsides Training: Design\, Layout & Processing
DESCRIPTION:Why Choose this Training Course\nWhy is it FPSO systems are so important these days? According to research and feedback from respective companies it is important to apply best practices in order to deliver safe and operable FPSO topsides to minimize risks\, capital and expenditures. This FPSO topsides training is designed to go through the stages of FPSO topside design\, layout & processing in a detailed manner. There will be discussion of the structural design and analysis of FPSO & FLNG topside modules as well as the facility configuration. \nThis FPSO topsides training will also look into the issues pertaining the design and as well as weight control\, layout planning\, process optimisation and not forgetting the operation environment. Delegates will also be able to understand the FEED\, conceptual engineering\, fabrication\, modular construction and learning the criterias of FPSO control and instrumentation designing. \nOpus Kinetic is also a proud member of Energy Institute UK. \nKey Learning Objectives\n\nUnderstand the functional specification in design\nAbility to evaluate the boundaries of design in interface management\nAchieve a deeper understanding of ship building and offshore approach\nInfluence of ship’s hull motions on the topside design affecting structural interface and equipment integrity\nUnderstand the basics of the FPSO topsides process plant\, environmental impact and utilities.\nAwareness of integrated control and safety system\nStandardisation of topsides and installation challenges\nGet practical knowledge through real case studies\n\nWho Should Attend\nThis FPSO topsides training course is designed for personnels involved in FPSO businesses from oil & gas\, FPSO Operators\, Topside Engineering & Design Companies\, FPSO Fabricators and FPSO Shipyards. Job titles include: \n\nProject Directors / Project Managers\nConstruction Managers\nFacilities Manager\nCommissioning Managers\nCommission Lead Engineers\nMarine Managers / Engineers\nOffshore Installation Managers\nContractors involved in FPSO & FLNG technology\n\nEnquiry Form\n\n\n                 \n \n                        SalutationMr.Ms.Miss.Mrs.Mdm.Dr.Prof.Capt.-Name*\n                            \n                            \n                                                    \n                                                    First\n                                                \n                            \n                            \n                                                    \n                                                    Last\n                                                \n                            \n                        Phone*Email*\n                            \n                        Company*Current Location*    \n                    \n                        \n                                        AfghanistanAlbaniaAlgeriaAmerican SamoaAndorraAngolaAnguillaAntarcticaAntigua and BarbudaArgentinaArmeniaArubaAustraliaAustriaAzerbaijanBahamasBahrainBangladeshBarbadosBelarusBelgiumBelizeBeninBermudaBhutanBoliviaBonaire\, Sint Eustatius and SabaBosnia and HerzegovinaBotswanaBouvet IslandBrazilBritish Indian Ocean TerritoryBrunei DarussalamBulgariaBurkina FasoBurundiCambodiaCameroonCanadaCape VerdeCayman IslandsCentral African RepublicChadChileChinaChristmas IslandCocos IslandsColombiaComorosCongoCongo\, Democratic Republic of theCook IslandsCosta RicaCroatiaCubaCuraçaoCyprusCzechiaCôte d'IvoireDenmarkDjiboutiDominicaDominican RepublicEcuadorEgyptEl SalvadorEquatorial GuineaEritreaEstoniaEswatiniEthiopiaFalkland IslandsFaroe IslandsFijiFinlandFranceFrench GuianaFrench PolynesiaFrench Southern TerritoriesGabonGambiaGeorgiaGermanyGhanaGibraltarGreeceGreenlandGrenadaGuadeloupeGuamGuatemalaGuernseyGuineaGuinea-BissauGuyanaHaitiHeard Island and McDonald IslandsHoly SeeHondurasHong KongHungaryIcelandIndiaIndonesiaIranIraqIrelandIsle of ManIsraelItalyJamaicaJapanJerseyJordanKazakhstanKenyaKiribatiKorea\, Democratic People's Republic ofKorea\, Republic ofKuwaitKyrgyzstanLao People's Democratic RepublicLatviaLebanonLesothoLiberiaLibyaLiechtensteinLithuaniaLuxembourgMacaoMadagascarMalawiMalaysiaMaldivesMaliMaltaMarshall IslandsMartiniqueMauritaniaMauritiusMayotteMexicoMicronesiaMoldovaMonacoMongoliaMontenegroMontserratMoroccoMozambiqueMyanmarNamibiaNauruNepalNetherlandsNew CaledoniaNew ZealandNicaraguaNigerNigeriaNiueNorfolk IslandNorth MacedoniaNorthern Mariana IslandsNorwayOmanPakistanPalauPalestine\, State ofPanamaPapua New GuineaParaguayPeruPhilippinesPitcairnPolandPortugalPuerto RicoQatarRomaniaRussian FederationRwandaRéunionSaint BarthélemySaint Helena\, Ascension and Tristan da CunhaSaint Kitts and NevisSaint LuciaSaint MartinSaint Pierre and MiquelonSaint Vincent and the GrenadinesSamoaSan MarinoSao Tome and PrincipeSaudi ArabiaSenegalSerbiaSeychellesSierra LeoneSingaporeSint MaartenSlovakiaSloveniaSolomon IslandsSomaliaSouth AfricaSouth Georgia and the South Sandwich IslandsSouth SudanSpainSri LankaSudanSurinameSvalbard and Jan MayenSwedenSwitzerlandSyria Arab RepublicTaiwanTajikistanTanzania\, the United Republic ofThailandTimor-LesteTogoTokelauTongaTrinidad and TobagoTunisiaTurkmenistanTurks and Caicos IslandsTuvaluTürkiyeUS Minor Outlying IslandsUgandaUkraineUnited Arab EmiratesUnited KingdomUnited StatesUruguayUzbekistanVanuatuVenezuelaViet NamVirgin Islands\, BritishVirgin Islands\, U.S.Wallis and FutunaWestern SaharaYemenZambiaZimbabweÅland Islands\n                                        Country\n                                    \n                    \n                How many people are you looking at?1 - 2 Standard Rates3 - 5 Group Discount>10 In-House Training\, Huge Savings!Undecided\, need more informationThis is just an approximate number. You can finalise it when you send in the registration form.\n								\n								Send me brochure\n							Comments:CAPTCHA
URL:https://www.opuskinetic.com/training/fpso-topsides-training-design-layout-processing/2025-09-29/
LOCATION:Singapore\, Singapore
CATEGORIES:Marine and Offshore,Oil/Gas/Petrochemicals
ATTACH;FMTTYPE=image/jpeg:https://www.opuskinetic.com/wp-content/uploads/2017/06/FPSO-fi2-scaled.jpg
ORGANIZER;CN="Opus Kinetic Pte Ltd":MAILTO:info@opuskinetic.com
GEO:1.352083;103.819836
END:VEVENT
BEGIN:VEVENT
DTSTART;VALUE=DATE:20251013
DTEND;VALUE=DATE:20251016
DTSTAMP:20260420T113638
CREATED:20201022T025611Z
LAST-MODIFIED:20250709T050030Z
UID:10001074-1760313600-1760572799@www.opuskinetic.com
SUMMARY:Transportation of Dangerous Goods for Maritime and Shipping
DESCRIPTION:Why Choose this Training Course\nThis course for transportation of dangerous goods will provide the participants with a comprehensive understanding and valuable knowledge of the requirements and compliance issues of international transport of dangerous goods. The transportation of dangerous goods course will cover the current International Maritime Dangerous Goods Code (IMDG)\, Edition 18\, and the new and important changes in Amendment 39-18. In addition to discussion of the IMDG Code\, the attendees will participate in group activities and various case studies that will enhance their learning process. \nWho Should Attend\nIn accordance with the IMDG Code Chapter 1.3\, shore-based personnel engaged in shipping dangerous goods intended for transport by sea\, must be trained in dangerous goods provisions relevant to their job function and responsibilities including those who: \n\nclassify dangerous goods\npack dangerous goods\nmark or label dangerous goods\nload or unload Cargo Transport Units (truck trailer\, rail road/portable tank\, freight container)\nprepare transport documentation for dangerous goods\naccept dangerous goods for transport\nhandle dangerous goods in-transport\nprepare dangerous goods load and stowage plans\nload and unload dangerous goods into and from ships\nenforce or survey or inspect for compliance with applicable rules and regulations or\notherwise involved in transporting dangerous goods determined by competent authorities\n\nKey Learning Objectives\n\nGeneral awareness of dangerous goods transportation\nKnow the body of international and national law regulating dangerous goods transport\nKnow the responsibilities placed on personnel in the dangerous goods transportation business\nApply the requirements of the IMDG Code in daily work processes and comply with the regulations in performing job functions\n\nEnquiry Form\n\n                 \n \n                        SalutationMr.Ms.Miss.Mrs.Mdm.Dr.Prof.Capt.-Name*\n                            \n                            \n                                                    \n                                                    First\n                                                \n                            \n                            \n                                                    \n                                                    Last\n                                                \n                            \n                        Phone*Email*\n                            \n                        Company*Current Location*    \n                    \n                        \n                                        AfghanistanAlbaniaAlgeriaAmerican SamoaAndorraAngolaAnguillaAntarcticaAntigua and BarbudaArgentinaArmeniaArubaAustraliaAustriaAzerbaijanBahamasBahrainBangladeshBarbadosBelarusBelgiumBelizeBeninBermudaBhutanBoliviaBonaire\, Sint Eustatius and SabaBosnia and HerzegovinaBotswanaBouvet IslandBrazilBritish Indian Ocean TerritoryBrunei DarussalamBulgariaBurkina FasoBurundiCambodiaCameroonCanadaCape VerdeCayman IslandsCentral African RepublicChadChileChinaChristmas IslandCocos IslandsColombiaComorosCongoCongo\, Democratic Republic of theCook IslandsCosta RicaCroatiaCubaCuraçaoCyprusCzechiaCôte d'IvoireDenmarkDjiboutiDominicaDominican RepublicEcuadorEgyptEl SalvadorEquatorial GuineaEritreaEstoniaEswatiniEthiopiaFalkland IslandsFaroe IslandsFijiFinlandFranceFrench GuianaFrench PolynesiaFrench Southern TerritoriesGabonGambiaGeorgiaGermanyGhanaGibraltarGreeceGreenlandGrenadaGuadeloupeGuamGuatemalaGuernseyGuineaGuinea-BissauGuyanaHaitiHeard Island and McDonald IslandsHoly SeeHondurasHong KongHungaryIcelandIndiaIndonesiaIranIraqIrelandIsle of ManIsraelItalyJamaicaJapanJerseyJordanKazakhstanKenyaKiribatiKorea\, Democratic People's Republic ofKorea\, Republic ofKuwaitKyrgyzstanLao People's Democratic RepublicLatviaLebanonLesothoLiberiaLibyaLiechtensteinLithuaniaLuxembourgMacaoMadagascarMalawiMalaysiaMaldivesMaliMaltaMarshall IslandsMartiniqueMauritaniaMauritiusMayotteMexicoMicronesiaMoldovaMonacoMongoliaMontenegroMontserratMoroccoMozambiqueMyanmarNamibiaNauruNepalNetherlandsNew CaledoniaNew ZealandNicaraguaNigerNigeriaNiueNorfolk IslandNorth MacedoniaNorthern Mariana IslandsNorwayOmanPakistanPalauPalestine\, State ofPanamaPapua New GuineaParaguayPeruPhilippinesPitcairnPolandPortugalPuerto RicoQatarRomaniaRussian FederationRwandaRéunionSaint BarthélemySaint Helena\, Ascension and Tristan da CunhaSaint Kitts and NevisSaint LuciaSaint MartinSaint Pierre and MiquelonSaint Vincent and the GrenadinesSamoaSan MarinoSao Tome and PrincipeSaudi ArabiaSenegalSerbiaSeychellesSierra LeoneSingaporeSint MaartenSlovakiaSloveniaSolomon IslandsSomaliaSouth AfricaSouth Georgia and the South Sandwich IslandsSouth SudanSpainSri LankaSudanSurinameSvalbard and Jan MayenSwedenSwitzerlandSyria Arab RepublicTaiwanTajikistanTanzania\, the United Republic ofThailandTimor-LesteTogoTokelauTongaTrinidad and TobagoTunisiaTurkmenistanTurks and Caicos IslandsTuvaluTürkiyeUS Minor Outlying IslandsUgandaUkraineUnited Arab EmiratesUnited KingdomUnited StatesUruguayUzbekistanVanuatuVenezuelaViet NamVirgin Islands\, BritishVirgin Islands\, U.S.Wallis and FutunaWestern SaharaYemenZambiaZimbabweÅland Islands\n                                        Country\n                                    \n                    \n                How many people are you looking at?1 - 2 Standard Rates3 - 5 Group Discount>10 In-House Training\, Huge Savings!Undecided\, need more informationThis is just an approximate number. You can finalise it when you send in the registration form.\n								\n								Send me brochure\n							Comments:CAPTCHA
URL:https://www.opuskinetic.com/training/transportation-of-dangerous-goods-for-maritime-and-shipping-2/
LOCATION:Malaysia\, Malaysia
CATEGORIES:Logistics and Supply Chain,Marine and Offshore,Operations
ATTACH;FMTTYPE=image/jpeg:https://www.opuskinetic.com/wp-content/uploads/2020/10/IMDG-fi1-scaled.jpg
ORGANIZER;CN="Opus Kinetic Pte Ltd":MAILTO:info@opuskinetic.com
GEO:4.210484;101.975766
END:VEVENT
BEGIN:VEVENT
DTSTART;VALUE=DATE:20251013
DTEND;VALUE=DATE:20251016
DTSTAMP:20260420T113638
CREATED:20250127T011723Z
LAST-MODIFIED:20260401T065525Z
UID:10002087-1760346000-1760547600@www.opuskinetic.com
SUMMARY:Subsea Power Cables
DESCRIPTION:Why Choose this Training Course\n\n\n\n\nThe subsea power cables training is a comprehensive program tailored for energy sector professionals\, focusing on the key components of subsea power cable systems. Over two days\, participants will explore the complexities of cable design\, routing\, installation\, and maintenance\, guided by seasoned industry experts. Covering the entire lifecycle of subsea power cables\, the course delves into project feasibility\, environmental considerations\, and the latest advancements in installation technologies. \nThe subsea power cables training begins by building a strong foundation in subsea power cable fundamentals\, examining different cable types\, design standards\, and performance metrics. Participants will also gain insight into project frameworks\, feasibility assessments\, environmental impacts\, and survey methodologies. \nA core component of the program is cable installation techniques\, including surface laying\, burial processes\, and landfall strategies. Through real-world case studies\, participants will gain practical knowledge about the challenges and solutions related to cable routing\, design\, installation\, and landfall operations. \nThe subsea power cables training further emphasizes cable protection\, exploring strategies to enhance cable durability and prevent failures. Advanced inspection and maintenance techniques are also covered\, equipping participants to identify and mitigate potential risks effectively. \nBeyond technical expertise\, the course fosters collaboration\, encouraging participants to exchange experiences and ideas while building a network of skilled professionals in subsea power cable management. \nBy the end of the subsea power cables training\, attendees will have the expertise needed to manage subsea power cable projects efficiently\, ensuring their operational reliability and performance. This training is particularly valuable for professionals involved in renewable energy infrastructure\, including offshore wind and transnational networks. \n\n\n\n\nWho Should Attend\nThe subsea power cables training is designed for professionals directly involved in the planning\, installation\, and maintenance of subsea power cable systems. \n\nProject Managers\nElectrical Engineers\nMaintenance Engineers\nRisk Management Specialists\nOperations Managers\n\nKey Learning Objectives\n\nUnderstand the comprehensive lifecycle of subsea power cables\, from initial design and feasibility studies through to installation\, maintenance\, and end-of-life considerations.\nAcquire core technical knowledge\, including different cable types\, design standards\, performance metrics\, and various installation techniques (surface laying\, burial\, landfall strategies).\nMaster project management and feasibility aspects\, covering project frameworks\, feasibility assessments\, environmental impact considerations\, and survey methodologies crucial for successful subsea cable projects.\nApply practical knowledge and problem-solving skills gained through real-world case studies to address challenges and find solutions related to cable routing\, design\, installation\, and landfall operations.\nImplement effective cable protection strategies and utilize advanced inspection and maintenance techniques to enhance cable durability\, prevent failures\, and mitigate potential risks.\nCollaborate and network with industry professionals\, exchanging experiences and ideas within the subsea power cable sector.\nManage subsea power cable projects efficiently upon completion\, ensuring operational reliability and optimal performance\, especially relevant for renewable energy infrastructure.\n\n  \nEnquiry Form\n\n                 \n \n                        SalutationMr.Ms.Miss.Mrs.Mdm.Dr.Prof.Capt.-Name*\n                            \n                            \n                                                    \n                                                    First\n                                                \n                            \n                            \n                                                    \n                                                    Last\n                                                \n                            \n                        Phone*Email*\n                            \n                        Company*Current Location*    \n                    \n                        \n                                        AfghanistanAlbaniaAlgeriaAmerican SamoaAndorraAngolaAnguillaAntarcticaAntigua and BarbudaArgentinaArmeniaArubaAustraliaAustriaAzerbaijanBahamasBahrainBangladeshBarbadosBelarusBelgiumBelizeBeninBermudaBhutanBoliviaBonaire\, Sint Eustatius and SabaBosnia and HerzegovinaBotswanaBouvet IslandBrazilBritish Indian Ocean TerritoryBrunei DarussalamBulgariaBurkina FasoBurundiCambodiaCameroonCanadaCape VerdeCayman IslandsCentral African RepublicChadChileChinaChristmas IslandCocos IslandsColombiaComorosCongoCongo\, Democratic Republic of theCook IslandsCosta RicaCroatiaCubaCuraçaoCyprusCzechiaCôte d'IvoireDenmarkDjiboutiDominicaDominican RepublicEcuadorEgyptEl SalvadorEquatorial GuineaEritreaEstoniaEswatiniEthiopiaFalkland IslandsFaroe IslandsFijiFinlandFranceFrench GuianaFrench PolynesiaFrench Southern TerritoriesGabonGambiaGeorgiaGermanyGhanaGibraltarGreeceGreenlandGrenadaGuadeloupeGuamGuatemalaGuernseyGuineaGuinea-BissauGuyanaHaitiHeard Island and McDonald IslandsHoly SeeHondurasHong KongHungaryIcelandIndiaIndonesiaIranIraqIrelandIsle of ManIsraelItalyJamaicaJapanJerseyJordanKazakhstanKenyaKiribatiKorea\, Democratic People's Republic ofKorea\, Republic ofKuwaitKyrgyzstanLao People's Democratic RepublicLatviaLebanonLesothoLiberiaLibyaLiechtensteinLithuaniaLuxembourgMacaoMadagascarMalawiMalaysiaMaldivesMaliMaltaMarshall IslandsMartiniqueMauritaniaMauritiusMayotteMexicoMicronesiaMoldovaMonacoMongoliaMontenegroMontserratMoroccoMozambiqueMyanmarNamibiaNauruNepalNetherlandsNew CaledoniaNew ZealandNicaraguaNigerNigeriaNiueNorfolk IslandNorth MacedoniaNorthern Mariana IslandsNorwayOmanPakistanPalauPalestine\, State ofPanamaPapua New GuineaParaguayPeruPhilippinesPitcairnPolandPortugalPuerto RicoQatarRomaniaRussian FederationRwandaRéunionSaint BarthélemySaint Helena\, Ascension and Tristan da CunhaSaint Kitts and NevisSaint LuciaSaint MartinSaint Pierre and MiquelonSaint Vincent and the GrenadinesSamoaSan MarinoSao Tome and PrincipeSaudi ArabiaSenegalSerbiaSeychellesSierra LeoneSingaporeSint MaartenSlovakiaSloveniaSolomon IslandsSomaliaSouth AfricaSouth Georgia and the South Sandwich IslandsSouth SudanSpainSri LankaSudanSurinameSvalbard and Jan MayenSwedenSwitzerlandSyria Arab RepublicTaiwanTajikistanTanzania\, the United Republic ofThailandTimor-LesteTogoTokelauTongaTrinidad and TobagoTunisiaTurkmenistanTurks and Caicos IslandsTuvaluTürkiyeUS Minor Outlying IslandsUgandaUkraineUnited Arab EmiratesUnited KingdomUnited StatesUruguayUzbekistanVanuatuVenezuelaViet NamVirgin Islands\, BritishVirgin Islands\, U.S.Wallis and FutunaWestern SaharaYemenZambiaZimbabweÅland Islands\n                                        Country\n                                    \n                    \n                How many people are you looking at?1 - 2 Standard Rates3 - 5 Group Discount>10 In-House Training\, Huge Savings!Undecided\, need more informationThis is just an approximate number. You can finalise it when you send in the registration form.\n								\n								Send me brochure\n							Comments:CAPTCHA
URL:https://www.opuskinetic.com/training/subsea-power-cables/2025-10-13/
LOCATION:Kuala Lumpur\, Federal Territory of Kuala Lumpur\, Kuala Lumpur\, Malaysia
CATEGORIES:HSE and Process Safety,Marine and Offshore,Oil/Gas/Petrochemicals,Operations
ATTACH;FMTTYPE=image/jpeg:https://www.opuskinetic.com/wp-content/uploads/2025/01/subsea-cable-fi1-scaled.jpg
ORGANIZER;CN="Opus Kinetic Pte Ltd":MAILTO:info@opuskinetic.com
GEO:3.1384965;101.7099933
END:VEVENT
END:VCALENDAR