BEGIN:VCALENDAR
VERSION:2.0
PRODID:-//Opus Kinetic - ECPv6.15.12.2//NONSGML v1.0//EN
CALSCALE:GREGORIAN
METHOD:PUBLISH
X-WR-CALNAME:Opus Kinetic
X-ORIGINAL-URL:https://www.opuskinetic.com
X-WR-CALDESC:Events for Opus Kinetic
REFRESH-INTERVAL;VALUE=DURATION:PT1H
X-Robots-Tag:noindex
X-PUBLISHED-TTL:PT1H
BEGIN:VTIMEZONE
TZID:Asia/Singapore
BEGIN:STANDARD
TZOFFSETFROM:+0800
TZOFFSETTO:+0800
TZNAME:+08
DTSTART:20240101T000000
END:STANDARD
END:VTIMEZONE
BEGIN:VEVENT
DTSTART;VALUE=DATE:20250716
DTEND;VALUE=DATE:20250719
DTSTAMP:20260420T192455
CREATED:20211202T040903Z
LAST-MODIFIED:20251124T075533Z
UID:10002108-1752656400-1752858000@www.opuskinetic.com
SUMMARY:Advanced Well Integrity Management
DESCRIPTION:Why Choose this Training Course\nThis well integrity training course is designed to provide and enhance participant’s knowledge and experience about well integrity management and risk assessment of production facilities to ensure sustainable\, safe\, cost effective and successful operations. The proper time and approach for critical decision-making and take consequent action provides certainty within the organization focus efforts and optimize the operational cost. \nProper understanding of the well integrity management system will help in enhancing the cross functional work performance\, promoting cooperation and teamwork spirit amongst the teams and can be the operator’s best insurance to achieve successful safe operations \nWho Should Attend\n\nWell Integrity team members.\nNOC Well Integrity enforcing Authorities\nSenior Production operation personnel OIM\, production managers\, Field coordinators\nDrilling/completion/intervention engineers.\nService-company Sr field engineers and operators with delegated responsibilities in well integrity\n\nKey Learning Objectives\n\nFamiliarize with the Well Integrity management fundamentals and prospective.\nUnderstand the well completion design concept and factors affecting the design.\nFamiliarize with the well internal/external integrity issues and possible causes.\nUnderstand different preventive techniques to avoid internal and external integrity issues.\nUnderstand the barrier theory concept & applications and well intervention operations\nIdentify the well integrity management system organizational responsibilities.\nIdentify various well integrity management parameters to be monitored during various phases of the well life cycle.\nLearn how to develop cost effective preventive maintenance strategies relevant to the Well integrity management issues in the field.\n\nEnquiry Form\n\n\n                 \n \n                        SalutationMr.Ms.Miss.Mrs.Mdm.Dr.Prof.Capt.-Name*\n                            \n                            \n                                                    \n                                                    First\n                                                \n                            \n                            \n                                                    \n                                                    Last\n                                                \n                            \n                        Phone*Email*\n                            \n                        Company*Current Location*    \n                    \n                        \n                                        AfghanistanAlbaniaAlgeriaAmerican SamoaAndorraAngolaAnguillaAntarcticaAntigua and BarbudaArgentinaArmeniaArubaAustraliaAustriaAzerbaijanBahamasBahrainBangladeshBarbadosBelarusBelgiumBelizeBeninBermudaBhutanBoliviaBonaire\, Sint Eustatius and SabaBosnia and HerzegovinaBotswanaBouvet IslandBrazilBritish Indian Ocean TerritoryBrunei DarussalamBulgariaBurkina FasoBurundiCambodiaCameroonCanadaCape VerdeCayman IslandsCentral African RepublicChadChileChinaChristmas IslandCocos IslandsColombiaComorosCongoCongo\, Democratic Republic of theCook IslandsCosta RicaCroatiaCubaCuraçaoCyprusCzechiaCôte d'IvoireDenmarkDjiboutiDominicaDominican RepublicEcuadorEgyptEl SalvadorEquatorial GuineaEritreaEstoniaEswatiniEthiopiaFalkland IslandsFaroe IslandsFijiFinlandFranceFrench GuianaFrench PolynesiaFrench Southern TerritoriesGabonGambiaGeorgiaGermanyGhanaGibraltarGreeceGreenlandGrenadaGuadeloupeGuamGuatemalaGuernseyGuineaGuinea-BissauGuyanaHaitiHeard Island and McDonald IslandsHoly SeeHondurasHong KongHungaryIcelandIndiaIndonesiaIranIraqIrelandIsle of ManIsraelItalyJamaicaJapanJerseyJordanKazakhstanKenyaKiribatiKorea\, Democratic People's Republic ofKorea\, Republic ofKuwaitKyrgyzstanLao People's Democratic RepublicLatviaLebanonLesothoLiberiaLibyaLiechtensteinLithuaniaLuxembourgMacaoMadagascarMalawiMalaysiaMaldivesMaliMaltaMarshall IslandsMartiniqueMauritaniaMauritiusMayotteMexicoMicronesiaMoldovaMonacoMongoliaMontenegroMontserratMoroccoMozambiqueMyanmarNamibiaNauruNepalNetherlandsNew CaledoniaNew ZealandNicaraguaNigerNigeriaNiueNorfolk IslandNorth MacedoniaNorthern Mariana IslandsNorwayOmanPakistanPalauPalestine\, State ofPanamaPapua New GuineaParaguayPeruPhilippinesPitcairnPolandPortugalPuerto RicoQatarRomaniaRussian FederationRwandaRéunionSaint BarthélemySaint Helena\, Ascension and Tristan da CunhaSaint Kitts and NevisSaint LuciaSaint MartinSaint Pierre and MiquelonSaint Vincent and the GrenadinesSamoaSan MarinoSao Tome and PrincipeSaudi ArabiaSenegalSerbiaSeychellesSierra LeoneSingaporeSint MaartenSlovakiaSloveniaSolomon IslandsSomaliaSouth AfricaSouth Georgia and the South Sandwich IslandsSouth SudanSpainSri LankaSudanSurinameSvalbard and Jan MayenSwedenSwitzerlandSyria Arab RepublicTaiwanTajikistanTanzania\, the United Republic ofThailandTimor-LesteTogoTokelauTongaTrinidad and TobagoTunisiaTurkmenistanTurks and Caicos IslandsTuvaluTürkiyeUS Minor Outlying IslandsUgandaUkraineUnited Arab EmiratesUnited KingdomUnited StatesUruguayUzbekistanVanuatuVenezuelaViet NamVirgin Islands\, BritishVirgin Islands\, U.S.Wallis and FutunaWestern SaharaYemenZambiaZimbabweÅland Islands\n                                        Country\n                                    \n                    \n                How many people are you looking at?1 - 2 Standard Rates3 - 5 Group Discount>10 In-House Training\, Huge Savings!Undecided\, need more informationThis is just an approximate number. You can finalise it when you send in the registration form.\n								\n								Send me brochure\n							Comments:CAPTCHA
URL:https://www.opuskinetic.com/training/advanced-well-integrity-management/2025-07-16/
LOCATION:Kuala Lumpur\, Federal Territory of Kuala Lumpur\, Kuala Lumpur\, Malaysia
CATEGORIES:Drilling,Oil/Gas/Petrochemicals,Well Engineering
ATTACH;FMTTYPE=image/png:https://www.opuskinetic.com/wp-content/uploads/2021/12/well-integrity-FI1.png
ORGANIZER;CN="Opus Kinetic Pte Ltd":MAILTO:info@opuskinetic.com
GEO:3.1384965;101.7099933
END:VEVENT
BEGIN:VEVENT
DTSTART;VALUE=DATE:20250731
DTEND;VALUE=DATE:20250802
DTSTAMP:20260420T192455
CREATED:20250224T025409Z
LAST-MODIFIED:20251124T074553Z
UID:10002127-1753952400-1754067600@www.opuskinetic.com
SUMMARY:Mastering Drilling Contracts
DESCRIPTION:Why Choose this Training Course\nThis is a drilling contracts training. The ‘Upstream’ or Exploration and Production (E&P) segment of the International Oil and Gas Industry\, is in all probability\, the riskiest in terms of capital intensity\, long payback periods; technological dependence and a host of legal/environmental compliance requirements. It is commonplace for entities seeking hydrocarbon reserves to offset this risk exposure through collective entities such as Joint Ventures. This drilling contracts training course has been specifically designed to provide the delegate with a holistic understanding not only of drilling contracts\, but to understand them within the wider context of the larger governing framework of which they are a part in terms of hydrocarbon discovery and extraction. The course is an immersive experience and the focus is on open dialogue throughout and class exercises/problem solving and knowledge sharing. \nWho Should Attend\n\nPeople involved in Contract Management and Administration of Drilling Contract during project execution\nPeople involved in Negotiation of Drilling Contract\nContract Lawyers & Attorneys—Rig/Drilling\n\nContract Executives & Managers—Rig/Drilling\n\nContract Negotiators—Rig/Drilling\n\nContract Managers/Administrators\n\nRig Procurement Managers\n\nDrilling Contractor Marketing Personnel\n\nProject\, Operations\, and Rig Managers\n\nAccounting and Operational Personnel\n\nBusiness Unit Heads with responsibility for Rig Selection and Management of Drilling Operations\n\nKey Learning Objectives\n\nUnderstand some of the key issues that must be incorporated into a statement of requirements when tendering for a drilling contractor\n\nGrasp the basic different forms of drilling contracts\n\nBecome familiar with the key contractual elements of a drilling contract\n\nBe able to discern both the advantages and disadvantages that stem from being involved within a JV\nKnow what a JOA is and what it does\n\nUnderstand what a Joint Operating Committee (JOC) is and what it does\n\nGrasp the essentials of stakeholder management and why this is important to commercial contracts\n\nBecome aware of the differing formats and mechanisms that can be used to resolve disputes\n\nHave awareness of some of the different abandonment securities that exist/are imposed in different jurisdictions
URL:https://www.opuskinetic.com/training/masterclass-on-understanding-drilling-contracts-2-2/2025-07-31/
LOCATION:Kuala Lumpur\, Federal Territory of Kuala Lumpur\, Kuala Lumpur\, Malaysia
CATEGORIES:Contracts,Drilling,Management and Leadership Development,Well Engineering
ATTACH;FMTTYPE=image/jpeg:https://www.opuskinetic.com/wp-content/uploads/2020/06/OFFSHORE-DRILLING-scaled.jpg
ORGANIZER;CN="Opus Kinetic Pte Ltd":MAILTO:info@opuskinetic.com
GEO:3.1384965;101.7099933
END:VEVENT
END:VCALENDAR