BEGIN:VCALENDAR
VERSION:2.0
PRODID:-//Opus Kinetic - ECPv6.15.12.2//NONSGML v1.0//EN
CALSCALE:GREGORIAN
METHOD:PUBLISH
X-ORIGINAL-URL:https://www.opuskinetic.com
X-WR-CALDESC:Events for Opus Kinetic
REFRESH-INTERVAL;VALUE=DURATION:PT1H
X-Robots-Tag:noindex
X-PUBLISHED-TTL:PT1H
BEGIN:VTIMEZONE
TZID:Asia/Singapore
BEGIN:STANDARD
TZOFFSETFROM:+0800
TZOFFSETTO:+0800
TZNAME:+08
DTSTART:20230101T000000
END:STANDARD
END:VTIMEZONE
BEGIN:VEVENT
DTSTART;VALUE=DATE:20240807
DTEND;VALUE=DATE:20240810
DTSTAMP:20260421T050632
CREATED:20230318T045006Z
LAST-MODIFIED:20250401T052032Z
UID:10001559-1723017600-1723222800@www.opuskinetic.com
SUMMARY:Petroleum Systems in Conventional and Unconventional E&P
DESCRIPTION:Why Choose this Training Course\nThis petroleum systems training will arm geologists and engineers with advanced capabilities to: identify\, map and evaluate new plays; identify storage and production sweet spots in plays; identify vertical/by-passed storage and production sweet spots to optimize landing zones in new and existing plays. \nThe petroleum systems training course teaches how to use regional geology\, geochemistry and petroleum systems modeling in evaluating unconventional/resource play reservoirs. The processes discussed range from deposition of the organic-rich rock; generation\, expulsion\, migration and accumulation processes leading to saturation of the reservoir; to the prediction of reservoir and produced fluid properties and values. \nWho Should Attend\n\nGeoscientists working on deepwater sediments\, whether in exploration\, appraisal\, development or production.\n\nKey Learning Objectives\n\nUnderstand modern approaches to categorizing source rocks: their potential and distribution.\nEstablish the link between organic matter and petroleum: the organofacies scheme and the geochemistry and composi-tion of oil & gas\nIdentify how the thermics of sedimentary basins and kinetics/organic matter quality control expelled petroleum volumes and compositions.\nUnderstand the effects of pressure and capillarity: petroleum migration and accumulation are flip-sides of the same process\, controlling reservoir saturation patterns.\nDifferentiate between potentially producible fluid vs. immobile sorbed petroleum in organic-rich reservoirs.\nEmploy sweet-spot mapping of well performance from a pressure and fluid perspective\, and fluid prediction using advanced pyrolysis methods in well samples.\n\nEnquiry Form\n\n\n                 \n \n                        SalutationMr.Ms.Miss.Mrs.Mdm.Dr.Prof.Capt.-Name*\n                            \n                            \n                                                    \n                                                    First\n                                                \n                            \n                            \n                                                    \n                                                    Last\n                                                \n                            \n                        Phone*Email*\n                            \n                        Company*Current Location*    \n                    \n                        \n                                        AfghanistanAlbaniaAlgeriaAmerican SamoaAndorraAngolaAnguillaAntarcticaAntigua and BarbudaArgentinaArmeniaArubaAustraliaAustriaAzerbaijanBahamasBahrainBangladeshBarbadosBelarusBelgiumBelizeBeninBermudaBhutanBoliviaBonaire\, Sint Eustatius and SabaBosnia and HerzegovinaBotswanaBouvet IslandBrazilBritish Indian Ocean TerritoryBrunei DarussalamBulgariaBurkina FasoBurundiCambodiaCameroonCanadaCape VerdeCayman IslandsCentral African RepublicChadChileChinaChristmas IslandCocos IslandsColombiaComorosCongoCongo\, Democratic Republic of theCook IslandsCosta RicaCroatiaCubaCuraçaoCyprusCzechiaCôte d'IvoireDenmarkDjiboutiDominicaDominican RepublicEcuadorEgyptEl SalvadorEquatorial GuineaEritreaEstoniaEswatiniEthiopiaFalkland IslandsFaroe IslandsFijiFinlandFranceFrench GuianaFrench PolynesiaFrench Southern TerritoriesGabonGambiaGeorgiaGermanyGhanaGibraltarGreeceGreenlandGrenadaGuadeloupeGuamGuatemalaGuernseyGuineaGuinea-BissauGuyanaHaitiHeard Island and McDonald IslandsHoly SeeHondurasHong KongHungaryIcelandIndiaIndonesiaIranIraqIrelandIsle of ManIsraelItalyJamaicaJapanJerseyJordanKazakhstanKenyaKiribatiKorea\, Democratic People's Republic ofKorea\, Republic ofKuwaitKyrgyzstanLao People's Democratic RepublicLatviaLebanonLesothoLiberiaLibyaLiechtensteinLithuaniaLuxembourgMacaoMadagascarMalawiMalaysiaMaldivesMaliMaltaMarshall IslandsMartiniqueMauritaniaMauritiusMayotteMexicoMicronesiaMoldovaMonacoMongoliaMontenegroMontserratMoroccoMozambiqueMyanmarNamibiaNauruNepalNetherlandsNew CaledoniaNew ZealandNicaraguaNigerNigeriaNiueNorfolk IslandNorth MacedoniaNorthern Mariana IslandsNorwayOmanPakistanPalauPalestine\, State ofPanamaPapua New GuineaParaguayPeruPhilippinesPitcairnPolandPortugalPuerto RicoQatarRomaniaRussian FederationRwandaRéunionSaint BarthélemySaint Helena\, Ascension and Tristan da CunhaSaint Kitts and NevisSaint LuciaSaint MartinSaint Pierre and MiquelonSaint Vincent and the GrenadinesSamoaSan MarinoSao Tome and PrincipeSaudi ArabiaSenegalSerbiaSeychellesSierra LeoneSingaporeSint MaartenSlovakiaSloveniaSolomon IslandsSomaliaSouth AfricaSouth Georgia and the South Sandwich IslandsSouth SudanSpainSri LankaSudanSurinameSvalbard and Jan MayenSwedenSwitzerlandSyria Arab RepublicTaiwanTajikistanTanzania\, the United Republic ofThailandTimor-LesteTogoTokelauTongaTrinidad and TobagoTunisiaTurkmenistanTurks and Caicos IslandsTuvaluTürkiyeUS Minor Outlying IslandsUgandaUkraineUnited Arab EmiratesUnited KingdomUnited StatesUruguayUzbekistanVanuatuVenezuelaViet NamVirgin Islands\, BritishVirgin Islands\, U.S.Wallis and FutunaWestern SaharaYemenZambiaZimbabweÅland Islands\n                                        Country\n                                    \n                    \n                How many people are you looking at?1 - 2 Standard Rates3 - 5 Group Discount>10 In-House Training\, Huge Savings!Undecided\, need more informationThis is just an approximate number. You can finalise it when you send in the registration form.\n								\n								Send me brochure\n							Comments:CAPTCHA
URL:https://www.opuskinetic.com/training/petroleum-systems-in-conventional-and-unconventional-ep/2024-08-07/
LOCATION:Kuala Lumpur\, Federal Territory of Kuala Lumpur\, Kuala Lumpur\, Malaysia
CATEGORIES:Geology
ATTACH;FMTTYPE=image/png:https://www.opuskinetic.com/wp-content/uploads/2023/03/petroleum-systems-fi1.png
ORGANIZER;CN="Opus Kinetic Pte Ltd":MAILTO:info@opuskinetic.com
GEO:3.1384965;101.7099933
END:VEVENT
BEGIN:VEVENT
DTSTART;VALUE=DATE:20240821
DTEND;VALUE=DATE:20240824
DTSTAMP:20260421T050632
CREATED:20170623T064627Z
LAST-MODIFIED:20251002T023316Z
UID:10000182-1724198400-1724457599@www.opuskinetic.com
SUMMARY:Advanced Petroleum Data Management - Geophysical & Wells
DESCRIPTION:Why Choose this Training Course\nThis is a highly interactive course with multiple workshops where participants will create deliverables focused on their own company’s data management challenges and priorities. The focus is on subsurface digital data in the geophysical and well domains. It will be aligned with the unique challenges of operating in the Asia Pacific region such as having to liaise with external data stakeholders such as regulators\, National Oil Companies\, and joint venture partners. \nThe proof points in this course have been mapped from the Advanced Level of the public domain U.K. Oil and Gas Common Data Access (CDA) Competency Management System at https://www.cdacompetency.com/. The content will also be aligned with the Data Analyst Competency Profile and blueprint in the candidate handbook for the Professional Petroleum Data Management (PPDM) Certified Petroleum Data Analyst (CPDA) Examination. See: http://ppdm.org/certification. \nWho Should Attend\nThis geophysical data management training course is designed for professionals whose role is linked to data management and include job titles such as: \n\nE&P Data Managers\nData Executives/Engineers\nData Management Team Lead\nHeads of Data Management\nSeismic Data Engineers\nSubsurface Data Managers\nWell Data Managers\nPetroleum Data Managers\nData Application Specialists\nHead of Information Management\nHead of Knowledge Management\nHead of Upstream Systems\nHead of Information Strategy\nRecords Manager\nData/Information/Business/Technical Architect\n\nKey Learning Objectives\n\nPut in place systems and procedures for identifying\, describing and classifying internal and external digital data according to agreed standards.\nMonitor your organisation’s performance with respect to compliance internally and externally.\nSet-up and configure systems to archive data and ensure adequate metadata is captured for later retrieval.\nSelectively support\, monitor and report project activities by identifying the data management activities required.\nAbility to review a backup disaster recovery plan and determine its robustness.\nIdentify areas of stress/weakness and allocate resources\, implement processes and strategies to manage data asset through the exploit/use phase of the lifecycle.\nTroubleshoot data quality problems related to missing or insufficient standards.\n\nEnquiry Form\n\n                 \n \n                        SalutationMr.Ms.Miss.Mrs.Mdm.Dr.Prof.Capt.-Name*\n                            \n                            \n                                                    \n                                                    First\n                                                \n                            \n                            \n                                                    \n                                                    Last\n                                                \n                            \n                        Phone*Email*\n                            \n                        Company*Current Location*    \n                    \n                        \n                                        AfghanistanAlbaniaAlgeriaAmerican SamoaAndorraAngolaAnguillaAntarcticaAntigua and BarbudaArgentinaArmeniaArubaAustraliaAustriaAzerbaijanBahamasBahrainBangladeshBarbadosBelarusBelgiumBelizeBeninBermudaBhutanBoliviaBonaire\, Sint Eustatius and SabaBosnia and HerzegovinaBotswanaBouvet IslandBrazilBritish Indian Ocean TerritoryBrunei DarussalamBulgariaBurkina FasoBurundiCambodiaCameroonCanadaCape VerdeCayman IslandsCentral African RepublicChadChileChinaChristmas IslandCocos IslandsColombiaComorosCongoCongo\, Democratic Republic of theCook IslandsCosta RicaCroatiaCubaCuraçaoCyprusCzechiaCôte d'IvoireDenmarkDjiboutiDominicaDominican RepublicEcuadorEgyptEl SalvadorEquatorial GuineaEritreaEstoniaEswatiniEthiopiaFalkland IslandsFaroe IslandsFijiFinlandFranceFrench GuianaFrench PolynesiaFrench Southern TerritoriesGabonGambiaGeorgiaGermanyGhanaGibraltarGreeceGreenlandGrenadaGuadeloupeGuamGuatemalaGuernseyGuineaGuinea-BissauGuyanaHaitiHeard Island and McDonald IslandsHoly SeeHondurasHong KongHungaryIcelandIndiaIndonesiaIranIraqIrelandIsle of ManIsraelItalyJamaicaJapanJerseyJordanKazakhstanKenyaKiribatiKorea\, Democratic People's Republic ofKorea\, Republic ofKuwaitKyrgyzstanLao People's Democratic RepublicLatviaLebanonLesothoLiberiaLibyaLiechtensteinLithuaniaLuxembourgMacaoMadagascarMalawiMalaysiaMaldivesMaliMaltaMarshall IslandsMartiniqueMauritaniaMauritiusMayotteMexicoMicronesiaMoldovaMonacoMongoliaMontenegroMontserratMoroccoMozambiqueMyanmarNamibiaNauruNepalNetherlandsNew CaledoniaNew ZealandNicaraguaNigerNigeriaNiueNorfolk IslandNorth MacedoniaNorthern Mariana IslandsNorwayOmanPakistanPalauPalestine\, State ofPanamaPapua New GuineaParaguayPeruPhilippinesPitcairnPolandPortugalPuerto RicoQatarRomaniaRussian FederationRwandaRéunionSaint BarthélemySaint Helena\, Ascension and Tristan da CunhaSaint Kitts and NevisSaint LuciaSaint MartinSaint Pierre and MiquelonSaint Vincent and the GrenadinesSamoaSan MarinoSao Tome and PrincipeSaudi ArabiaSenegalSerbiaSeychellesSierra LeoneSingaporeSint MaartenSlovakiaSloveniaSolomon IslandsSomaliaSouth AfricaSouth Georgia and the South Sandwich IslandsSouth SudanSpainSri LankaSudanSurinameSvalbard and Jan MayenSwedenSwitzerlandSyria Arab RepublicTaiwanTajikistanTanzania\, the United Republic ofThailandTimor-LesteTogoTokelauTongaTrinidad and TobagoTunisiaTurkmenistanTurks and Caicos IslandsTuvaluTürkiyeUS Minor Outlying IslandsUgandaUkraineUnited Arab EmiratesUnited KingdomUnited StatesUruguayUzbekistanVanuatuVenezuelaViet NamVirgin Islands\, BritishVirgin Islands\, U.S.Wallis and FutunaWestern SaharaYemenZambiaZimbabweÅland Islands\n                                        Country\n                                    \n                    \n                How many people are you looking at?1 - 2 Standard Rates3 - 5 Group Discount>10 In-House Training\, Huge Savings!Undecided\, need more informationThis is just an approximate number. You can finalise it when you send in the registration form.\n								\n								Send me brochure\n							Comments:CAPTCHA
URL:https://www.opuskinetic.com/training/advanced-petroleum-data-management-geophysical-wells/2024-08-21/
LOCATION:Malaysia\, Malaysia
CATEGORIES:Big Data, AI & Cybersecurity,Geology,Oil/Gas/Petrochemicals
ATTACH;FMTTYPE=image/png:https://www.opuskinetic.com/wp-content/uploads/2017/06/petroleum-data-fi1.png
ORGANIZER;CN="Opus Kinetic Pte Ltd":MAILTO:info@opuskinetic.com
GEO:4.210484;101.975766
END:VEVENT
BEGIN:VEVENT
DTSTART;VALUE=DATE:20240826
DTEND;VALUE=DATE:20240829
DTSTAMP:20260421T050632
CREATED:20220622T110056Z
LAST-MODIFIED:20250203T044841Z
UID:10001665-1724662800-1724864400@www.opuskinetic.com
SUMMARY:Coiled Tubing Operations
DESCRIPTION:Why Choose this Training Course\nThis coiled tubing training course is designed to introduce an overview of the coiled tubing operations concept and its applications in oil fields. It introduces variety of the coiled tubing technologies with special attention to the unit as surface equipment and downhole tools. The course also covers the main components\, application envelope and coiled tubing special applications as well as the contingency plan for all possible situations which could be encountered throughout various operations. Moreover\, the course provides better understanding\, enhance knowledge and strengthen the decision-making capability of the participants about all types of wellbore treatments implemented to recover or enhance the well performance throughout presentations\, case studies\, group discussions and exercise as well as practical videos of actual cases. \nWho Should Attend\n\nProduction Engineers\nField Operations Engineers\nDrilling Engineers\nReservoir Engineers\nPetroleum Engineers\nCoiled tubing Supervisors/Operators\nOperations Engineers/Supervisors\nField Service Engineers\n\nKey Learning Objectives\n\nUnderstand the fundamentals & concept of the coiled tubing unit\nIncrease awareness and knowledge of the coiled tubing operations and factors affecting its performance.\nAcquire necessary knowledge of the coiled tubing operational techniques\, technologies and equipment.\nUnderstand alternate deployment scenarios and multisensory applications for surveillance and optimization.\nPossess the basic skills required to select and implement various coiled tubing techniques as per operational requirements.\nBe able to handle various coiled tubing emergency situations\, plan its operations\, monitor and analyze its performance\nLearn strategies and best practices for coiled tubing operations optimization\nUnderstand the geological and basic reservoir properties\nUnderstand the formation damage concept and mechanism\nUnderstand the effect of formation damage on revenue of the operator\nUnderstand the impact of skin damage effect on productivity for both vertical and horizontal wells.\nGain knowledge about various types of wellbore treatments to remove formation damage.\nAcquire knowledge on how to select the best fluid (less damaging) at every phase of the well development: drilling\, completion\, cementing\, perforating\, stimulation\, gravel packing\, workover\, production and injection operations\n\nEnquiry Form\n\n                 \n \n                        SalutationMr.Ms.Miss.Mrs.Mdm.Dr.Prof.Capt.-Name*\n                            \n                            \n                                                    \n                                                    First\n                                                \n                            \n                            \n                                                    \n                                                    Last\n                                                \n                            \n                        Phone*Email*\n                            \n                        Company*Current Location*    \n                    \n                        \n                                        AfghanistanAlbaniaAlgeriaAmerican SamoaAndorraAngolaAnguillaAntarcticaAntigua and BarbudaArgentinaArmeniaArubaAustraliaAustriaAzerbaijanBahamasBahrainBangladeshBarbadosBelarusBelgiumBelizeBeninBermudaBhutanBoliviaBonaire\, Sint Eustatius and SabaBosnia and HerzegovinaBotswanaBouvet IslandBrazilBritish Indian Ocean TerritoryBrunei DarussalamBulgariaBurkina FasoBurundiCambodiaCameroonCanadaCape VerdeCayman IslandsCentral African RepublicChadChileChinaChristmas IslandCocos IslandsColombiaComorosCongoCongo\, Democratic Republic of theCook IslandsCosta RicaCroatiaCubaCuraçaoCyprusCzechiaCôte d'IvoireDenmarkDjiboutiDominicaDominican RepublicEcuadorEgyptEl SalvadorEquatorial GuineaEritreaEstoniaEswatiniEthiopiaFalkland IslandsFaroe IslandsFijiFinlandFranceFrench GuianaFrench PolynesiaFrench Southern TerritoriesGabonGambiaGeorgiaGermanyGhanaGibraltarGreeceGreenlandGrenadaGuadeloupeGuamGuatemalaGuernseyGuineaGuinea-BissauGuyanaHaitiHeard Island and McDonald IslandsHoly SeeHondurasHong KongHungaryIcelandIndiaIndonesiaIranIraqIrelandIsle of ManIsraelItalyJamaicaJapanJerseyJordanKazakhstanKenyaKiribatiKorea\, Democratic People's Republic ofKorea\, Republic ofKuwaitKyrgyzstanLao People's Democratic RepublicLatviaLebanonLesothoLiberiaLibyaLiechtensteinLithuaniaLuxembourgMacaoMadagascarMalawiMalaysiaMaldivesMaliMaltaMarshall IslandsMartiniqueMauritaniaMauritiusMayotteMexicoMicronesiaMoldovaMonacoMongoliaMontenegroMontserratMoroccoMozambiqueMyanmarNamibiaNauruNepalNetherlandsNew CaledoniaNew ZealandNicaraguaNigerNigeriaNiueNorfolk IslandNorth MacedoniaNorthern Mariana IslandsNorwayOmanPakistanPalauPalestine\, State ofPanamaPapua New GuineaParaguayPeruPhilippinesPitcairnPolandPortugalPuerto RicoQatarRomaniaRussian FederationRwandaRéunionSaint BarthélemySaint Helena\, Ascension and Tristan da CunhaSaint Kitts and NevisSaint LuciaSaint MartinSaint Pierre and MiquelonSaint Vincent and the GrenadinesSamoaSan MarinoSao Tome and PrincipeSaudi ArabiaSenegalSerbiaSeychellesSierra LeoneSingaporeSint MaartenSlovakiaSloveniaSolomon IslandsSomaliaSouth AfricaSouth Georgia and the South Sandwich IslandsSouth SudanSpainSri LankaSudanSurinameSvalbard and Jan MayenSwedenSwitzerlandSyria Arab RepublicTaiwanTajikistanTanzania\, the United Republic ofThailandTimor-LesteTogoTokelauTongaTrinidad and TobagoTunisiaTurkmenistanTurks and Caicos IslandsTuvaluTürkiyeUS Minor Outlying IslandsUgandaUkraineUnited Arab EmiratesUnited KingdomUnited StatesUruguayUzbekistanVanuatuVenezuelaViet NamVirgin Islands\, BritishVirgin Islands\, U.S.Wallis and FutunaWestern SaharaYemenZambiaZimbabweÅland Islands\n                                        Country\n                                    \n                    \n                How many people are you looking at?1 - 2 Standard Rates3 - 5 Group Discount>10 In-House Training\, Huge Savings!Undecided\, need more informationThis is just an approximate number. You can finalise it when you send in the registration form.\n								\n								Send me brochure\n							Comments:CAPTCHA
URL:https://www.opuskinetic.com/training/coiled-tubing-training/2024-08-26/
LOCATION:Kuala Lumpur\, Federal Territory of Kuala Lumpur\, Kuala Lumpur\, Malaysia
CATEGORIES:Drilling,Oil/Gas/Petrochemicals,Operations,Production
ATTACH;FMTTYPE=image/jpeg:https://www.opuskinetic.com/wp-content/uploads/2022/06/coiledtubing-FI.jpg
ORGANIZER;CN="Opus Kinetic Pte Ltd":MAILTO:info@opuskinetic.com
GEO:3.1384965;101.7099933
END:VEVENT
BEGIN:VEVENT
DTSTART;VALUE=DATE:20240826
DTEND;VALUE=DATE:20240829
DTSTAMP:20260421T050632
CREATED:20230306T063104Z
LAST-MODIFIED:20250110T073734Z
UID:10001613-1724662800-1724864400@www.opuskinetic.com
SUMMARY:Professional Data Management for New Energy
DESCRIPTION:Why Choose this Training Course\nThis is new energy data management training focuses on professional data management using industry standard terminology. \n\nUse industry standard terminology used in professional data management for new energy projects\nIdentify ways to calculate and communicate the value of effective data management\nExplain how an embedded data workflow can increase productivity for energy transition\nRecognize how data is managed across a new energy asset lifecyle\nUnderstand how to establish standards compliant mandatory metadata for new data types\nDefine key dimensions of data quality relevant to data supporting low carbon business decisions\nDescribe strategies for linking physical and digital data for low-carbon asset teams\nCategorize tiers of data storage based on renewable energy usage and retention policies\nDistinguish between backups\, disaster recovery\, and business continuity for new energy projects\nHave an awareness of legal\, privacy and regulatory considerations for ESG technical data\nDiscuss how to meet data security and privacy requirements when working on energy transition\nLeverage key new energy technologies to deploy a data management solution\n\nWho Should Attend\nThis new energy data management training is designed for professionals whose role is linked to data management and include job titles such as: \n\nE&P Data Managers\nData Executives/Engineers\nData Management Team Lead\nHeads of Data Management\nSeismic Data Engineers\nSubsurface Data Managers\nWell Data Managers\nPetroleum Data Managers\nData Application Specialists\nHead of Information Management\nHead of Knowledge Management\nHead of Upstream Systems\nHead of Information Strategy\nRecords Manager\nData/Information/Business/Technical Architect\n\nEnquiry Form\n\n                 \n \n                        SalutationMr.Ms.Miss.Mrs.Mdm.Dr.Prof.Capt.-Name*\n                            \n                            \n                                                    \n                                                    First\n                                                \n                            \n                            \n                                                    \n                                                    Last\n                                                \n                            \n                        Phone*Email*\n                            \n                        Company*Current Location*    \n                    \n                        \n                                        AfghanistanAlbaniaAlgeriaAmerican SamoaAndorraAngolaAnguillaAntarcticaAntigua and BarbudaArgentinaArmeniaArubaAustraliaAustriaAzerbaijanBahamasBahrainBangladeshBarbadosBelarusBelgiumBelizeBeninBermudaBhutanBoliviaBonaire\, Sint Eustatius and SabaBosnia and HerzegovinaBotswanaBouvet IslandBrazilBritish Indian Ocean TerritoryBrunei DarussalamBulgariaBurkina FasoBurundiCambodiaCameroonCanadaCape VerdeCayman IslandsCentral African RepublicChadChileChinaChristmas IslandCocos IslandsColombiaComorosCongoCongo\, Democratic Republic of theCook IslandsCosta RicaCroatiaCubaCuraçaoCyprusCzechiaCôte d'IvoireDenmarkDjiboutiDominicaDominican RepublicEcuadorEgyptEl SalvadorEquatorial GuineaEritreaEstoniaEswatiniEthiopiaFalkland IslandsFaroe IslandsFijiFinlandFranceFrench GuianaFrench PolynesiaFrench Southern TerritoriesGabonGambiaGeorgiaGermanyGhanaGibraltarGreeceGreenlandGrenadaGuadeloupeGuamGuatemalaGuernseyGuineaGuinea-BissauGuyanaHaitiHeard Island and McDonald IslandsHoly SeeHondurasHong KongHungaryIcelandIndiaIndonesiaIranIraqIrelandIsle of ManIsraelItalyJamaicaJapanJerseyJordanKazakhstanKenyaKiribatiKorea\, Democratic People's Republic ofKorea\, Republic ofKuwaitKyrgyzstanLao People's Democratic RepublicLatviaLebanonLesothoLiberiaLibyaLiechtensteinLithuaniaLuxembourgMacaoMadagascarMalawiMalaysiaMaldivesMaliMaltaMarshall IslandsMartiniqueMauritaniaMauritiusMayotteMexicoMicronesiaMoldovaMonacoMongoliaMontenegroMontserratMoroccoMozambiqueMyanmarNamibiaNauruNepalNetherlandsNew CaledoniaNew ZealandNicaraguaNigerNigeriaNiueNorfolk IslandNorth MacedoniaNorthern Mariana IslandsNorwayOmanPakistanPalauPalestine\, State ofPanamaPapua New GuineaParaguayPeruPhilippinesPitcairnPolandPortugalPuerto RicoQatarRomaniaRussian FederationRwandaRéunionSaint BarthélemySaint Helena\, Ascension and Tristan da CunhaSaint Kitts and NevisSaint LuciaSaint MartinSaint Pierre and MiquelonSaint Vincent and the GrenadinesSamoaSan MarinoSao Tome and PrincipeSaudi ArabiaSenegalSerbiaSeychellesSierra LeoneSingaporeSint MaartenSlovakiaSloveniaSolomon IslandsSomaliaSouth AfricaSouth Georgia and the South Sandwich IslandsSouth SudanSpainSri LankaSudanSurinameSvalbard and Jan MayenSwedenSwitzerlandSyria Arab RepublicTaiwanTajikistanTanzania\, the United Republic ofThailandTimor-LesteTogoTokelauTongaTrinidad and TobagoTunisiaTurkmenistanTurks and Caicos IslandsTuvaluTürkiyeUS Minor Outlying IslandsUgandaUkraineUnited Arab EmiratesUnited KingdomUnited StatesUruguayUzbekistanVanuatuVenezuelaViet NamVirgin Islands\, BritishVirgin Islands\, U.S.Wallis and FutunaWestern SaharaYemenZambiaZimbabweÅland Islands\n                                        Country\n                                    \n                    \n                How many people are you looking at?1 - 2 Standard Rates3 - 5 Group Discount>10 In-House Training\, Huge Savings!Undecided\, need more informationThis is just an approximate number. You can finalise it when you send in the registration form.\n								\n								Send me brochure\n							Comments:CAPTCHA
URL:https://www.opuskinetic.com/training/professional-data-management-for-new-energy/2024-08-26/
LOCATION:Kuala Lumpur\, Federal Territory of Kuala Lumpur\, Kuala Lumpur\, Malaysia
ATTACH;FMTTYPE=image/png:https://www.opuskinetic.com/wp-content/uploads/2023/03/data-management-fi1.png
ORGANIZER;CN="Opus Kinetic Pte Ltd":MAILTO:info@opuskinetic.com
GEO:3.1384965;101.7099933
END:VEVENT
END:VCALENDAR