BEGIN:VCALENDAR
VERSION:2.0
PRODID:-//Opus Kinetic - ECPv6.15.12.2//NONSGML v1.0//EN
CALSCALE:GREGORIAN
METHOD:PUBLISH
X-WR-CALNAME:Opus Kinetic
X-ORIGINAL-URL:https://www.opuskinetic.com
X-WR-CALDESC:Events for Opus Kinetic
REFRESH-INTERVAL;VALUE=DURATION:PT1H
X-Robots-Tag:noindex
X-PUBLISHED-TTL:PT1H
BEGIN:VTIMEZONE
TZID:Asia/Singapore
BEGIN:STANDARD
TZOFFSETFROM:+0800
TZOFFSETTO:+0800
TZNAME:+08
DTSTART:20250101T000000
END:STANDARD
END:VTIMEZONE
BEGIN:VEVENT
DTSTART;VALUE=DATE:20260706
DTEND;VALUE=DATE:20260711
DTSTAMP:20260421T140727
CREATED:20220524T091336Z
LAST-MODIFIED:20260130T045220Z
UID:10002371-1783324800-1783702800@www.opuskinetic.com
SUMMARY:ACEA Training Course: Advanced Certificate for the Executive Assistant
DESCRIPTION:Why Choose this Training Course\nThe ACEA training course is a Groundbreaking\, Globally Recognised\, Certified Training Program for the modern day Executive Assistant. \nThe Advanced Certificate for the Executive Assistant: ACEA®  is a world-leading intensive and interactive 5-day executive level training programme\, that equips current and aspiring Executive Assistants with the skills and knowledge they need to become true “Business Partners”. \nThe role of the Executive Assistant is on a journey and the responsibilities of this highly demanding and visible role continue to grow exponentially. To succeed in their role in modern times it is now imperative that Executive Assistants have a deep understating of ‘the business’ and their Executives’ role & responsibilities. Organisations are looking for Assistants that possess ‘Executive Level’ business acumen and skills now more than ever. \nUniquely delivered from an Executive led perspective the ACEA training course focuses on delivering a fundamental conceptual understanding of business and organisations as well as practical skills\, including: \n\nStrategic Thinking\nCorporate Visions & Missions\nUnderstanding the linkages between Strategy\, Projects & Operations\nGoverning & Managing Projects\nCommunication Skills\nEmotional Intelligence\nLeadership skills including Influencing\, Negotiation and Conflict Management\nChange Management and Problem Solving\nRisk Management and Corporate Governance\nEthics & Corporate Social Responsibility\nUnderstanding the role of Financial and Management Accounting\,\nDeveloping Productivity and Time Management techniques\,\n… and much more:\n\nOver 2\,500 Executive Assistants have now participated in this globally recognised and ground-breaking ACEA® programme. \n \n\nACEA® is an International Association of Administrative Professionals (IAAP) Approved training course and qualifies for 28 recertification points.\nACEA® is accredited by the CPD Standards Office and qualifies for 30 CPD credits.\nACEA® is certified by Qualifi a recognised UK awarding body.\n\nWho Should Attend\n\nExecutive Assistants\nManagement Assistants\nChiefs of Staff\nOffice Managers\nSenior Assistants\nExecutive Personal Assistants\nExecutive Secretaries\nPersonal Assistants\nPersonal Secretaries\nAdministration Managers\nManagement Secretaries\nExecutive Personal Secretaries\n\nKey Learning Objectives\n\nGain an accredited Certificate approved by Qualifi\, a recognised UK Awarding Body\nBe awarded 30 CPD Credits from the CPD Standards Office www.cpdstandards.com\nGain a broader understanding of business\, increase your business acumen & bring new ideas / skills to your organisation\nGive your Executive greater confidence to delegate more important and critical tasks to you.\nBe able to manage projects more efficiently and assist your Executive in their role as Project Sponsor\nDevelop skills to increase your productivity through enhanced Time Management and Delegation Skills\nJoin & share experiences with EAs from other sectors and nationalities\nStand out with a globally recognised accredited certification\nEnhance the recognition of the role & its responsibilities\nRejuvenate your passion for your career\, take the next step up & progress career\nLearn from world renowned trainers & accomplished business leaders\nUse ACEA® on your business card and on your resume
URL:https://www.opuskinetic.com/training/advanced-certificate-for-the-executive-assistant-acea-training-course-singapore-malaysia/2026-07-06/
LOCATION:Kuala Lumpur\, Federal Territory of Kuala Lumpur\, Kuala Lumpur\, Malaysia
CATEGORIES:Corporate, Business Management and HR,Management and Leadership Development
ATTACH;FMTTYPE=image/jpeg:https://www.opuskinetic.com/wp-content/uploads/2022/05/ACEA-FI.jpg
ORGANIZER;CN="Opus Kinetic Pte Ltd":MAILTO:info@opuskinetic.com
GEO:3.1384965;101.7099933
END:VEVENT
END:VCALENDAR