BEGIN:VCALENDAR
VERSION:2.0
PRODID:-//Opus Kinetic - ECPv6.15.12.2//NONSGML v1.0//EN
CALSCALE:GREGORIAN
METHOD:PUBLISH
X-ORIGINAL-URL:https://www.opuskinetic.com
X-WR-CALDESC:Events for Opus Kinetic
REFRESH-INTERVAL;VALUE=DURATION:PT1H
X-Robots-Tag:noindex
X-PUBLISHED-TTL:PT1H
BEGIN:VTIMEZONE
TZID:Asia/Singapore
BEGIN:STANDARD
TZOFFSETFROM:+0800
TZOFFSETTO:+0800
TZNAME:+08
DTSTART:20250101T000000
END:STANDARD
END:VTIMEZONE
BEGIN:VEVENT
DTSTART;TZID=Asia/Singapore:20260803T080000
DTEND;TZID=Asia/Singapore:20260807T120000
DTSTAMP:20260422T035730
CREATED:20260421T124554Z
LAST-MODIFIED:20260421T125243Z
UID:10002479-1785744000-1786104000@www.opuskinetic.com
SUMMARY:Advances in 3D Seismic Interpretation
DESCRIPTION:Why Choose this Training Course\nThis advanced 3D seismic interpretation course provides a deep dive into the practical application of 3D seismic attributes. Participants will develop an intuitive grasp of which geological features are detectable and how acquisition and processing workflows impact attribute sensitivity. We will explore the geological “coupling” of seemingly independent attributes and evaluate modern reservoir characterization workflows used by leading software providers and service companies. \nWe are also a proud member of the Energy Institute of UK. \nWho Should Attend\n\nSeismic interpreters who wish to extract meaningful information from their data\nSeismic processors who want to find out different ways to characterize heavy oil formations.\nStratigraphers and structure geologists who use 3D seismic volumes to prepare detailed reservoir models\nReservoir engineers who want to understand about the seismic input to add detail to 3D reservoir models.\nStudents of geophysics who wish to become qualified interpreters.\n\nKey Learning Objectives\n\nEnhance subtle faults and folds by utilizing attributes derived from time-structure maps and multiple azimuth-limited seismic volumes.\n\nInterpret spectral anomalies\, thin-bed tuning\, and potential hydrocarbon indicators using spectral decomposition and wavelet transform analyses. \n\n\nOptimize data visualization by applying effective color schemes and combining multiple attributes into single images to improve geological communication. \n\n\nApply appropriate inversion algorithms—including elastic\, sparse-spike\, and geostatistical methods—to integrate earth models and synthetic seismograms for accurate lithologic characterization. \n\n\nAnalyze seismic singularities and amplitude variations with offset and azimuth (AVO/AZ) to delineate detailed stratigraphic and structural features. \n\n\nEvaluate the limitations of data resolution and imaging quality by identifying acquisition footprints and artifacts that constrain attribute analysis. \n\n\nImplement structural filtering and migration algorithms to suppress cross-cutting noise while preserving critical narrow lineaments and fractures. \n\n\nAssess and select optimal algorithms for volumetric calculations and processing parameters to maintain rigorous quality control throughout the seismic interpretation workflow. \n\n\nEnquiry Form\n\n\n                 \n \n                        SalutationMr.Ms.Miss.Mrs.Mdm.Dr.Prof.Capt.-Name*\n                            \n                            \n                                                    \n                                                    First\n                                                \n                            \n                            \n                                                    \n                                                    Last\n                                                \n                            \n                        Phone*Email*\n                            \n                        Company*Current Location*    \n                    \n                        \n                                        AfghanistanAlbaniaAlgeriaAmerican SamoaAndorraAngolaAnguillaAntarcticaAntigua and BarbudaArgentinaArmeniaArubaAustraliaAustriaAzerbaijanBahamasBahrainBangladeshBarbadosBelarusBelgiumBelizeBeninBermudaBhutanBoliviaBonaire\, Sint Eustatius and SabaBosnia and HerzegovinaBotswanaBouvet IslandBrazilBritish Indian Ocean TerritoryBrunei DarussalamBulgariaBurkina FasoBurundiCambodiaCameroonCanadaCape VerdeCayman IslandsCentral African RepublicChadChileChinaChristmas IslandCocos IslandsColombiaComorosCongoCongo\, Democratic Republic of theCook IslandsCosta RicaCroatiaCubaCuraçaoCyprusCzechiaCôte d'IvoireDenmarkDjiboutiDominicaDominican RepublicEcuadorEgyptEl SalvadorEquatorial GuineaEritreaEstoniaEswatiniEthiopiaFalkland IslandsFaroe IslandsFijiFinlandFranceFrench GuianaFrench PolynesiaFrench Southern TerritoriesGabonGambiaGeorgiaGermanyGhanaGibraltarGreeceGreenlandGrenadaGuadeloupeGuamGuatemalaGuernseyGuineaGuinea-BissauGuyanaHaitiHeard Island and McDonald IslandsHoly SeeHondurasHong KongHungaryIcelandIndiaIndonesiaIranIraqIrelandIsle of ManIsraelItalyJamaicaJapanJerseyJordanKazakhstanKenyaKiribatiKorea\, Democratic People's Republic ofKorea\, Republic ofKuwaitKyrgyzstanLao People's Democratic RepublicLatviaLebanonLesothoLiberiaLibyaLiechtensteinLithuaniaLuxembourgMacaoMadagascarMalawiMalaysiaMaldivesMaliMaltaMarshall IslandsMartiniqueMauritaniaMauritiusMayotteMexicoMicronesiaMoldovaMonacoMongoliaMontenegroMontserratMoroccoMozambiqueMyanmarNamibiaNauruNepalNetherlandsNew CaledoniaNew ZealandNicaraguaNigerNigeriaNiueNorfolk IslandNorth MacedoniaNorthern Mariana IslandsNorwayOmanPakistanPalauPalestine\, State ofPanamaPapua New GuineaParaguayPeruPhilippinesPitcairnPolandPortugalPuerto RicoQatarRomaniaRussian FederationRwandaRéunionSaint BarthélemySaint Helena\, Ascension and Tristan da CunhaSaint Kitts and NevisSaint LuciaSaint MartinSaint Pierre and MiquelonSaint Vincent and the GrenadinesSamoaSan MarinoSao Tome and PrincipeSaudi ArabiaSenegalSerbiaSeychellesSierra LeoneSingaporeSint MaartenSlovakiaSloveniaSolomon IslandsSomaliaSouth AfricaSouth Georgia and the South Sandwich IslandsSouth SudanSpainSri LankaSudanSurinameSvalbard and Jan MayenSwedenSwitzerlandSyria Arab RepublicTaiwanTajikistanTanzania\, the United Republic ofThailandTimor-LesteTogoTokelauTongaTrinidad and TobagoTunisiaTurkmenistanTurks and Caicos IslandsTuvaluTürkiyeUS Minor Outlying IslandsUgandaUkraineUnited Arab EmiratesUnited KingdomUnited StatesUruguayUzbekistanVanuatuVenezuelaViet NamVirgin Islands\, BritishVirgin Islands\, U.S.Wallis and FutunaWestern SaharaYemenZambiaZimbabweÅland Islands\n                                        Country\n                                    \n                    \n                How many people are you looking at?1 - 2 Standard Rates3 - 5 Group Discount>10 In-House Training\, Huge Savings!Undecided\, need more informationThis is just an approximate number. You can finalise it when you send in the registration form.\n								\n								Send me brochure\n							Comments:CAPTCHA
URL:https://www.opuskinetic.com/training/advances-in-3d-seismic-interpretation/
LOCATION:Virtual Instructor Led Training (VILT)
CATEGORIES:Geology,Oil/Gas/Petrochemicals
ATTACH;FMTTYPE=image/png:https://www.opuskinetic.com/wp-content/uploads/2026/04/3D-seismic-interpretation-fi1-scaled.png
ORGANIZER;CN="Opus Kinetic Pte Ltd":MAILTO:info@opuskinetic.com
END:VEVENT
END:VCALENDAR