BEGIN:VCALENDAR
VERSION:2.0
PRODID:-//Opus Kinetic - ECPv6.15.12.2//NONSGML v1.0//EN
CALSCALE:GREGORIAN
METHOD:PUBLISH
X-ORIGINAL-URL:https://www.opuskinetic.com
X-WR-CALDESC:Events for Opus Kinetic
REFRESH-INTERVAL;VALUE=DURATION:PT1H
X-Robots-Tag:noindex
X-PUBLISHED-TTL:PT1H
BEGIN:VTIMEZONE
TZID:Asia/Singapore
BEGIN:STANDARD
TZOFFSETFROM:+0800
TZOFFSETTO:+0800
TZNAME:+08
DTSTART:20220101T000000
END:STANDARD
END:VTIMEZONE
BEGIN:VEVENT
DTSTART;VALUE=DATE:20240515
DTEND;VALUE=DATE:20240518
DTSTAMP:20260421T194934
CREATED:20230502T073700Z
LAST-MODIFIED:20231026T014120Z
UID:10001516-1715763600-1715965200@www.opuskinetic.com
SUMMARY:Assessment and Review of Project Plans
DESCRIPTION:Why Choose this Training Course\nThis is a 3-days project plans training. A project is only as good as it’s plan and it is often an inconvenient truth that plans prove to be flawed or require adjustment as a project moves through its lifecycle. There are a huge number of variables that can impact upon a project’s performance and many of them simply cannot be known with any degree of certainty ahead of time. Raw material prices may suddenly fluctuate; new technology may change market conditions and accepted practices\, key resources can suddenly become unavailable – consider the impact that Covid -19 has had on projects globally\, for example. It is imperative that as part of a successful project rollout; delivery and handover to a client\, that project plans are subject to detailed assessment and review periodically as the project moves from initiation through to closeout.  The focus is on interactive dialogue and engagement – with attention focussed on class exercises and problem solving. \nWho Should Attend\nEngineers\, Managers\, Senior Managers and Heads of: \n\nProject Planning\nProject Audit\nProject Management Office\nProject Control / Cost Control\n\nKey Learning Objectives\n\nUnderstand the key parameters such as lifespan and complexity of a project that should always be assessed against the project planning function\nGrasp the significance in ensuring that a project is feasible and that there is alignment between corporate expectations and operational realities\nBe able assess the competencies and capabilities of key personnel involved with the project\nKnow why it is so critically important that the project scope is ‘set’ correctly\nAssess the project schedule and understand the importance of precedence to scheduling\nUnderstand the dynamics involved with project resource management\nKnow how to utilise change and variation orders to establish an audit trail\nBe able to identify; analyse and assess stakeholder strategy as per project plan\nBecome familiar with key issues such as Corporate Social Responsibility; environmental impact assessment and local content and understand how they might impact upon a project’s performance\nKnow how to assess project closeout provisions both administratively and contractually and ensure contractual compliance as per project scope and agreed deliverables.\n\nEnquiry Form\n\n\n                 \n \n                        SalutationMr.Ms.Miss.Mrs.Mdm.Dr.Prof.Capt.-Name*\n                            \n                            \n                                                    \n                                                    First\n                                                \n                            \n                            \n                                                    \n                                                    Last\n                                                \n                            \n                        Phone*Email*\n                            \n                        Company*Current Location*    \n                    \n                        \n                                        AfghanistanAlbaniaAlgeriaAmerican SamoaAndorraAngolaAnguillaAntarcticaAntigua and BarbudaArgentinaArmeniaArubaAustraliaAustriaAzerbaijanBahamasBahrainBangladeshBarbadosBelarusBelgiumBelizeBeninBermudaBhutanBoliviaBonaire\, Sint Eustatius and SabaBosnia and HerzegovinaBotswanaBouvet IslandBrazilBritish Indian Ocean TerritoryBrunei DarussalamBulgariaBurkina FasoBurundiCambodiaCameroonCanadaCape VerdeCayman IslandsCentral African RepublicChadChileChinaChristmas IslandCocos IslandsColombiaComorosCongoCongo\, Democratic Republic of theCook IslandsCosta RicaCroatiaCubaCuraçaoCyprusCzechiaCôte d'IvoireDenmarkDjiboutiDominicaDominican RepublicEcuadorEgyptEl SalvadorEquatorial GuineaEritreaEstoniaEswatiniEthiopiaFalkland IslandsFaroe IslandsFijiFinlandFranceFrench GuianaFrench PolynesiaFrench Southern TerritoriesGabonGambiaGeorgiaGermanyGhanaGibraltarGreeceGreenlandGrenadaGuadeloupeGuamGuatemalaGuernseyGuineaGuinea-BissauGuyanaHaitiHeard Island and McDonald IslandsHoly SeeHondurasHong KongHungaryIcelandIndiaIndonesiaIranIraqIrelandIsle of ManIsraelItalyJamaicaJapanJerseyJordanKazakhstanKenyaKiribatiKorea\, Democratic People's Republic ofKorea\, Republic ofKuwaitKyrgyzstanLao People's Democratic RepublicLatviaLebanonLesothoLiberiaLibyaLiechtensteinLithuaniaLuxembourgMacaoMadagascarMalawiMalaysiaMaldivesMaliMaltaMarshall IslandsMartiniqueMauritaniaMauritiusMayotteMexicoMicronesiaMoldovaMonacoMongoliaMontenegroMontserratMoroccoMozambiqueMyanmarNamibiaNauruNepalNetherlandsNew CaledoniaNew ZealandNicaraguaNigerNigeriaNiueNorfolk IslandNorth MacedoniaNorthern Mariana IslandsNorwayOmanPakistanPalauPalestine\, State ofPanamaPapua New GuineaParaguayPeruPhilippinesPitcairnPolandPortugalPuerto RicoQatarRomaniaRussian FederationRwandaRéunionSaint BarthélemySaint Helena\, Ascension and Tristan da CunhaSaint Kitts and NevisSaint LuciaSaint MartinSaint Pierre and MiquelonSaint Vincent and the GrenadinesSamoaSan MarinoSao Tome and PrincipeSaudi ArabiaSenegalSerbiaSeychellesSierra LeoneSingaporeSint MaartenSlovakiaSloveniaSolomon IslandsSomaliaSouth AfricaSouth Georgia and the South Sandwich IslandsSouth SudanSpainSri LankaSudanSurinameSvalbard and Jan MayenSwedenSwitzerlandSyria Arab RepublicTaiwanTajikistanTanzania\, the United Republic ofThailandTimor-LesteTogoTokelauTongaTrinidad and TobagoTunisiaTurkmenistanTurks and Caicos IslandsTuvaluTürkiyeUS Minor Outlying IslandsUgandaUkraineUnited Arab EmiratesUnited KingdomUnited StatesUruguayUzbekistanVanuatuVenezuelaViet NamVirgin Islands\, BritishVirgin Islands\, U.S.Wallis and FutunaWestern SaharaYemenZambiaZimbabweÅland Islands\n                                        Country\n                                    \n                    \n                How many people are you looking at?1 - 2 Standard Rates3 - 5 Group Discount>10 In-House Training\, Huge Savings!Undecided\, need more informationThis is just an approximate number. You can finalise it when you send in the registration form.\n								\n								Send me brochure\n							Comments:CAPTCHA
URL:https://www.opuskinetic.com/training/assessment-and-review-of-project-plans/2024-05-15/
LOCATION:Kuala Lumpur\, Federal Territory of Kuala Lumpur\, Kuala Lumpur\, Malaysia
CATEGORIES:Oil/Gas/Petrochemicals,Project
ATTACH;FMTTYPE=image/png:https://www.opuskinetic.com/wp-content/uploads/2023/05/project-planning-fi1.png
ORGANIZER;CN="Opus Kinetic Pte Ltd":MAILTO:info@opuskinetic.com
GEO:3.1384965;101.7099933
END:VEVENT
BEGIN:VEVENT
DTSTART;VALUE=DATE:20230710
DTEND;VALUE=DATE:20230713
DTSTAMP:20260421T194934
CREATED:20230502T073700Z
LAST-MODIFIED:20231026T014120Z
UID:10001483-1688947200-1689206340@www.opuskinetic.com
SUMMARY:Assessment and Review of Project Plans
DESCRIPTION:Why Choose this Training Course\nThis is a 3-days project plans training. A project is only as good as it’s plan and it is often an inconvenient truth that plans prove to be flawed or require adjustment as a project moves through its lifecycle. There are a huge number of variables that can impact upon a project’s performance and many of them simply cannot be known with any degree of certainty ahead of time. Raw material prices may suddenly fluctuate; new technology may change market conditions and accepted practices\, key resources can suddenly become unavailable – consider the impact that Covid -19 has had on projects globally\, for example. It is imperative that as part of a successful project rollout; delivery and handover to a client\, that project plans are subject to detailed assessment and review periodically as the project moves from initiation through to closeout.  The focus is on interactive dialogue and engagement – with attention focussed on class exercises and problem solving. \nWho Should Attend\nEngineers\, Managers\, Senior Managers and Heads of: \n\nProject Planning\nProject Audit\nProject Management Office\nProject Control / Cost Control\n\nKey Learning Objectives\n\nUnderstand the key parameters such as lifespan and complexity of a project that should always be assessed against the project planning function\nGrasp the significance in ensuring that a project is feasible and that there is alignment between corporate expectations and operational realities\nBe able assess the competencies and capabilities of key personnel involved with the project\nKnow why it is so critically important that the project scope is ‘set’ correctly\nAssess the project schedule and understand the importance of precedence to scheduling\nUnderstand the dynamics involved with project resource management\nKnow how to utilise change and variation orders to establish an audit trail\nBe able to identify; analyse and assess stakeholder strategy as per project plan\nBecome familiar with key issues such as Corporate Social Responsibility; environmental impact assessment and local content and understand how they might impact upon a project’s performance\nKnow how to assess project closeout provisions both administratively and contractually and ensure contractual compliance as per project scope and agreed deliverables.\n\nEnquiry Form\n\n                 \n \n                        SalutationMr.Ms.Miss.Mrs.Mdm.Dr.Prof.Capt.-Name*\n                            \n                            \n                                                    \n                                                    First\n                                                \n                            \n                            \n                                                    \n                                                    Last\n                                                \n                            \n                        Phone*Email*\n                            \n                        Company*Current Location*    \n                    \n                        \n                                        AfghanistanAlbaniaAlgeriaAmerican SamoaAndorraAngolaAnguillaAntarcticaAntigua and BarbudaArgentinaArmeniaArubaAustraliaAustriaAzerbaijanBahamasBahrainBangladeshBarbadosBelarusBelgiumBelizeBeninBermudaBhutanBoliviaBonaire\, Sint Eustatius and SabaBosnia and HerzegovinaBotswanaBouvet IslandBrazilBritish Indian Ocean TerritoryBrunei DarussalamBulgariaBurkina FasoBurundiCambodiaCameroonCanadaCape VerdeCayman IslandsCentral African RepublicChadChileChinaChristmas IslandCocos IslandsColombiaComorosCongoCongo\, Democratic Republic of theCook IslandsCosta RicaCroatiaCubaCuraçaoCyprusCzechiaCôte d'IvoireDenmarkDjiboutiDominicaDominican RepublicEcuadorEgyptEl SalvadorEquatorial GuineaEritreaEstoniaEswatiniEthiopiaFalkland IslandsFaroe IslandsFijiFinlandFranceFrench GuianaFrench PolynesiaFrench Southern TerritoriesGabonGambiaGeorgiaGermanyGhanaGibraltarGreeceGreenlandGrenadaGuadeloupeGuamGuatemalaGuernseyGuineaGuinea-BissauGuyanaHaitiHeard Island and McDonald IslandsHoly SeeHondurasHong KongHungaryIcelandIndiaIndonesiaIranIraqIrelandIsle of ManIsraelItalyJamaicaJapanJerseyJordanKazakhstanKenyaKiribatiKorea\, Democratic People's Republic ofKorea\, Republic ofKuwaitKyrgyzstanLao People's Democratic RepublicLatviaLebanonLesothoLiberiaLibyaLiechtensteinLithuaniaLuxembourgMacaoMadagascarMalawiMalaysiaMaldivesMaliMaltaMarshall IslandsMartiniqueMauritaniaMauritiusMayotteMexicoMicronesiaMoldovaMonacoMongoliaMontenegroMontserratMoroccoMozambiqueMyanmarNamibiaNauruNepalNetherlandsNew CaledoniaNew ZealandNicaraguaNigerNigeriaNiueNorfolk IslandNorth MacedoniaNorthern Mariana IslandsNorwayOmanPakistanPalauPalestine\, State ofPanamaPapua New GuineaParaguayPeruPhilippinesPitcairnPolandPortugalPuerto RicoQatarRomaniaRussian FederationRwandaRéunionSaint BarthélemySaint Helena\, Ascension and Tristan da CunhaSaint Kitts and NevisSaint LuciaSaint MartinSaint Pierre and MiquelonSaint Vincent and the GrenadinesSamoaSan MarinoSao Tome and PrincipeSaudi ArabiaSenegalSerbiaSeychellesSierra LeoneSingaporeSint MaartenSlovakiaSloveniaSolomon IslandsSomaliaSouth AfricaSouth Georgia and the South Sandwich IslandsSouth SudanSpainSri LankaSudanSurinameSvalbard and Jan MayenSwedenSwitzerlandSyria Arab RepublicTaiwanTajikistanTanzania\, the United Republic ofThailandTimor-LesteTogoTokelauTongaTrinidad and TobagoTunisiaTurkmenistanTurks and Caicos IslandsTuvaluTürkiyeUS Minor Outlying IslandsUgandaUkraineUnited Arab EmiratesUnited KingdomUnited StatesUruguayUzbekistanVanuatuVenezuelaViet NamVirgin Islands\, BritishVirgin Islands\, U.S.Wallis and FutunaWestern SaharaYemenZambiaZimbabweÅland Islands\n                                        Country\n                                    \n                    \n                How many people are you looking at?1 - 2 Standard Rates3 - 5 Group Discount>10 In-House Training\, Huge Savings!Undecided\, need more informationThis is just an approximate number. You can finalise it when you send in the registration form.\n								\n								Send me brochure\n							Comments:CAPTCHA
URL:https://www.opuskinetic.com/training/assessment-and-review-of-project-plans/2023-07-10/
LOCATION:Kuala Lumpur\, Federal Territory of Kuala Lumpur\, Kuala Lumpur\, Malaysia
CATEGORIES:Oil/Gas/Petrochemicals,Project
ATTACH;FMTTYPE=image/png:https://www.opuskinetic.com/wp-content/uploads/2023/05/project-planning-fi1.png
ORGANIZER;CN="Opus Kinetic Pte Ltd":MAILTO:info@opuskinetic.com
GEO:3.1384965;101.7099933
END:VEVENT
BEGIN:VEVENT
DTSTART;VALUE=DATE:20230517
DTEND;VALUE=DATE:20230520
DTSTAMP:20260421T194934
CREATED:20230502T073700Z
LAST-MODIFIED:20231026T014120Z
UID:10001482-1684281600-1684540740@www.opuskinetic.com
SUMMARY:Assessment and Review of Project Plans
DESCRIPTION:Why Choose this Training Course\nThis is a 3-days project plans training. A project is only as good as it’s plan and it is often an inconvenient truth that plans prove to be flawed or require adjustment as a project moves through its lifecycle. There are a huge number of variables that can impact upon a project’s performance and many of them simply cannot be known with any degree of certainty ahead of time. Raw material prices may suddenly fluctuate; new technology may change market conditions and accepted practices\, key resources can suddenly become unavailable – consider the impact that Covid -19 has had on projects globally\, for example. It is imperative that as part of a successful project rollout; delivery and handover to a client\, that project plans are subject to detailed assessment and review periodically as the project moves from initiation through to closeout.  The focus is on interactive dialogue and engagement – with attention focussed on class exercises and problem solving. \nWho Should Attend\nEngineers\, Managers\, Senior Managers and Heads of: \n\nProject Planning\nProject Audit\nProject Management Office\nProject Control / Cost Control\n\nKey Learning Objectives\n\nUnderstand the key parameters such as lifespan and complexity of a project that should always be assessed against the project planning function\nGrasp the significance in ensuring that a project is feasible and that there is alignment between corporate expectations and operational realities\nBe able assess the competencies and capabilities of key personnel involved with the project\nKnow why it is so critically important that the project scope is ‘set’ correctly\nAssess the project schedule and understand the importance of precedence to scheduling\nUnderstand the dynamics involved with project resource management\nKnow how to utilise change and variation orders to establish an audit trail\nBe able to identify; analyse and assess stakeholder strategy as per project plan\nBecome familiar with key issues such as Corporate Social Responsibility; environmental impact assessment and local content and understand how they might impact upon a project’s performance\nKnow how to assess project closeout provisions both administratively and contractually and ensure contractual compliance as per project scope and agreed deliverables.\n\nEnquiry Form\n\n                 \n \n                        SalutationMr.Ms.Miss.Mrs.Mdm.Dr.Prof.Capt.-Name*\n                            \n                            \n                                                    \n                                                    First\n                                                \n                            \n                            \n                                                    \n                                                    Last\n                                                \n                            \n                        Phone*Email*\n                            \n                        Company*Current Location*    \n                    \n                        \n                                        AfghanistanAlbaniaAlgeriaAmerican SamoaAndorraAngolaAnguillaAntarcticaAntigua and BarbudaArgentinaArmeniaArubaAustraliaAustriaAzerbaijanBahamasBahrainBangladeshBarbadosBelarusBelgiumBelizeBeninBermudaBhutanBoliviaBonaire\, Sint Eustatius and SabaBosnia and HerzegovinaBotswanaBouvet IslandBrazilBritish Indian Ocean TerritoryBrunei DarussalamBulgariaBurkina FasoBurundiCambodiaCameroonCanadaCape VerdeCayman IslandsCentral African RepublicChadChileChinaChristmas IslandCocos IslandsColombiaComorosCongoCongo\, Democratic Republic of theCook IslandsCosta RicaCroatiaCubaCuraçaoCyprusCzechiaCôte d'IvoireDenmarkDjiboutiDominicaDominican RepublicEcuadorEgyptEl SalvadorEquatorial GuineaEritreaEstoniaEswatiniEthiopiaFalkland IslandsFaroe IslandsFijiFinlandFranceFrench GuianaFrench PolynesiaFrench Southern TerritoriesGabonGambiaGeorgiaGermanyGhanaGibraltarGreeceGreenlandGrenadaGuadeloupeGuamGuatemalaGuernseyGuineaGuinea-BissauGuyanaHaitiHeard Island and McDonald IslandsHoly SeeHondurasHong KongHungaryIcelandIndiaIndonesiaIranIraqIrelandIsle of ManIsraelItalyJamaicaJapanJerseyJordanKazakhstanKenyaKiribatiKorea\, Democratic People's Republic ofKorea\, Republic ofKuwaitKyrgyzstanLao People's Democratic RepublicLatviaLebanonLesothoLiberiaLibyaLiechtensteinLithuaniaLuxembourgMacaoMadagascarMalawiMalaysiaMaldivesMaliMaltaMarshall IslandsMartiniqueMauritaniaMauritiusMayotteMexicoMicronesiaMoldovaMonacoMongoliaMontenegroMontserratMoroccoMozambiqueMyanmarNamibiaNauruNepalNetherlandsNew CaledoniaNew ZealandNicaraguaNigerNigeriaNiueNorfolk IslandNorth MacedoniaNorthern Mariana IslandsNorwayOmanPakistanPalauPalestine\, State ofPanamaPapua New GuineaParaguayPeruPhilippinesPitcairnPolandPortugalPuerto RicoQatarRomaniaRussian FederationRwandaRéunionSaint BarthélemySaint Helena\, Ascension and Tristan da CunhaSaint Kitts and NevisSaint LuciaSaint MartinSaint Pierre and MiquelonSaint Vincent and the GrenadinesSamoaSan MarinoSao Tome and PrincipeSaudi ArabiaSenegalSerbiaSeychellesSierra LeoneSingaporeSint MaartenSlovakiaSloveniaSolomon IslandsSomaliaSouth AfricaSouth Georgia and the South Sandwich IslandsSouth SudanSpainSri LankaSudanSurinameSvalbard and Jan MayenSwedenSwitzerlandSyria Arab RepublicTaiwanTajikistanTanzania\, the United Republic ofThailandTimor-LesteTogoTokelauTongaTrinidad and TobagoTunisiaTurkmenistanTurks and Caicos IslandsTuvaluTürkiyeUS Minor Outlying IslandsUgandaUkraineUnited Arab EmiratesUnited KingdomUnited StatesUruguayUzbekistanVanuatuVenezuelaViet NamVirgin Islands\, BritishVirgin Islands\, U.S.Wallis and FutunaWestern SaharaYemenZambiaZimbabweÅland Islands\n                                        Country\n                                    \n                    \n                How many people are you looking at?1 - 2 Standard Rates3 - 5 Group Discount>10 In-House Training\, Huge Savings!Undecided\, need more informationThis is just an approximate number. You can finalise it when you send in the registration form.\n								\n								Send me brochure\n							Comments:CAPTCHA
URL:https://www.opuskinetic.com/training/assessment-and-review-of-project-plans/2023-05-17/
LOCATION:Kuala Lumpur\, Federal Territory of Kuala Lumpur\, Kuala Lumpur\, Malaysia
CATEGORIES:Oil/Gas/Petrochemicals,Project
ATTACH;FMTTYPE=image/png:https://www.opuskinetic.com/wp-content/uploads/2023/05/project-planning-fi1.png
ORGANIZER;CN="Opus Kinetic Pte Ltd":MAILTO:info@opuskinetic.com
GEO:3.1384965;101.7099933
END:VEVENT
END:VCALENDAR