BEGIN:VCALENDAR
VERSION:2.0
PRODID:-//Opus Kinetic - ECPv6.15.12.2//NONSGML v1.0//EN
CALSCALE:GREGORIAN
METHOD:PUBLISH
X-WR-CALNAME:Opus Kinetic
X-ORIGINAL-URL:https://www.opuskinetic.com
X-WR-CALDESC:Events for Opus Kinetic
REFRESH-INTERVAL;VALUE=DURATION:PT1H
X-Robots-Tag:noindex
X-PUBLISHED-TTL:PT1H
BEGIN:VTIMEZONE
TZID:Asia/Singapore
BEGIN:STANDARD
TZOFFSETFROM:+0800
TZOFFSETTO:+0800
TZNAME:+08
DTSTART:20240101T000000
END:STANDARD
END:VTIMEZONE
BEGIN:VEVENT
DTSTART;VALUE=DATE:20251117
DTEND;VALUE=DATE:20251119
DTSTAMP:20260422T211759
CREATED:20211209T071021Z
LAST-MODIFIED:20251218T040200Z
UID:10002172-1763370000-1763485200@www.opuskinetic.com
SUMMARY:AML Training: Enhanced Assessment on Money Laundering and Terrorism Financing (ML/TF) Risks
DESCRIPTION:Why Choose this Training Course\nThis is a 2-day in-person AML training course. FATF Recommendations and domestic legislation require financial institutions and their supervisors to identify\, assess and understand the ML and TF risks they face and to take eﬀective actions to mitigate those risks. The purpose of these requirements is to focus AML strategies and compliance eﬀorts where the risks are higher\, and at the same time\, to manage more eﬀectively the costs of compliance and to reduce the firm’s exposure to ML and TF risks. \nML and TF risks can be quite diversified and complex as ML and TF techniques continuously evolve\, and their identification and mitigation could be challenging for firms. The costs of compliance are increasing\, and so is the risk of sanctions by supervisors for failure to comply eﬀectively with AML/CFT requirements. International banks are setting the bar high for AML/CFT compliance to establish correspondent banking relationships.\n \nIn light of these challenges\, this AML training aims at providing participants with operational knowledge for identifying and assessing ML and TF risks\, acquiring information on the latest ML and TF trends\, and understanding the best practices in creating strategies and setting up eﬀective risk-based compliance systems that is compliant with both FATF Recommendations and other international best practices. \nWho Should Attend\nPrincipals especially those working in the Financial Industry including both the public sector (financial regulators and supervisors) and private sector (such as Banking\, Insurance\, and Securities) are encouraged and shall benefit by attending this AML training. \nA list of POTENTIAL ATTENDEES\, but not exhaustive\, is laid out below as follow: \n\nFinancial Transaction Regulators / Supervisors\nFinancial Intelligence Managers/Analysts\n\nPolicy Makers\n\nFinancial Institution Directors\n\nFinancial Institution (Senior) Vice Presidents\n\nAML/CFT Policy Analyst\n\nAML/CFT Compliance Analyst\n\nCompliance Manager\n\nCompliance Auditors\n\nRelationship Managers\n\nRisk Managers\n\nPrivate Equity Professionals\nFinancial Lawyers\n\nKey Learning Objectives\n\nLEARN how to prioritise the various risk\nACQUIRE practical yet effective strategies for identifying and assessing ML/TF risk\nUNDERSTAND ML/TF Risks\nMITIGATE risks based on risk-based approach (RBA)\nENSURE that the AML/CFT regime is adequate to address such risks\nSTRENGTHEN compliance oversight on AML/ CFT policies and coordination\nATTAIN knowledge of the latest trends of Terrorist Financing (TF) and Proliferation Financing (PF)\nGAIN practical yet effective strategies for identifying and assessing Terrorist Financing (TF) and Proliferation Financing (PF) risks\n\nEnquiry Form\n\n\n                 \n \n                        SalutationMr.Ms.Miss.Mrs.Mdm.Dr.Prof.Capt.-Name*\n                            \n                            \n                                                    \n                                                    First\n                                                \n                            \n                            \n                                                    \n                                                    Last\n                                                \n                            \n                        Phone*Email*\n                            \n                        Company*Current Location*    \n                    \n                        \n                                        AfghanistanAlbaniaAlgeriaAmerican SamoaAndorraAngolaAnguillaAntarcticaAntigua and BarbudaArgentinaArmeniaArubaAustraliaAustriaAzerbaijanBahamasBahrainBangladeshBarbadosBelarusBelgiumBelizeBeninBermudaBhutanBoliviaBonaire\, Sint Eustatius and SabaBosnia and HerzegovinaBotswanaBouvet IslandBrazilBritish Indian Ocean TerritoryBrunei DarussalamBulgariaBurkina FasoBurundiCambodiaCameroonCanadaCape VerdeCayman IslandsCentral African RepublicChadChileChinaChristmas IslandCocos IslandsColombiaComorosCongoCongo\, Democratic Republic of theCook IslandsCosta RicaCroatiaCubaCuraçaoCyprusCzechiaCôte d'IvoireDenmarkDjiboutiDominicaDominican RepublicEcuadorEgyptEl SalvadorEquatorial GuineaEritreaEstoniaEswatiniEthiopiaFalkland IslandsFaroe IslandsFijiFinlandFranceFrench GuianaFrench PolynesiaFrench Southern TerritoriesGabonGambiaGeorgiaGermanyGhanaGibraltarGreeceGreenlandGrenadaGuadeloupeGuamGuatemalaGuernseyGuineaGuinea-BissauGuyanaHaitiHeard Island and McDonald IslandsHoly SeeHondurasHong KongHungaryIcelandIndiaIndonesiaIranIraqIrelandIsle of ManIsraelItalyJamaicaJapanJerseyJordanKazakhstanKenyaKiribatiKorea\, Democratic People's Republic ofKorea\, Republic ofKuwaitKyrgyzstanLao People's Democratic RepublicLatviaLebanonLesothoLiberiaLibyaLiechtensteinLithuaniaLuxembourgMacaoMadagascarMalawiMalaysiaMaldivesMaliMaltaMarshall IslandsMartiniqueMauritaniaMauritiusMayotteMexicoMicronesiaMoldovaMonacoMongoliaMontenegroMontserratMoroccoMozambiqueMyanmarNamibiaNauruNepalNetherlandsNew CaledoniaNew ZealandNicaraguaNigerNigeriaNiueNorfolk IslandNorth MacedoniaNorthern Mariana IslandsNorwayOmanPakistanPalauPalestine\, State ofPanamaPapua New GuineaParaguayPeruPhilippinesPitcairnPolandPortugalPuerto RicoQatarRomaniaRussian FederationRwandaRéunionSaint BarthélemySaint Helena\, Ascension and Tristan da CunhaSaint Kitts and NevisSaint LuciaSaint MartinSaint Pierre and MiquelonSaint Vincent and the GrenadinesSamoaSan MarinoSao Tome and PrincipeSaudi ArabiaSenegalSerbiaSeychellesSierra LeoneSingaporeSint MaartenSlovakiaSloveniaSolomon IslandsSomaliaSouth AfricaSouth Georgia and the South Sandwich IslandsSouth SudanSpainSri LankaSudanSurinameSvalbard and Jan MayenSwedenSwitzerlandSyria Arab RepublicTaiwanTajikistanTanzania\, the United Republic ofThailandTimor-LesteTogoTokelauTongaTrinidad and TobagoTunisiaTurkmenistanTurks and Caicos IslandsTuvaluTürkiyeUS Minor Outlying IslandsUgandaUkraineUnited Arab EmiratesUnited KingdomUnited StatesUruguayUzbekistanVanuatuVenezuelaViet NamVirgin Islands\, BritishVirgin Islands\, U.S.Wallis and FutunaWestern SaharaYemenZambiaZimbabweÅland Islands\n                                        Country\n                                    \n                    \n                How many people are you looking at?1 - 2 Standard Rates3 - 5 Group Discount>10 In-House Training\, Huge Savings!Undecided\, need more informationThis is just an approximate number. You can finalise it when you send in the registration form.\n								\n								Send me brochure\n							Comments:CAPTCHA
URL:https://www.opuskinetic.com/training/enhanced-assessment-on-aml-and-tf-risks-training/2025-11-17/
LOCATION:Kuala Lumpur\, Federal Territory of Kuala Lumpur\, Kuala Lumpur\, Malaysia
CATEGORIES:Banking and Finance,Management and Leadership Development
ATTACH;FMTTYPE=image/jpeg:https://www.opuskinetic.com/wp-content/uploads/2021/02/AML-FI2.jpg
ORGANIZER;CN="Opus Kinetic Pte Ltd":MAILTO:info@opuskinetic.com
GEO:3.1384965;101.7099933
END:VEVENT
END:VCALENDAR