BEGIN:VCALENDAR
VERSION:2.0
PRODID:-//Opus Kinetic - ECPv6.15.12.2//NONSGML v1.0//EN
CALSCALE:GREGORIAN
METHOD:PUBLISH
X-ORIGINAL-URL:https://www.opuskinetic.com
X-WR-CALDESC:Events for Opus Kinetic
REFRESH-INTERVAL;VALUE=DURATION:PT1H
X-Robots-Tag:noindex
X-PUBLISHED-TTL:PT1H
BEGIN:VTIMEZONE
TZID:Asia/Singapore
BEGIN:STANDARD
TZOFFSETFROM:+0800
TZOFFSETTO:+0800
TZNAME:+08
DTSTART:20240101T000000
END:STANDARD
END:VTIMEZONE
BEGIN:VEVENT
DTSTART;VALUE=DATE:20251103
DTEND;VALUE=DATE:20251105
DTSTAMP:20260420T104241
CREATED:20240702T094247Z
LAST-MODIFIED:20250925T081305Z
UID:10002235-1762160400-1762275600@www.opuskinetic.com
SUMMARY:Hydrogen Shipping
DESCRIPTION:Why Choose this Training Course\nThe hydrogen transportation sector is expected to grow significantly across the globe in the coming years. The EU\, for example\, represents a 40-fold increase within nine years for that sector. Pipelines are planned\, but shipping infrastructure will be vital for green hydrogen. The UK is looking to repurpose the infrastructure\, for offshore wind and use depleted gas and oil\nreservoirs to sequester CO2 captured from hydrogen produced in emerging energy clusters across the UK. \nThe journey to a renewable\, circular and low-carbon economy (facilitated by electrons\, hydrogen and other technologies)\, will be challenging. And the top priority will be to make sure it is implemented and delivered safely. \nHydrogen Shipping course details how global shipping and financial leaders can assist. Developers and stakeholders require their people and supply chain to possess the necessary awareness\, know-how\, skills and competencies to deliver shipping\, portage\, CCS and hydrogen projects safely\, on time and with the highest quality standards. \nThis hydrogen shipping training aims to enable companies and stakeholders to be aware of the fundamentals of shipping for hydrogen. What is it\, and what does it mean for the future? What decisions and plans are likely to be made based on the real opportunities that are emerging? Participants will be guided as to where early opportunities are most likely to lie\, who is involved and how to engage. \nWe are also a proud member of the Energy Institute of UK. \nWho Should Attend\n\nExisting companies\, particularly those who are already part of the hydrogen or renewables supply chains and those looking to future-proof their capabilities\nProject developers seeking to decarbonise and source\nFinanciers and the construction industry\nOil and gas majors\nOEM’s and balance of plant organisations\n\nThis hydrogen shipping training course is also helpful for engineering companies\, those involved in storage compression equipment and shipping\, and those seeking to enter the energy arena with its myriad shipping opportunities in a market set for exponential growth. Taking this course will also benefit stakeholders from government\, finance and consenting and those\nwishing to understand the realities of CCS and hydrogen production. \nKey Learning Objectives\n\nLearn about technologies for developing hydrogen and green shipping\, the associated value chain\, and the role they play in achieving net zero\nUnderstand the practical risks and opportunities related to hydrogen and green shipping\nIdentify the challenges of shipping hydrogen\, ammonia\, and methanol\nRecognize the differing perspectives of investors\, operators\, customers\, and governments\nExplore the applications and commercial considerations for hydrogen in shipping\, vessels\, and ports\, alongside carbon capture\, and how they integrate into new mega projects.\nDiscover the characteristics that both broaden and constrain the commercial and technical links in the hydrogen shipping supply chain\nUnderstand the integration of vessels\, ports\, and shipping with hydrogen production and global distribution.\nLearn from real-world projects that integrate shipping and hydrogen.\nReview broader financial considerations in transportation.\n\nEnquiry Form\n\n\n                 \n \n                        SalutationMr.Ms.Miss.Mrs.Mdm.Dr.Prof.Capt.-Name*\n                            \n                            \n                                                    \n                                                    First\n                                                \n                            \n                            \n                                                    \n                                                    Last\n                                                \n                            \n                        Phone*Email*\n                            \n                        Company*Current Location*    \n                    \n                        \n                                        AfghanistanAlbaniaAlgeriaAmerican SamoaAndorraAngolaAnguillaAntarcticaAntigua and BarbudaArgentinaArmeniaArubaAustraliaAustriaAzerbaijanBahamasBahrainBangladeshBarbadosBelarusBelgiumBelizeBeninBermudaBhutanBoliviaBonaire\, Sint Eustatius and SabaBosnia and HerzegovinaBotswanaBouvet IslandBrazilBritish Indian Ocean TerritoryBrunei DarussalamBulgariaBurkina FasoBurundiCambodiaCameroonCanadaCape VerdeCayman IslandsCentral African RepublicChadChileChinaChristmas IslandCocos IslandsColombiaComorosCongoCongo\, Democratic Republic of theCook IslandsCosta RicaCroatiaCubaCuraçaoCyprusCzechiaCôte d'IvoireDenmarkDjiboutiDominicaDominican RepublicEcuadorEgyptEl SalvadorEquatorial GuineaEritreaEstoniaEswatiniEthiopiaFalkland IslandsFaroe IslandsFijiFinlandFranceFrench GuianaFrench PolynesiaFrench Southern TerritoriesGabonGambiaGeorgiaGermanyGhanaGibraltarGreeceGreenlandGrenadaGuadeloupeGuamGuatemalaGuernseyGuineaGuinea-BissauGuyanaHaitiHeard Island and McDonald IslandsHoly SeeHondurasHong KongHungaryIcelandIndiaIndonesiaIranIraqIrelandIsle of ManIsraelItalyJamaicaJapanJerseyJordanKazakhstanKenyaKiribatiKorea\, Democratic People's Republic ofKorea\, Republic ofKuwaitKyrgyzstanLao People's Democratic RepublicLatviaLebanonLesothoLiberiaLibyaLiechtensteinLithuaniaLuxembourgMacaoMadagascarMalawiMalaysiaMaldivesMaliMaltaMarshall IslandsMartiniqueMauritaniaMauritiusMayotteMexicoMicronesiaMoldovaMonacoMongoliaMontenegroMontserratMoroccoMozambiqueMyanmarNamibiaNauruNepalNetherlandsNew CaledoniaNew ZealandNicaraguaNigerNigeriaNiueNorfolk IslandNorth MacedoniaNorthern Mariana IslandsNorwayOmanPakistanPalauPalestine\, State ofPanamaPapua New GuineaParaguayPeruPhilippinesPitcairnPolandPortugalPuerto RicoQatarRomaniaRussian FederationRwandaRéunionSaint BarthélemySaint Helena\, Ascension and Tristan da CunhaSaint Kitts and NevisSaint LuciaSaint MartinSaint Pierre and MiquelonSaint Vincent and the GrenadinesSamoaSan MarinoSao Tome and PrincipeSaudi ArabiaSenegalSerbiaSeychellesSierra LeoneSingaporeSint MaartenSlovakiaSloveniaSolomon IslandsSomaliaSouth AfricaSouth Georgia and the South Sandwich IslandsSouth SudanSpainSri LankaSudanSurinameSvalbard and Jan MayenSwedenSwitzerlandSyria Arab RepublicTaiwanTajikistanTanzania\, the United Republic ofThailandTimor-LesteTogoTokelauTongaTrinidad and TobagoTunisiaTurkmenistanTurks and Caicos IslandsTuvaluTürkiyeUS Minor Outlying IslandsUgandaUkraineUnited Arab EmiratesUnited KingdomUnited StatesUruguayUzbekistanVanuatuVenezuelaViet NamVirgin Islands\, BritishVirgin Islands\, U.S.Wallis and FutunaWestern SaharaYemenZambiaZimbabweÅland Islands\n                                        Country\n                                    \n                    \n                How many people are you looking at?1 - 2 Standard Rates3 - 5 Group Discount>10 In-House Training\, Huge Savings!Undecided\, need more informationThis is just an approximate number. You can finalise it when you send in the registration form.\n								\n								Send me brochure\n							Comments:CAPTCHA
URL:https://www.opuskinetic.com/training/hydrogen-shipping/2025-11-03/
LOCATION:Kuala Lumpur\, Singapore
CATEGORIES:ESG/Renewable Energy/Clean Energy/Energy Management,Oil/Gas/Petrochemicals
ATTACH;FMTTYPE=image/jpeg:https://www.opuskinetic.com/wp-content/uploads/2024/07/hydrogen-fi2-scaled.jpg
ORGANIZER;CN="Opus Kinetic Pte Ltd":MAILTO:info@opuskinetic.com
END:VEVENT
END:VCALENDAR