BEGIN:VCALENDAR
VERSION:2.0
PRODID:-//Opus Kinetic - ECPv6.15.12.2//NONSGML v1.0//EN
CALSCALE:GREGORIAN
METHOD:PUBLISH
X-ORIGINAL-URL:https://www.opuskinetic.com
X-WR-CALDESC:Events for Opus Kinetic
REFRESH-INTERVAL;VALUE=DURATION:PT1H
X-Robots-Tag:noindex
X-PUBLISHED-TTL:PT1H
BEGIN:VTIMEZONE
TZID:Asia/Singapore
BEGIN:STANDARD
TZOFFSETFROM:+0800
TZOFFSETTO:+0800
TZNAME:+08
DTSTART:20240101T000000
END:STANDARD
END:VTIMEZONE
BEGIN:VEVENT
DTSTART;VALUE=DATE:20250908
DTEND;VALUE=DATE:20250912
DTSTAMP:20260420T085114
CREATED:20170623T072722Z
LAST-MODIFIED:20260324T062021Z
UID:10002023-1757322000-1757610000@www.opuskinetic.com
SUMMARY:Pricing and Price Review in Gas and LNG Sales Contracts
DESCRIPTION:Why Choose this Training Course\nPrice review issues are becoming almost mandatory in contractual arrangements in international gas and LNG sales contracts. This LNG price review training course held in Singapore and Malaysia affords you the crucial understanding of essential issues you must take note of when negotiating such contracts so as to achieve the best possible deal. \nThis intensive LNG price review training course offers a unique opportunity to gain an advanced appreciation of pricing and Price Review issues in International Gas and LNG Sales Contracts. In these contractual arrangements\, Price Review provisions have now become almost mandatory and are becoming increasingly difficult and complex. This course will also address how disputes in implementing Price Reviews in this area can be resolved. \nThe LNG price review training course is designed for Gas & LNG industry professionals worldwide\, including but not limited to: those working in gas producers\, buyers and sellers\, and those advising investors contemplating development projects in the Gas & LNG sectors of the energy industry. All of whom need to thoroughly understand and master the detail of International Gas and LNG Sales Contracts and in particular the Price Review that has now become a regular feature of these sales arrangements. In many regards\, the Price Review is now key to the future price that the Parties will see in Gas and LNG sales contracts. \nBesides that\, attendees to this workshop will immensely benefit from the extensive knowledge of one of the leading Commercial Experts in this field who is currently heavily engaged in resolution of disputes in this area. \nThere are 2 dates with different venues for this course: \n\n13 – 15 Sept 2023 in Kuala Lumpur\n18 – 20 Sept 2023 in Singapore\n\nKey Learning Objectives\n\nGrasp current market trends that effect the pricing fundamentals of Gas & LNG\nAnalyse price terms in pipeline gas contracts and LNG contracts\nMaster international arbitration and settlement of price review disputes and resolutions\nAchieve a deeper understanding of contractual issues as well as the risks involved and how to mitigate such risks\nExplore how the price review can protect the buyer’s margin\nMaster persuasion science and negotiation skills that gain you the upper hand\n\nWho Should Attend\nAnyone working in Gas & LNG sales\, purchase and contract negotiations will benefit from gaining a more indepth understanding of advanced principles of gas contracts. Oil and gas professionals working in the are of upstream and transportation agreements\, contract management and dispute resolution\, markets\, networks and pricing will find it beneficial to attend. Job titles include: \n\nGas / LNG contract negotiators\nContract specialists / Managers\nGas / LNG buyers\, sellers\, distibutors and traders\nPetroleum Economists\nCommercial Managers /  Executives\nStrategy Managers / Executives\nRisk Managers\nSenior Government Officials and Regulators\n\nEnquiry Form\n\n\n                 \n \n                        SalutationMr.Ms.Miss.Mrs.Mdm.Dr.Prof.Capt.-Name*\n                            \n                            \n                                                    \n                                                    First\n                                                \n                            \n                            \n                                                    \n                                                    Last\n                                                \n                            \n                        Phone*Email*\n                            \n                        Company*Current Location*    \n                    \n                        \n                                        AfghanistanAlbaniaAlgeriaAmerican SamoaAndorraAngolaAnguillaAntarcticaAntigua and BarbudaArgentinaArmeniaArubaAustraliaAustriaAzerbaijanBahamasBahrainBangladeshBarbadosBelarusBelgiumBelizeBeninBermudaBhutanBoliviaBonaire\, Sint Eustatius and SabaBosnia and HerzegovinaBotswanaBouvet IslandBrazilBritish Indian Ocean TerritoryBrunei DarussalamBulgariaBurkina FasoBurundiCambodiaCameroonCanadaCape VerdeCayman IslandsCentral African RepublicChadChileChinaChristmas IslandCocos IslandsColombiaComorosCongoCongo\, Democratic Republic of theCook IslandsCosta RicaCroatiaCubaCuraçaoCyprusCzechiaCôte d'IvoireDenmarkDjiboutiDominicaDominican RepublicEcuadorEgyptEl SalvadorEquatorial GuineaEritreaEstoniaEswatiniEthiopiaFalkland IslandsFaroe IslandsFijiFinlandFranceFrench GuianaFrench PolynesiaFrench Southern TerritoriesGabonGambiaGeorgiaGermanyGhanaGibraltarGreeceGreenlandGrenadaGuadeloupeGuamGuatemalaGuernseyGuineaGuinea-BissauGuyanaHaitiHeard Island and McDonald IslandsHoly SeeHondurasHong KongHungaryIcelandIndiaIndonesiaIranIraqIrelandIsle of ManIsraelItalyJamaicaJapanJerseyJordanKazakhstanKenyaKiribatiKorea\, Democratic People's Republic ofKorea\, Republic ofKuwaitKyrgyzstanLao People's Democratic RepublicLatviaLebanonLesothoLiberiaLibyaLiechtensteinLithuaniaLuxembourgMacaoMadagascarMalawiMalaysiaMaldivesMaliMaltaMarshall IslandsMartiniqueMauritaniaMauritiusMayotteMexicoMicronesiaMoldovaMonacoMongoliaMontenegroMontserratMoroccoMozambiqueMyanmarNamibiaNauruNepalNetherlandsNew CaledoniaNew ZealandNicaraguaNigerNigeriaNiueNorfolk IslandNorth MacedoniaNorthern Mariana IslandsNorwayOmanPakistanPalauPalestine\, State ofPanamaPapua New GuineaParaguayPeruPhilippinesPitcairnPolandPortugalPuerto RicoQatarRomaniaRussian FederationRwandaRéunionSaint BarthélemySaint Helena\, Ascension and Tristan da CunhaSaint Kitts and NevisSaint LuciaSaint MartinSaint Pierre and MiquelonSaint Vincent and the GrenadinesSamoaSan MarinoSao Tome and PrincipeSaudi ArabiaSenegalSerbiaSeychellesSierra LeoneSingaporeSint MaartenSlovakiaSloveniaSolomon IslandsSomaliaSouth AfricaSouth Georgia and the South Sandwich IslandsSouth SudanSpainSri LankaSudanSurinameSvalbard and Jan MayenSwedenSwitzerlandSyria Arab RepublicTaiwanTajikistanTanzania\, the United Republic ofThailandTimor-LesteTogoTokelauTongaTrinidad and TobagoTunisiaTurkmenistanTurks and Caicos IslandsTuvaluTürkiyeUS Minor Outlying IslandsUgandaUkraineUnited Arab EmiratesUnited KingdomUnited StatesUruguayUzbekistanVanuatuVenezuelaViet NamVirgin Islands\, BritishVirgin Islands\, U.S.Wallis and FutunaWestern SaharaYemenZambiaZimbabweÅland Islands\n                                        Country\n                                    \n                    \n                How many people are you looking at?1 - 2 Standard Rates3 - 5 Group Discount>10 In-House Training\, Huge Savings!Undecided\, need more informationThis is just an approximate number. You can finalise it when you send in the registration form.\n								\n								Send me brochure\n							Comments:CAPTCHA
URL:https://www.opuskinetic.com/training/the-price-review-in-gas-lng-sales-contracts-current-practice-2/2025-09-08/
LOCATION:Kuala Lumpur\, Federal Territory of Kuala Lumpur\, Kuala Lumpur\, Malaysia
CATEGORIES:Contracts,ESG/Renewable Energy/Clean Energy/Energy Management,Oil/Gas/Petrochemicals
ATTACH;FMTTYPE=image/jpeg:https://www.opuskinetic.com/wp-content/uploads/2017/09/170418-LNG.jpg
ORGANIZER;CN="Opus Kinetic Pte Ltd":MAILTO:info@opuskinetic.com
GEO:3.1384965;101.7099933
END:VEVENT
BEGIN:VEVENT
DTSTART;VALUE=DATE:20250910
DTEND;VALUE=DATE:20250912
DTSTAMP:20260420T085114
CREATED:20250618T060018Z
LAST-MODIFIED:20250828T101547Z
UID:10002204-1757494800-1757610000@www.opuskinetic.com
SUMMARY:Managing Joint Ventures in Oil and Gas
DESCRIPTION:Why Choose this Training Course\nThis is a 3-day joint ventures training course.  The oil & gas industry generally is based on JVs\, in one form or another. These JVs use various vehicles to ensure alignment and minimise conflict of interest between the parties. These vehicles\, including meetings\, subcommittees and workshops\, often involve many different people from various partners. Some attendees may have little experience on the dynamics of the various possible JV interactions\, in terms of behaviors\, procedures\, or legal & commercial principles. This course will provide those participants context and ideas on how to positively influence JVs. \nThis joint ventures training course is not about “beating the other side” – it is about giving people an understanding of the principles & ideas to influence their JVs to be more aligned and constructive\, especially if their JV has over-bearing or conflicted Operators & partners who are either rejecting or simply ignoring their views\, to find the best solution for the overall partnership. \nWho Should Attend\n\nTechnical staff (eg geologists\, drillers\, reservoir engineers) who attend JV meetings\nCommercial analysts and advisors who interact with JVs\nIndividuals who are identified as Joint Venture representatives or deputies\nLegal team members who engage with JV partners or Operator\nJoint Venture liaison staff (Operator and non-Operator)\n\nKey Learning Objectives\n\nMaximize value and ensure success of your Joint Venture (JV)\nAllow those with limited experience of JVs to immediately contribute with confidence\nGain ideas and suggestions in how to turn around JVs that are inefficient\, difficult or even hostile\nInfluence JVs struggling with complex or major issues\, either as Operator or non-Operator\n\nEnquiry\n\n                 \n \n                        SalutationMr.Ms.Miss.Mrs.Mdm.Dr.Prof.Capt.-Name*\n                            \n                            \n                                                    \n                                                    First\n                                                \n                            \n                            \n                                                    \n                                                    Last\n                                                \n                            \n                        Phone*Email*\n                            \n                        Company*Current Location*    \n                    \n                        \n                                        AfghanistanAlbaniaAlgeriaAmerican SamoaAndorraAngolaAnguillaAntarcticaAntigua and BarbudaArgentinaArmeniaArubaAustraliaAustriaAzerbaijanBahamasBahrainBangladeshBarbadosBelarusBelgiumBelizeBeninBermudaBhutanBoliviaBonaire\, Sint Eustatius and SabaBosnia and HerzegovinaBotswanaBouvet IslandBrazilBritish Indian Ocean TerritoryBrunei DarussalamBulgariaBurkina FasoBurundiCambodiaCameroonCanadaCape VerdeCayman IslandsCentral African RepublicChadChileChinaChristmas IslandCocos IslandsColombiaComorosCongoCongo\, Democratic Republic of theCook IslandsCosta RicaCroatiaCubaCuraçaoCyprusCzechiaCôte d'IvoireDenmarkDjiboutiDominicaDominican RepublicEcuadorEgyptEl SalvadorEquatorial GuineaEritreaEstoniaEswatiniEthiopiaFalkland IslandsFaroe IslandsFijiFinlandFranceFrench GuianaFrench PolynesiaFrench Southern TerritoriesGabonGambiaGeorgiaGermanyGhanaGibraltarGreeceGreenlandGrenadaGuadeloupeGuamGuatemalaGuernseyGuineaGuinea-BissauGuyanaHaitiHeard Island and McDonald IslandsHoly SeeHondurasHong KongHungaryIcelandIndiaIndonesiaIranIraqIrelandIsle of ManIsraelItalyJamaicaJapanJerseyJordanKazakhstanKenyaKiribatiKorea\, Democratic People's Republic ofKorea\, Republic ofKuwaitKyrgyzstanLao People's Democratic RepublicLatviaLebanonLesothoLiberiaLibyaLiechtensteinLithuaniaLuxembourgMacaoMadagascarMalawiMalaysiaMaldivesMaliMaltaMarshall IslandsMartiniqueMauritaniaMauritiusMayotteMexicoMicronesiaMoldovaMonacoMongoliaMontenegroMontserratMoroccoMozambiqueMyanmarNamibiaNauruNepalNetherlandsNew CaledoniaNew ZealandNicaraguaNigerNigeriaNiueNorfolk IslandNorth MacedoniaNorthern Mariana IslandsNorwayOmanPakistanPalauPalestine\, State ofPanamaPapua New GuineaParaguayPeruPhilippinesPitcairnPolandPortugalPuerto RicoQatarRomaniaRussian FederationRwandaRéunionSaint BarthélemySaint Helena\, Ascension and Tristan da CunhaSaint Kitts and NevisSaint LuciaSaint MartinSaint Pierre and MiquelonSaint Vincent and the GrenadinesSamoaSan MarinoSao Tome and PrincipeSaudi ArabiaSenegalSerbiaSeychellesSierra LeoneSingaporeSint MaartenSlovakiaSloveniaSolomon IslandsSomaliaSouth AfricaSouth Georgia and the South Sandwich IslandsSouth SudanSpainSri LankaSudanSurinameSvalbard and Jan MayenSwedenSwitzerlandSyria Arab RepublicTaiwanTajikistanTanzania\, the United Republic ofThailandTimor-LesteTogoTokelauTongaTrinidad and TobagoTunisiaTurkmenistanTurks and Caicos IslandsTuvaluTürkiyeUS Minor Outlying IslandsUgandaUkraineUnited Arab EmiratesUnited KingdomUnited StatesUruguayUzbekistanVanuatuVenezuelaViet NamVirgin Islands\, BritishVirgin Islands\, U.S.Wallis and FutunaWestern SaharaYemenZambiaZimbabweÅland Islands\n                                        Country\n                                    \n                    \n                How many people are you looking at?1 - 2 Standard Rates3 - 5 Group Discount>10 In-House Training\, Huge Savings!Undecided\, need more informationThis is just an approximate number. You can finalise it when you send in the registration form.\n								\n								Send me brochure\n							Comments:CAPTCHA
URL:https://www.opuskinetic.com/training/joint-ventures-training/2025-09-10/
LOCATION:Kuala Lumpur\, Federal Territory of Kuala Lumpur\, Kuala Lumpur\, Malaysia
CATEGORIES:Contracts,Management and Leadership Development,Oil/Gas/Petrochemicals
ATTACH;FMTTYPE=image/png:https://www.opuskinetic.com/wp-content/uploads/2021/11/JV-FI1.png
ORGANIZER;CN="Opus Kinetic Pte Ltd":MAILTO:info@opuskinetic.com
GEO:3.1384965;101.7099933
END:VEVENT
BEGIN:VEVENT
DTSTART;VALUE=DATE:20250917
DTEND;VALUE=DATE:20250920
DTSTAMP:20260420T085114
CREATED:20170623T072722Z
LAST-MODIFIED:20260324T062021Z
UID:10002024-1758099600-1758301200@www.opuskinetic.com
SUMMARY:Pricing and Price Review in Gas and LNG Sales Contracts
DESCRIPTION:Why Choose this Training Course\nPrice review issues are becoming almost mandatory in contractual arrangements in international gas and LNG sales contracts. This LNG price review training course held in Singapore and Malaysia affords you the crucial understanding of essential issues you must take note of when negotiating such contracts so as to achieve the best possible deal. \nThis intensive LNG price review training course offers a unique opportunity to gain an advanced appreciation of pricing and Price Review issues in International Gas and LNG Sales Contracts. In these contractual arrangements\, Price Review provisions have now become almost mandatory and are becoming increasingly difficult and complex. This course will also address how disputes in implementing Price Reviews in this area can be resolved. \nThe LNG price review training course is designed for Gas & LNG industry professionals worldwide\, including but not limited to: those working in gas producers\, buyers and sellers\, and those advising investors contemplating development projects in the Gas & LNG sectors of the energy industry. All of whom need to thoroughly understand and master the detail of International Gas and LNG Sales Contracts and in particular the Price Review that has now become a regular feature of these sales arrangements. In many regards\, the Price Review is now key to the future price that the Parties will see in Gas and LNG sales contracts. \nBesides that\, attendees to this workshop will immensely benefit from the extensive knowledge of one of the leading Commercial Experts in this field who is currently heavily engaged in resolution of disputes in this area. \nThere are 2 dates with different venues for this course: \n\n13 – 15 Sept 2023 in Kuala Lumpur\n18 – 20 Sept 2023 in Singapore\n\nKey Learning Objectives\n\nGrasp current market trends that effect the pricing fundamentals of Gas & LNG\nAnalyse price terms in pipeline gas contracts and LNG contracts\nMaster international arbitration and settlement of price review disputes and resolutions\nAchieve a deeper understanding of contractual issues as well as the risks involved and how to mitigate such risks\nExplore how the price review can protect the buyer’s margin\nMaster persuasion science and negotiation skills that gain you the upper hand\n\nWho Should Attend\nAnyone working in Gas & LNG sales\, purchase and contract negotiations will benefit from gaining a more indepth understanding of advanced principles of gas contracts. Oil and gas professionals working in the are of upstream and transportation agreements\, contract management and dispute resolution\, markets\, networks and pricing will find it beneficial to attend. Job titles include: \n\nGas / LNG contract negotiators\nContract specialists / Managers\nGas / LNG buyers\, sellers\, distibutors and traders\nPetroleum Economists\nCommercial Managers /  Executives\nStrategy Managers / Executives\nRisk Managers\nSenior Government Officials and Regulators\n\nEnquiry Form\n\n                 \n \n                        SalutationMr.Ms.Miss.Mrs.Mdm.Dr.Prof.Capt.-Name*\n                            \n                            \n                                                    \n                                                    First\n                                                \n                            \n                            \n                                                    \n                                                    Last\n                                                \n                            \n                        Phone*Email*\n                            \n                        Company*Current Location*    \n                    \n                        \n                                        AfghanistanAlbaniaAlgeriaAmerican SamoaAndorraAngolaAnguillaAntarcticaAntigua and BarbudaArgentinaArmeniaArubaAustraliaAustriaAzerbaijanBahamasBahrainBangladeshBarbadosBelarusBelgiumBelizeBeninBermudaBhutanBoliviaBonaire\, Sint Eustatius and SabaBosnia and HerzegovinaBotswanaBouvet IslandBrazilBritish Indian Ocean TerritoryBrunei DarussalamBulgariaBurkina FasoBurundiCambodiaCameroonCanadaCape VerdeCayman IslandsCentral African RepublicChadChileChinaChristmas IslandCocos IslandsColombiaComorosCongoCongo\, Democratic Republic of theCook IslandsCosta RicaCroatiaCubaCuraçaoCyprusCzechiaCôte d'IvoireDenmarkDjiboutiDominicaDominican RepublicEcuadorEgyptEl SalvadorEquatorial GuineaEritreaEstoniaEswatiniEthiopiaFalkland IslandsFaroe IslandsFijiFinlandFranceFrench GuianaFrench PolynesiaFrench Southern TerritoriesGabonGambiaGeorgiaGermanyGhanaGibraltarGreeceGreenlandGrenadaGuadeloupeGuamGuatemalaGuernseyGuineaGuinea-BissauGuyanaHaitiHeard Island and McDonald IslandsHoly SeeHondurasHong KongHungaryIcelandIndiaIndonesiaIranIraqIrelandIsle of ManIsraelItalyJamaicaJapanJerseyJordanKazakhstanKenyaKiribatiKorea\, Democratic People's Republic ofKorea\, Republic ofKuwaitKyrgyzstanLao People's Democratic RepublicLatviaLebanonLesothoLiberiaLibyaLiechtensteinLithuaniaLuxembourgMacaoMadagascarMalawiMalaysiaMaldivesMaliMaltaMarshall IslandsMartiniqueMauritaniaMauritiusMayotteMexicoMicronesiaMoldovaMonacoMongoliaMontenegroMontserratMoroccoMozambiqueMyanmarNamibiaNauruNepalNetherlandsNew CaledoniaNew ZealandNicaraguaNigerNigeriaNiueNorfolk IslandNorth MacedoniaNorthern Mariana IslandsNorwayOmanPakistanPalauPalestine\, State ofPanamaPapua New GuineaParaguayPeruPhilippinesPitcairnPolandPortugalPuerto RicoQatarRomaniaRussian FederationRwandaRéunionSaint BarthélemySaint Helena\, Ascension and Tristan da CunhaSaint Kitts and NevisSaint LuciaSaint MartinSaint Pierre and MiquelonSaint Vincent and the GrenadinesSamoaSan MarinoSao Tome and PrincipeSaudi ArabiaSenegalSerbiaSeychellesSierra LeoneSingaporeSint MaartenSlovakiaSloveniaSolomon IslandsSomaliaSouth AfricaSouth Georgia and the South Sandwich IslandsSouth SudanSpainSri LankaSudanSurinameSvalbard and Jan MayenSwedenSwitzerlandSyria Arab RepublicTaiwanTajikistanTanzania\, the United Republic ofThailandTimor-LesteTogoTokelauTongaTrinidad and TobagoTunisiaTurkmenistanTurks and Caicos IslandsTuvaluTürkiyeUS Minor Outlying IslandsUgandaUkraineUnited Arab EmiratesUnited KingdomUnited StatesUruguayUzbekistanVanuatuVenezuelaViet NamVirgin Islands\, BritishVirgin Islands\, U.S.Wallis and FutunaWestern SaharaYemenZambiaZimbabweÅland Islands\n                                        Country\n                                    \n                    \n                How many people are you looking at?1 - 2 Standard Rates3 - 5 Group Discount>10 In-House Training\, Huge Savings!Undecided\, need more informationThis is just an approximate number. You can finalise it when you send in the registration form.\n								\n								Send me brochure\n							Comments:CAPTCHA
URL:https://www.opuskinetic.com/training/the-price-review-in-gas-lng-sales-contracts-current-practice-2/2025-09-17/
LOCATION:Kuala Lumpur\, Federal Territory of Kuala Lumpur\, Kuala Lumpur\, Malaysia
CATEGORIES:Contracts,ESG/Renewable Energy/Clean Energy/Energy Management,Oil/Gas/Petrochemicals
ATTACH;FMTTYPE=image/jpeg:https://www.opuskinetic.com/wp-content/uploads/2017/09/170418-LNG.jpg
ORGANIZER;CN="Opus Kinetic Pte Ltd":MAILTO:info@opuskinetic.com
GEO:3.1384965;101.7099933
END:VEVENT
END:VCALENDAR