BEGIN:VCALENDAR
VERSION:2.0
PRODID:-//Opus Kinetic - ECPv6.15.12.2//NONSGML v1.0//EN
CALSCALE:GREGORIAN
METHOD:PUBLISH
X-WR-CALNAME:Opus Kinetic
X-ORIGINAL-URL:https://www.opuskinetic.com
X-WR-CALDESC:Events for Opus Kinetic
REFRESH-INTERVAL;VALUE=DURATION:PT1H
X-Robots-Tag:noindex
X-PUBLISHED-TTL:PT1H
BEGIN:VTIMEZONE
TZID:Asia/Singapore
BEGIN:STANDARD
TZOFFSETFROM:+0800
TZOFFSETTO:+0800
TZNAME:+08
DTSTART:20250101T000000
END:STANDARD
END:VTIMEZONE
BEGIN:VEVENT
DTSTART;VALUE=DATE:20260427
DTEND;VALUE=DATE:20260430
DTSTAMP:20260422T220525
CREATED:20230811T085936Z
LAST-MODIFIED:20251227T062622Z
UID:10002305-1777280400-1777482000@www.opuskinetic.com
SUMMARY:Developing Leadership Capability & Thinking Strategically for Energy
DESCRIPTION:Why Choose this Training Course\nThis is a 3-days oil and gas leadership training. The challenges for oil & gas industry are as complex\, if not more so than any other business sector today. Developing exceptional leaders of tomorrow is the key to meeting the demands and expectations in this complex industry. This short course is a delegate centric period of applied and experiential learning for the oil and gas industry. This oil and gas leadership training designed to provide delegates with the core skills required of senior managers charged with the leadership of their business or business unit\, it will directly contribute to your future role as leader within the sector as you will become equipped with a combination of skills that can be put to immediate use to support growth and change in a developing leadership capacity. \nWho Should Attend\nExecutives with high growth potential and aspirations or manager who fully understand that in order to excel in the competitive world of tomorrow a new set of skills\, competencies and behaviours are required. Someone who is driven and wants to make sure that they are their business / business unit are fully equipped and able to capitalise on future opportunities. People who need an intensive\, yet highly engaging and tight provoking oil and gas leadership training in which the skill is to enhance your leadership skills and career development are employed. \nKey Learning Objectives\n\nTo be able to understand the core competencies required in order to rise to the challenges of C21 Oil & Gas Leadership\nTo be able to select from a range of highly effective\, proven models to build effective behavioural change and growth and face with confidence the issues of C21 Oil & Gas Leadership\nTo be able to confidently communicate business dream vision and ensure employee engagement in its delivery\nTo build a personal framework within which to grow personally and professionally\nTo understand the impacts of tools such as accelerated change\, EQ\, situational leadership motivation and effective goal setting and to be able to apply these to support growth and development of the person\, team\, business unit and organisation\nTo drive performance and development with accuracy across your team\n\nEnquiry Form\n\n\n                 \n \n                        SalutationMr.Ms.Miss.Mrs.Mdm.Dr.Prof.Capt.-Name*\n                            \n                            \n                                                    \n                                                    First\n                                                \n                            \n                            \n                                                    \n                                                    Last\n                                                \n                            \n                        Phone*Email*\n                            \n                        Company*Current Location*    \n                    \n                        \n                                        AfghanistanAlbaniaAlgeriaAmerican SamoaAndorraAngolaAnguillaAntarcticaAntigua and BarbudaArgentinaArmeniaArubaAustraliaAustriaAzerbaijanBahamasBahrainBangladeshBarbadosBelarusBelgiumBelizeBeninBermudaBhutanBoliviaBonaire\, Sint Eustatius and SabaBosnia and HerzegovinaBotswanaBouvet IslandBrazilBritish Indian Ocean TerritoryBrunei DarussalamBulgariaBurkina FasoBurundiCambodiaCameroonCanadaCape VerdeCayman IslandsCentral African RepublicChadChileChinaChristmas IslandCocos IslandsColombiaComorosCongoCongo\, Democratic Republic of theCook IslandsCosta RicaCroatiaCubaCuraçaoCyprusCzechiaCôte d'IvoireDenmarkDjiboutiDominicaDominican RepublicEcuadorEgyptEl SalvadorEquatorial GuineaEritreaEstoniaEswatiniEthiopiaFalkland IslandsFaroe IslandsFijiFinlandFranceFrench GuianaFrench PolynesiaFrench Southern TerritoriesGabonGambiaGeorgiaGermanyGhanaGibraltarGreeceGreenlandGrenadaGuadeloupeGuamGuatemalaGuernseyGuineaGuinea-BissauGuyanaHaitiHeard Island and McDonald IslandsHoly SeeHondurasHong KongHungaryIcelandIndiaIndonesiaIranIraqIrelandIsle of ManIsraelItalyJamaicaJapanJerseyJordanKazakhstanKenyaKiribatiKorea\, Democratic People's Republic ofKorea\, Republic ofKuwaitKyrgyzstanLao People's Democratic RepublicLatviaLebanonLesothoLiberiaLibyaLiechtensteinLithuaniaLuxembourgMacaoMadagascarMalawiMalaysiaMaldivesMaliMaltaMarshall IslandsMartiniqueMauritaniaMauritiusMayotteMexicoMicronesiaMoldovaMonacoMongoliaMontenegroMontserratMoroccoMozambiqueMyanmarNamibiaNauruNepalNetherlandsNew CaledoniaNew ZealandNicaraguaNigerNigeriaNiueNorfolk IslandNorth MacedoniaNorthern Mariana IslandsNorwayOmanPakistanPalauPalestine\, State ofPanamaPapua New GuineaParaguayPeruPhilippinesPitcairnPolandPortugalPuerto RicoQatarRomaniaRussian FederationRwandaRéunionSaint BarthélemySaint Helena\, Ascension and Tristan da CunhaSaint Kitts and NevisSaint LuciaSaint MartinSaint Pierre and MiquelonSaint Vincent and the GrenadinesSamoaSan MarinoSao Tome and PrincipeSaudi ArabiaSenegalSerbiaSeychellesSierra LeoneSingaporeSint MaartenSlovakiaSloveniaSolomon IslandsSomaliaSouth AfricaSouth Georgia and the South Sandwich IslandsSouth SudanSpainSri LankaSudanSurinameSvalbard and Jan MayenSwedenSwitzerlandSyria Arab RepublicTaiwanTajikistanTanzania\, the United Republic ofThailandTimor-LesteTogoTokelauTongaTrinidad and TobagoTunisiaTurkmenistanTurks and Caicos IslandsTuvaluTürkiyeUS Minor Outlying IslandsUgandaUkraineUnited Arab EmiratesUnited KingdomUnited StatesUruguayUzbekistanVanuatuVenezuelaViet NamVirgin Islands\, BritishVirgin Islands\, U.S.Wallis and FutunaWestern SaharaYemenZambiaZimbabweÅland Islands\n                                        Country\n                                    \n                    \n                How many people are you looking at?1 - 2 Standard Rates3 - 5 Group Discount>10 In-House Training\, Huge Savings!Undecided\, need more informationThis is just an approximate number. You can finalise it when you send in the registration form.\n								\n								Send me brochure\n							Comments:CAPTCHA
URL:https://www.opuskinetic.com/training/developing-leadership-capability-thinking-strategically-for-oil-and-gas/2026-04-27/
LOCATION:Kuala Lumpur\, Federal Territory of Kuala Lumpur\, Kuala Lumpur\, Malaysia
CATEGORIES:Corporate, Business Management and HR,Management and Leadership Development,Oil/Gas/Petrochemicals
ATTACH;FMTTYPE=image/png:https://www.opuskinetic.com/wp-content/uploads/2023/08/FI-leadership.png
ORGANIZER;CN="Opus Kinetic Pte Ltd":MAILTO:info@opuskinetic.com
GEO:3.1384965;101.7099933
END:VEVENT
BEGIN:VEVENT
DTSTART;VALUE=DATE:20260625
DTEND;VALUE=DATE:20260627
DTSTAMP:20260422T220525
CREATED:20260223T042245Z
LAST-MODIFIED:20260223T042442Z
UID:10002384-1782345600-1782518399@www.opuskinetic.com
SUMMARY:Creative and Critical Thinking in the Age of AI
DESCRIPTION:Why Choose this Training Course\nThis is a 2-days critical thinking AI training. Critical thinking is so much more than analysis\, evaluation\, and debate. In today’s fast-moving\, AI-enhanced world\, we need critical thinking to manage overwhelming amounts of information and data\, question automated outputs\, and generate original ideas that push beyond conventional boundaries. It’s about becoming more discerning\, more adaptive\, and more imaginative—all at once. \nSharpening your creative thinking skills is more essential than ever. With AI accelerating the pace of change\, we’re often asked to come up with solutions quickly\, without complete information and with no guarantee of what’s coming next. That means learning to trust your creative instincts\, test ideas rapidly\, and stay flexible in the face of uncertainty. Thinking creatively and resourcefully also requires deeper collaboration. In an era where AI can automate tasks but not human connection or judgment\, our ability to work well with others\, harness diverse viewpoints\, and co-create solutions is a key driver of innovation and performance. \nCritical thinking also involves recognizing and overcoming the natural barriers that get in our way. From snap assumptions to our brain’s habit of filling in missing information\, developing awareness of these cognitive traps—and having tools to address them—is vital. \nThrough engaging lectures and hands-on activities in this critical thinking AI training\, Emma Sue Prince\, author and experiential learning specialist\, shows you how to equip yourself with practical techniques to boost your critical thinking\, harness your creative potential\, and become a more collaborative\, future-ready thinker. \nWe are also a proud member of the Energy Institute of UK. \nWho Should Attend\n\nChief Innovation Officer (CIO)\nStrategy Consultant\nOperations Manager\nChange Management Specialist\nProduct Strategist\nAI Prompt Engineer / AI Auditor\nData Analyst / Business Intelligence Analyst\nEthical AI Lead\nUser Experience (UX) Researcher\nDigital Transformation Lead\nCreative Director\nContent Strategist\nR&D (Research & Development) Lead\nService Designer\nProject Manager\nLearning & Development (L&D) Specialist\nHR Business Partner\nAgile Coach / Scrum Master\nConflict Resolution Specialist\n\nKey Learning Objectives\n\nLearn to solve problems and make effective decisions\, even in fast-changing and uncertain environments influenced by AI\nProtect your time and energy to generate more creative\, collaborative ideas\nRecognize and overcome your internal barriers and biases that can block critical thinking insights and creative breakthroughs\nApply critical and creative thinking models to a range of contexts and scenarios\nProtect your attention and energy to maximize clear thinking\nUse critical thinking to avoid fallacies\, spot biases (both human and AI generated)\, craft better arguments\, sharpen your judgment\, and make more informed decisions\nTap into and harness creativity to support collaboration and teamwork\n\nEnquiry Form\n\n                 \n \n                        SalutationMr.Ms.Miss.Mrs.Mdm.Dr.Prof.Capt.-Name*\n                            \n                            \n                                                    \n                                                    First\n                                                \n                            \n                            \n                                                    \n                                                    Last\n                                                \n                            \n                        Phone*Email*\n                            \n                        Company*Current Location*    \n                    \n                        \n                                        AfghanistanAlbaniaAlgeriaAmerican SamoaAndorraAngolaAnguillaAntarcticaAntigua and BarbudaArgentinaArmeniaArubaAustraliaAustriaAzerbaijanBahamasBahrainBangladeshBarbadosBelarusBelgiumBelizeBeninBermudaBhutanBoliviaBonaire\, Sint Eustatius and SabaBosnia and HerzegovinaBotswanaBouvet IslandBrazilBritish Indian Ocean TerritoryBrunei DarussalamBulgariaBurkina FasoBurundiCambodiaCameroonCanadaCape VerdeCayman IslandsCentral African RepublicChadChileChinaChristmas IslandCocos IslandsColombiaComorosCongoCongo\, Democratic Republic of theCook IslandsCosta RicaCroatiaCubaCuraçaoCyprusCzechiaCôte d'IvoireDenmarkDjiboutiDominicaDominican RepublicEcuadorEgyptEl SalvadorEquatorial GuineaEritreaEstoniaEswatiniEthiopiaFalkland IslandsFaroe IslandsFijiFinlandFranceFrench GuianaFrench PolynesiaFrench Southern TerritoriesGabonGambiaGeorgiaGermanyGhanaGibraltarGreeceGreenlandGrenadaGuadeloupeGuamGuatemalaGuernseyGuineaGuinea-BissauGuyanaHaitiHeard Island and McDonald IslandsHoly SeeHondurasHong KongHungaryIcelandIndiaIndonesiaIranIraqIrelandIsle of ManIsraelItalyJamaicaJapanJerseyJordanKazakhstanKenyaKiribatiKorea\, Democratic People's Republic ofKorea\, Republic ofKuwaitKyrgyzstanLao People's Democratic RepublicLatviaLebanonLesothoLiberiaLibyaLiechtensteinLithuaniaLuxembourgMacaoMadagascarMalawiMalaysiaMaldivesMaliMaltaMarshall IslandsMartiniqueMauritaniaMauritiusMayotteMexicoMicronesiaMoldovaMonacoMongoliaMontenegroMontserratMoroccoMozambiqueMyanmarNamibiaNauruNepalNetherlandsNew CaledoniaNew ZealandNicaraguaNigerNigeriaNiueNorfolk IslandNorth MacedoniaNorthern Mariana IslandsNorwayOmanPakistanPalauPalestine\, State ofPanamaPapua New GuineaParaguayPeruPhilippinesPitcairnPolandPortugalPuerto RicoQatarRomaniaRussian FederationRwandaRéunionSaint BarthélemySaint Helena\, Ascension and Tristan da CunhaSaint Kitts and NevisSaint LuciaSaint MartinSaint Pierre and MiquelonSaint Vincent and the GrenadinesSamoaSan MarinoSao Tome and PrincipeSaudi ArabiaSenegalSerbiaSeychellesSierra LeoneSingaporeSint MaartenSlovakiaSloveniaSolomon IslandsSomaliaSouth AfricaSouth Georgia and the South Sandwich IslandsSouth SudanSpainSri LankaSudanSurinameSvalbard and Jan MayenSwedenSwitzerlandSyria Arab RepublicTaiwanTajikistanTanzania\, the United Republic ofThailandTimor-LesteTogoTokelauTongaTrinidad and TobagoTunisiaTurkmenistanTurks and Caicos IslandsTuvaluTürkiyeUS Minor Outlying IslandsUgandaUkraineUnited Arab EmiratesUnited KingdomUnited StatesUruguayUzbekistanVanuatuVenezuelaViet NamVirgin Islands\, BritishVirgin Islands\, U.S.Wallis and FutunaWestern SaharaYemenZambiaZimbabweÅland Islands\n                                        Country\n                                    \n                    \n                How many people are you looking at?1 - 2 Standard Rates3 - 5 Group Discount>10 In-House Training\, Huge Savings!Undecided\, need more informationThis is just an approximate number. You can finalise it when you send in the registration form.\n								\n								Send me brochure\n							Comments:CAPTCHA
URL:https://www.opuskinetic.com/training/creative-and-critical-thinking-in-the-age-of-ai/2026-06-25/
LOCATION:Singapore\, Singapore
CATEGORIES:AI & Machine Learning,Big Data, AI & Cybersecurity
ATTACH;FMTTYPE=image/png:https://www.opuskinetic.com/wp-content/uploads/2026/02/creative-ai-fi1-scaled.png
ORGANIZER;CN="Opus Kinetic Pte Ltd":MAILTO:info@opuskinetic.com
GEO:1.352083;103.819836
END:VEVENT
BEGIN:VEVENT
DTSTART;VALUE=DATE:20260629
DTEND;VALUE=DATE:20260701
DTSTAMP:20260422T220525
CREATED:20260223T042245Z
LAST-MODIFIED:20260223T042442Z
UID:10002385-1782723600-1782838800@www.opuskinetic.com
SUMMARY:Creative and Critical Thinking in the Age of AI
DESCRIPTION:Why Choose this Training Course\nThis is a 2-days critical thinking AI training. Critical thinking is so much more than analysis\, evaluation\, and debate. In today’s fast-moving\, AI-enhanced world\, we need critical thinking to manage overwhelming amounts of information and data\, question automated outputs\, and generate original ideas that push beyond conventional boundaries. It’s about becoming more discerning\, more adaptive\, and more imaginative—all at once. \nSharpening your creative thinking skills is more essential than ever. With AI accelerating the pace of change\, we’re often asked to come up with solutions quickly\, without complete information and with no guarantee of what’s coming next. That means learning to trust your creative instincts\, test ideas rapidly\, and stay flexible in the face of uncertainty. Thinking creatively and resourcefully also requires deeper collaboration. In an era where AI can automate tasks but not human connection or judgment\, our ability to work well with others\, harness diverse viewpoints\, and co-create solutions is a key driver of innovation and performance. \nCritical thinking also involves recognizing and overcoming the natural barriers that get in our way. From snap assumptions to our brain’s habit of filling in missing information\, developing awareness of these cognitive traps—and having tools to address them—is vital. \nThrough engaging lectures and hands-on activities in this critical thinking AI training\, Emma Sue Prince\, author and experiential learning specialist\, shows you how to equip yourself with practical techniques to boost your critical thinking\, harness your creative potential\, and become a more collaborative\, future-ready thinker. \nWe are also a proud member of the Energy Institute of UK. \nWho Should Attend\n\nChief Innovation Officer (CIO)\nStrategy Consultant\nOperations Manager\nChange Management Specialist\nProduct Strategist\nAI Prompt Engineer / AI Auditor\nData Analyst / Business Intelligence Analyst\nEthical AI Lead\nUser Experience (UX) Researcher\nDigital Transformation Lead\nCreative Director\nContent Strategist\nR&D (Research & Development) Lead\nService Designer\nProject Manager\nLearning & Development (L&D) Specialist\nHR Business Partner\nAgile Coach / Scrum Master\nConflict Resolution Specialist\n\nKey Learning Objectives\n\nLearn to solve problems and make effective decisions\, even in fast-changing and uncertain environments influenced by AI\nProtect your time and energy to generate more creative\, collaborative ideas\nRecognize and overcome your internal barriers and biases that can block critical thinking insights and creative breakthroughs\nApply critical and creative thinking models to a range of contexts and scenarios\nProtect your attention and energy to maximize clear thinking\nUse critical thinking to avoid fallacies\, spot biases (both human and AI generated)\, craft better arguments\, sharpen your judgment\, and make more informed decisions\nTap into and harness creativity to support collaboration and teamwork\n\nEnquiry Form\n\n                 \n \n                        SalutationMr.Ms.Miss.Mrs.Mdm.Dr.Prof.Capt.-Name*\n                            \n                            \n                                                    \n                                                    First\n                                                \n                            \n                            \n                                                    \n                                                    Last\n                                                \n                            \n                        Phone*Email*\n                            \n                        Company*Current Location*    \n                    \n                        \n                                        AfghanistanAlbaniaAlgeriaAmerican SamoaAndorraAngolaAnguillaAntarcticaAntigua and BarbudaArgentinaArmeniaArubaAustraliaAustriaAzerbaijanBahamasBahrainBangladeshBarbadosBelarusBelgiumBelizeBeninBermudaBhutanBoliviaBonaire\, Sint Eustatius and SabaBosnia and HerzegovinaBotswanaBouvet IslandBrazilBritish Indian Ocean TerritoryBrunei DarussalamBulgariaBurkina FasoBurundiCambodiaCameroonCanadaCape VerdeCayman IslandsCentral African RepublicChadChileChinaChristmas IslandCocos IslandsColombiaComorosCongoCongo\, Democratic Republic of theCook IslandsCosta RicaCroatiaCubaCuraçaoCyprusCzechiaCôte d'IvoireDenmarkDjiboutiDominicaDominican RepublicEcuadorEgyptEl SalvadorEquatorial GuineaEritreaEstoniaEswatiniEthiopiaFalkland IslandsFaroe IslandsFijiFinlandFranceFrench GuianaFrench PolynesiaFrench Southern TerritoriesGabonGambiaGeorgiaGermanyGhanaGibraltarGreeceGreenlandGrenadaGuadeloupeGuamGuatemalaGuernseyGuineaGuinea-BissauGuyanaHaitiHeard Island and McDonald IslandsHoly SeeHondurasHong KongHungaryIcelandIndiaIndonesiaIranIraqIrelandIsle of ManIsraelItalyJamaicaJapanJerseyJordanKazakhstanKenyaKiribatiKorea\, Democratic People's Republic ofKorea\, Republic ofKuwaitKyrgyzstanLao People's Democratic RepublicLatviaLebanonLesothoLiberiaLibyaLiechtensteinLithuaniaLuxembourgMacaoMadagascarMalawiMalaysiaMaldivesMaliMaltaMarshall IslandsMartiniqueMauritaniaMauritiusMayotteMexicoMicronesiaMoldovaMonacoMongoliaMontenegroMontserratMoroccoMozambiqueMyanmarNamibiaNauruNepalNetherlandsNew CaledoniaNew ZealandNicaraguaNigerNigeriaNiueNorfolk IslandNorth MacedoniaNorthern Mariana IslandsNorwayOmanPakistanPalauPalestine\, State ofPanamaPapua New GuineaParaguayPeruPhilippinesPitcairnPolandPortugalPuerto RicoQatarRomaniaRussian FederationRwandaRéunionSaint BarthélemySaint Helena\, Ascension and Tristan da CunhaSaint Kitts and NevisSaint LuciaSaint MartinSaint Pierre and MiquelonSaint Vincent and the GrenadinesSamoaSan MarinoSao Tome and PrincipeSaudi ArabiaSenegalSerbiaSeychellesSierra LeoneSingaporeSint MaartenSlovakiaSloveniaSolomon IslandsSomaliaSouth AfricaSouth Georgia and the South Sandwich IslandsSouth SudanSpainSri LankaSudanSurinameSvalbard and Jan MayenSwedenSwitzerlandSyria Arab RepublicTaiwanTajikistanTanzania\, the United Republic ofThailandTimor-LesteTogoTokelauTongaTrinidad and TobagoTunisiaTurkmenistanTurks and Caicos IslandsTuvaluTürkiyeUS Minor Outlying IslandsUgandaUkraineUnited Arab EmiratesUnited KingdomUnited StatesUruguayUzbekistanVanuatuVenezuelaViet NamVirgin Islands\, BritishVirgin Islands\, U.S.Wallis and FutunaWestern SaharaYemenZambiaZimbabweÅland Islands\n                                        Country\n                                    \n                    \n                How many people are you looking at?1 - 2 Standard Rates3 - 5 Group Discount>10 In-House Training\, Huge Savings!Undecided\, need more informationThis is just an approximate number. You can finalise it when you send in the registration form.\n								\n								Send me brochure\n							Comments:CAPTCHA
URL:https://www.opuskinetic.com/training/creative-and-critical-thinking-in-the-age-of-ai/2026-06-29/
LOCATION:Singapore\, Singapore
CATEGORIES:AI & Machine Learning,Big Data, AI & Cybersecurity
ATTACH;FMTTYPE=image/png:https://www.opuskinetic.com/wp-content/uploads/2026/02/creative-ai-fi1-scaled.png
ORGANIZER;CN="Opus Kinetic Pte Ltd":MAILTO:info@opuskinetic.com
GEO:1.352083;103.819836
END:VEVENT
END:VCALENDAR