BEGIN:VCALENDAR
VERSION:2.0
PRODID:-//Opus Kinetic - ECPv6.15.12.2//NONSGML v1.0//EN
CALSCALE:GREGORIAN
METHOD:PUBLISH
X-ORIGINAL-URL:https://www.opuskinetic.com
X-WR-CALDESC:Events for Opus Kinetic
REFRESH-INTERVAL;VALUE=DURATION:PT1H
X-Robots-Tag:noindex
X-PUBLISHED-TTL:PT1H
BEGIN:VTIMEZONE
TZID:Asia/Singapore
BEGIN:STANDARD
TZOFFSETFROM:+0800
TZOFFSETTO:+0800
TZNAME:+08
DTSTART:20210101T000000
END:STANDARD
END:VTIMEZONE
BEGIN:VEVENT
DTSTART;VALUE=DATE:20220221
DTEND;VALUE=DATE:20220225
DTSTAMP:20260420T093054
CREATED:20211124T023118Z
LAST-MODIFIED:20211220T064241Z
UID:10000818-1645401600-1645747199@www.opuskinetic.com
SUMMARY:Drilling Problems & Drilling Optimization
DESCRIPTION:Why Choose this Training Course\nThis is a 4-day training course. Having successful oil and gas drilling operation requires knowledge of numerous factors. It is not just increasing the penetration rates\, but also minimizing the downtime caused by drilling problems that could enhance the overall performance of the well. This course introduces various types of problems that could be encountered during drilling and workover operations and result in non-productive and very costly drilling down time as well as the possible means for reduction of this time throughout adequate definition and monitoring of KPI’s\, data management\, quantifying uncertainties in the subsurface conditions\, risk assessment and use of modern drilling technologies and trends. Moreover\, the course provides better understanding\, enhance knowledge and strengthen the decision-making capability of the participants to enhance the well performance throughout presentations\, case studies\, group discussions and exercise as well as practical videos of actual cases. \nWho Should Attend\n\nDrilling Engineers\nPetroleum Engineers\nDrilling Managers\nTool Pushers\nReservoir Engineers\nRisk Managers\nField Services Staff\nDrillers\n\nKey Learning Objectives\n\nWhat potential problem may occur during drilling?\nWhy do these problems occur?\nWhat to do and how to act quickly to minimize its economic impact on the drilling budget?\nLearn how to recognize signs before problems it become eminent to help in reducing the rig downtime and cost accordingly.\nRecognize the influence of drill string and reservoir mechanics.\nIdentify possible and expected operational problems and contingency plans.\nAcquire necessary skills to conduct risk assessment for all phases of the process to minimize the down time or losses.\nUnderstand how to avoid drilling problems and implement well control procedures throughout operations.\nAppreciate the environmental effects of drilling activities.\nImplement techniques to control non-productive time.\nEffectively identify and monitor key perfomance indicators (KPIs).\nImplement real time management of well construction and optimization.\nUnderstand the fundamentals and concept of the operations optimization.\nIncrease awareness and knowledge of the rig operations and factors affecting its perfomance.\nAcquire necessary knowledge of the subsurface operational techniques\, technologies and equipment.\nBe able to handle various emergency situations\, plan its operations\, monitor and analyze its perfomance.\n\nEnquiry Form\n\n\n                 \n \n                        SalutationMr.Ms.Miss.Mrs.Mdm.Dr.Prof.Capt.-Name*\n                            \n                            \n                                                    \n                                                    First\n                                                \n                            \n                            \n                                                    \n                                                    Last\n                                                \n                            \n                        Phone*Email*\n                            \n                        Company*Current Location*    \n                    \n                        \n                                        AfghanistanAlbaniaAlgeriaAmerican SamoaAndorraAngolaAnguillaAntarcticaAntigua and BarbudaArgentinaArmeniaArubaAustraliaAustriaAzerbaijanBahamasBahrainBangladeshBarbadosBelarusBelgiumBelizeBeninBermudaBhutanBoliviaBonaire\, Sint Eustatius and SabaBosnia and HerzegovinaBotswanaBouvet IslandBrazilBritish Indian Ocean TerritoryBrunei DarussalamBulgariaBurkina FasoBurundiCambodiaCameroonCanadaCape VerdeCayman IslandsCentral African RepublicChadChileChinaChristmas IslandCocos IslandsColombiaComorosCongoCongo\, Democratic Republic of theCook IslandsCosta RicaCroatiaCubaCuraçaoCyprusCzechiaCôte d'IvoireDenmarkDjiboutiDominicaDominican RepublicEcuadorEgyptEl SalvadorEquatorial GuineaEritreaEstoniaEswatiniEthiopiaFalkland IslandsFaroe IslandsFijiFinlandFranceFrench GuianaFrench PolynesiaFrench Southern TerritoriesGabonGambiaGeorgiaGermanyGhanaGibraltarGreeceGreenlandGrenadaGuadeloupeGuamGuatemalaGuernseyGuineaGuinea-BissauGuyanaHaitiHeard Island and McDonald IslandsHoly SeeHondurasHong KongHungaryIcelandIndiaIndonesiaIranIraqIrelandIsle of ManIsraelItalyJamaicaJapanJerseyJordanKazakhstanKenyaKiribatiKorea\, Democratic People's Republic ofKorea\, Republic ofKuwaitKyrgyzstanLao People's Democratic RepublicLatviaLebanonLesothoLiberiaLibyaLiechtensteinLithuaniaLuxembourgMacaoMadagascarMalawiMalaysiaMaldivesMaliMaltaMarshall IslandsMartiniqueMauritaniaMauritiusMayotteMexicoMicronesiaMoldovaMonacoMongoliaMontenegroMontserratMoroccoMozambiqueMyanmarNamibiaNauruNepalNetherlandsNew CaledoniaNew ZealandNicaraguaNigerNigeriaNiueNorfolk IslandNorth MacedoniaNorthern Mariana IslandsNorwayOmanPakistanPalauPalestine\, State ofPanamaPapua New GuineaParaguayPeruPhilippinesPitcairnPolandPortugalPuerto RicoQatarRomaniaRussian FederationRwandaRéunionSaint BarthélemySaint Helena\, Ascension and Tristan da CunhaSaint Kitts and NevisSaint LuciaSaint MartinSaint Pierre and MiquelonSaint Vincent and the GrenadinesSamoaSan MarinoSao Tome and PrincipeSaudi ArabiaSenegalSerbiaSeychellesSierra LeoneSingaporeSint MaartenSlovakiaSloveniaSolomon IslandsSomaliaSouth AfricaSouth Georgia and the South Sandwich IslandsSouth SudanSpainSri LankaSudanSurinameSvalbard and Jan MayenSwedenSwitzerlandSyria Arab RepublicTaiwanTajikistanTanzania\, the United Republic ofThailandTimor-LesteTogoTokelauTongaTrinidad and TobagoTunisiaTurkmenistanTurks and Caicos IslandsTuvaluTürkiyeUS Minor Outlying IslandsUgandaUkraineUnited Arab EmiratesUnited KingdomUnited StatesUruguayUzbekistanVanuatuVenezuelaViet NamVirgin Islands\, BritishVirgin Islands\, U.S.Wallis and FutunaWestern SaharaYemenZambiaZimbabweÅland Islands\n                                        Country\n                                    \n                    \n                How many people are you looking at?1 - 2 Standard Rates3 - 5 Group Discount>10 In-House Training\, Huge Savings!Undecided\, need more informationThis is just an approximate number. You can finalise it when you send in the registration form.\n								\n								Send me brochure\n							Comments:CAPTCHA
URL:https://www.opuskinetic.com/training/drilling-problems-drilling-optimization/
LOCATION:Virtual Instructor Led Training (VILT)
CATEGORIES:Drilling
ATTACH;FMTTYPE=image/jpeg:https://www.opuskinetic.com/wp-content/uploads/2018/07/deepwaterdrilling.jpg
END:VEVENT
END:VCALENDAR