BEGIN:VCALENDAR
VERSION:2.0
PRODID:-//Opus Kinetic - ECPv6.15.12.2//NONSGML v1.0//EN
CALSCALE:GREGORIAN
METHOD:PUBLISH
X-WR-CALNAME:Opus Kinetic
X-ORIGINAL-URL:https://www.opuskinetic.com
X-WR-CALDESC:Events for Opus Kinetic
REFRESH-INTERVAL;VALUE=DURATION:PT1H
X-Robots-Tag:noindex
X-PUBLISHED-TTL:PT1H
BEGIN:VTIMEZONE
TZID:Asia/Singapore
BEGIN:STANDARD
TZOFFSETFROM:+0800
TZOFFSETTO:+0800
TZNAME:+08
DTSTART:20210101T000000
END:STANDARD
END:VTIMEZONE
BEGIN:VEVENT
DTSTART;VALUE=DATE:20250911
DTEND;VALUE=DATE:20250913
DTSTAMP:20260420T225635
CREATED:20250611T054110Z
LAST-MODIFIED:20260107T050306Z
UID:10002146-1757548800-1757721599@www.opuskinetic.com
SUMMARY:Rail Engineering & Design Safety Management (EDSM)
DESCRIPTION:Why Choose this Training Course\nThis rail EDSM training course provides engineers\, managers and others involved in Rail safety-related projects with a detailed understanding of the fundamentals of EDSM supported by competency-based structure. The opening module provides background to EDSM and a brief overview of its application in the railway drawing upon best practice. The following modules introduce a number of EDSM fundamentals and the approach suggested by good practice and standards for putting them into place. Comprehensive guidance on implementing safe work systems in the railway is provided and all participants will have the opportunity to gain hands-on experience of the main techniques involved. \nThe rail EDSM training course content is mapped to: \n\nIndustry standard competencies\, skills and evidence requirements relevant to rail safety work\nIndustry regulations\nAustralian and international standards\n\nInformation is interspersed with practical exercises. There is a short multiple-choice examination at the end to assess the identified learning outcomes. \nWho Should Attend\nAny member of staff – decision makers\, project managers\, line managers\, engineers\, designers and others – involved with changes to the railway need an understanding of the latest best practice. The course provides a structured and robust approach to managing complex railway projects safely that is aligned with the LATEST CENELEC standard EN50126-1/2:2017\, EN50129:2018 and EN50128:2011 and AS4292.2006 for infrastructure\, rolling stock\, hardware and software. \nRecommended Pre-requisites \n\nParticipants should have a general understanding of engineering and project management principles and practice.\n\nKey Learning Objectives\n\nDemonstrate a sound understanding of the principles of EDSM\nAppreciate risk in the context of the railway\, design and safety management\nDescribe how design and the safety lifecycle interact and influence each other\nRelate current best practice including latest safety standards EN50126-1/2:2017\, EN50129:2018\, and EN50128:2011 (Infrastructure)\, BS EN 50657:2017 (Software for rolling stick)\, EN50155:2017 (Hardware for Rolling stock)\, to your own business\nIdentify and use relevant standards to aid management of design risk\nIdentify hazards\, assess risks and understand risk assessment and its approaches\nDiscover relevant standards and illustrate how risks in general should be managed\nDescribe different approaches to risk acceptance and ALARP and learn to apply the current and developing legislative requirements for rail design risk\nContribute to a safety plan and communicate safety-related information including hazard logs and other safety records\nUnderstand the need for a risk-based system engineering lifecycle approach to enable built-in safety\, value and performance\nMake decisions which optimise system safety and engineering design requirements in a business context\nExplain the concept of the designer as a ‘rail safety worker’ and its implications\nUse case studies to understand the potential for things to go wrong and develop practical risk management skills\nUnderstand project management\, systems engineering and integration\, validation and stakeholder management in the overall rail business context\n\nEnquiry Form\n\n\n                 \n \n                        SalutationMr.Ms.Miss.Mrs.Mdm.Dr.Prof.Capt.-Name*\n                            \n                            \n                                                    \n                                                    First\n                                                \n                            \n                            \n                                                    \n                                                    Last\n                                                \n                            \n                        Phone*Email*\n                            \n                        Company*Current Location*    \n                    \n                        \n                                        AfghanistanAlbaniaAlgeriaAmerican SamoaAndorraAngolaAnguillaAntarcticaAntigua and BarbudaArgentinaArmeniaArubaAustraliaAustriaAzerbaijanBahamasBahrainBangladeshBarbadosBelarusBelgiumBelizeBeninBermudaBhutanBoliviaBonaire\, Sint Eustatius and SabaBosnia and HerzegovinaBotswanaBouvet IslandBrazilBritish Indian Ocean TerritoryBrunei DarussalamBulgariaBurkina FasoBurundiCambodiaCameroonCanadaCape VerdeCayman IslandsCentral African RepublicChadChileChinaChristmas IslandCocos IslandsColombiaComorosCongoCongo\, Democratic Republic of theCook IslandsCosta RicaCroatiaCubaCuraçaoCyprusCzechiaCôte d'IvoireDenmarkDjiboutiDominicaDominican RepublicEcuadorEgyptEl SalvadorEquatorial GuineaEritreaEstoniaEswatiniEthiopiaFalkland IslandsFaroe IslandsFijiFinlandFranceFrench GuianaFrench PolynesiaFrench Southern TerritoriesGabonGambiaGeorgiaGermanyGhanaGibraltarGreeceGreenlandGrenadaGuadeloupeGuamGuatemalaGuernseyGuineaGuinea-BissauGuyanaHaitiHeard Island and McDonald IslandsHoly SeeHondurasHong KongHungaryIcelandIndiaIndonesiaIranIraqIrelandIsle of ManIsraelItalyJamaicaJapanJerseyJordanKazakhstanKenyaKiribatiKorea\, Democratic People's Republic ofKorea\, Republic ofKuwaitKyrgyzstanLao People's Democratic RepublicLatviaLebanonLesothoLiberiaLibyaLiechtensteinLithuaniaLuxembourgMacaoMadagascarMalawiMalaysiaMaldivesMaliMaltaMarshall IslandsMartiniqueMauritaniaMauritiusMayotteMexicoMicronesiaMoldovaMonacoMongoliaMontenegroMontserratMoroccoMozambiqueMyanmarNamibiaNauruNepalNetherlandsNew CaledoniaNew ZealandNicaraguaNigerNigeriaNiueNorfolk IslandNorth MacedoniaNorthern Mariana IslandsNorwayOmanPakistanPalauPalestine\, State ofPanamaPapua New GuineaParaguayPeruPhilippinesPitcairnPolandPortugalPuerto RicoQatarRomaniaRussian FederationRwandaRéunionSaint BarthélemySaint Helena\, Ascension and Tristan da CunhaSaint Kitts and NevisSaint LuciaSaint MartinSaint Pierre and MiquelonSaint Vincent and the GrenadinesSamoaSan MarinoSao Tome and PrincipeSaudi ArabiaSenegalSerbiaSeychellesSierra LeoneSingaporeSint MaartenSlovakiaSloveniaSolomon IslandsSomaliaSouth AfricaSouth Georgia and the South Sandwich IslandsSouth SudanSpainSri LankaSudanSurinameSvalbard and Jan MayenSwedenSwitzerlandSyria Arab RepublicTaiwanTajikistanTanzania\, the United Republic ofThailandTimor-LesteTogoTokelauTongaTrinidad and TobagoTunisiaTurkmenistanTurks and Caicos IslandsTuvaluTürkiyeUS Minor Outlying IslandsUgandaUkraineUnited Arab EmiratesUnited KingdomUnited StatesUruguayUzbekistanVanuatuVenezuelaViet NamVirgin Islands\, BritishVirgin Islands\, U.S.Wallis and FutunaWestern SaharaYemenZambiaZimbabweÅland Islands\n                                        Country\n                                    \n                    \n                How many people are you looking at?1 - 2 Standard Rates3 - 5 Group Discount>10 In-House Training\, Huge Savings!Undecided\, need more informationThis is just an approximate number. You can finalise it when you send in the registration form.\n								\n								Send me brochure\n							Comments:CAPTCHA
URL:https://www.opuskinetic.com/training/rail-edsm-training/2025-09-11/
LOCATION:Singapore\, Singapore
CATEGORIES:Logistics and Supply Chain,Management and Leadership Development,Project
ATTACH;FMTTYPE=image/jpeg:https://www.opuskinetic.com/wp-content/uploads/2025/06/EDSM-fi1-scaled.jpg
ORGANIZER;CN="Opus Kinetic Pte Ltd":MAILTO:info@opuskinetic.com
GEO:1.352083;103.819836
END:VEVENT
BEGIN:VEVENT
DTSTART;VALUE=DATE:20231030
DTEND;VALUE=DATE:20231031
DTSTAMP:20260420T225635
CREATED:20211202T072136Z
LAST-MODIFIED:20230927T105445Z
UID:10001489-1698652800-1698685200@www.opuskinetic.com
SUMMARY:Drilling and Workover Engineering
DESCRIPTION:Why Choose this Training Course\nThis training course is designed to cover all aspects of the well from exploration to completion and workover phases. It introduces important topics such as exploration techniques utilized to search for oil\, surface and subsurface well drilling equipment\, drilling operation techniques (vertical/ deviated/ horizontal/ multilateral/ extended reach)\, well completion techniques and procedures\, drilling bits\, drilling fluid systems & design\, casing cementing design\, formation evaluation techniques and other well problems such as kicks\, blowouts as well as well control issues. Blowouts are the most dangerous and destructive potential disasters in drilling operations. Not only because they lead to serious injuries and death\, but also\, they may cause massive\, debilitating production shut-downs and have a negative effect on future production from the lost well as well as ecological damage. \nWho Should Attend\n\nNew Drilling Engineers\nDrilling Engineers with field experience\nDrilling Supervisors\nProduction Engineers\nOperation supervisors\nPetroleum Engineers\nReservoir Engineers\nPetrophysicists\nBoth field and Administration staff of Drilling related service companies\n\nKey Learning Objectives\n\nProvide core knowledge and skills required for handling drilling & workover operations as well as well control critical situations with competency\nGain the required necessary knowledge to handle operations confidently\nHow to comprehend drilling and workover reports and optimize operations\nUnderstand and be able to handle operations in open/cased hole wells\, as a part of the reservoir management\nHow drilling practices can optimize cash flow and ultimate recovery\nEnhance communications and promote work performance across organization\n\nUpon Completing the Course\, you will be able to: \n\nPlan effective operation\nBy learning practical methods of design\nPlan and install safe and efficient well completion and workover\nImprove well productivity by integrating the importance of completion process to future production in order to enhance performance and failures\nImprove effectiveness and efficiency of work performance by learning ways to conduct operations smoothly implementing proper techniques\n\nEnquiry Form\n\n                 \n \n                        SalutationMr.Ms.Miss.Mrs.Mdm.Dr.Prof.Capt.-Name*\n                            \n                            \n                                                    \n                                                    First\n                                                \n                            \n                            \n                                                    \n                                                    Last\n                                                \n                            \n                        Phone*Email*\n                            \n                        Company*Current Location*    \n                    \n                        \n                                        AfghanistanAlbaniaAlgeriaAmerican SamoaAndorraAngolaAnguillaAntarcticaAntigua and BarbudaArgentinaArmeniaArubaAustraliaAustriaAzerbaijanBahamasBahrainBangladeshBarbadosBelarusBelgiumBelizeBeninBermudaBhutanBoliviaBonaire\, Sint Eustatius and SabaBosnia and HerzegovinaBotswanaBouvet IslandBrazilBritish Indian Ocean TerritoryBrunei DarussalamBulgariaBurkina FasoBurundiCambodiaCameroonCanadaCape VerdeCayman IslandsCentral African RepublicChadChileChinaChristmas IslandCocos IslandsColombiaComorosCongoCongo\, Democratic Republic of theCook IslandsCosta RicaCroatiaCubaCuraçaoCyprusCzechiaCôte d'IvoireDenmarkDjiboutiDominicaDominican RepublicEcuadorEgyptEl SalvadorEquatorial GuineaEritreaEstoniaEswatiniEthiopiaFalkland IslandsFaroe IslandsFijiFinlandFranceFrench GuianaFrench PolynesiaFrench Southern TerritoriesGabonGambiaGeorgiaGermanyGhanaGibraltarGreeceGreenlandGrenadaGuadeloupeGuamGuatemalaGuernseyGuineaGuinea-BissauGuyanaHaitiHeard Island and McDonald IslandsHoly SeeHondurasHong KongHungaryIcelandIndiaIndonesiaIranIraqIrelandIsle of ManIsraelItalyJamaicaJapanJerseyJordanKazakhstanKenyaKiribatiKorea\, Democratic People's Republic ofKorea\, Republic ofKuwaitKyrgyzstanLao People's Democratic RepublicLatviaLebanonLesothoLiberiaLibyaLiechtensteinLithuaniaLuxembourgMacaoMadagascarMalawiMalaysiaMaldivesMaliMaltaMarshall IslandsMartiniqueMauritaniaMauritiusMayotteMexicoMicronesiaMoldovaMonacoMongoliaMontenegroMontserratMoroccoMozambiqueMyanmarNamibiaNauruNepalNetherlandsNew CaledoniaNew ZealandNicaraguaNigerNigeriaNiueNorfolk IslandNorth MacedoniaNorthern Mariana IslandsNorwayOmanPakistanPalauPalestine\, State ofPanamaPapua New GuineaParaguayPeruPhilippinesPitcairnPolandPortugalPuerto RicoQatarRomaniaRussian FederationRwandaRéunionSaint BarthélemySaint Helena\, Ascension and Tristan da CunhaSaint Kitts and NevisSaint LuciaSaint MartinSaint Pierre and MiquelonSaint Vincent and the GrenadinesSamoaSan MarinoSao Tome and PrincipeSaudi ArabiaSenegalSerbiaSeychellesSierra LeoneSingaporeSint MaartenSlovakiaSloveniaSolomon IslandsSomaliaSouth AfricaSouth Georgia and the South Sandwich IslandsSouth SudanSpainSri LankaSudanSurinameSvalbard and Jan MayenSwedenSwitzerlandSyria Arab RepublicTaiwanTajikistanTanzania\, the United Republic ofThailandTimor-LesteTogoTokelauTongaTrinidad and TobagoTunisiaTurkmenistanTurks and Caicos IslandsTuvaluTürkiyeUS Minor Outlying IslandsUgandaUkraineUnited Arab EmiratesUnited KingdomUnited StatesUruguayUzbekistanVanuatuVenezuelaViet NamVirgin Islands\, BritishVirgin Islands\, U.S.Wallis and FutunaWestern SaharaYemenZambiaZimbabweÅland Islands\n                                        Country\n                                    \n                    \n                How many people are you looking at?1 - 2 Standard Rates3 - 5 Group Discount>10 In-House Training\, Huge Savings!Undecided\, need more informationThis is just an approximate number. You can finalise it when you send in the registration form.\n								\n								Send me brochure\n							Comments:CAPTCHA
URL:https://www.opuskinetic.com/training/drilling-and-workover-engineering/2023-10-30/
LOCATION:Virtual Instructor Led Training (VILT)
CATEGORIES:Drilling,Oil/Gas/Petrochemicals
END:VEVENT
BEGIN:VEVENT
DTSTART;VALUE=DATE:20220718
DTEND;VALUE=DATE:20220722
DTSTAMP:20260420T225635
CREATED:20211202T072136Z
LAST-MODIFIED:20230927T105445Z
UID:10001363-1658102400-1658447940@www.opuskinetic.com
SUMMARY:Drilling and Workover Engineering
DESCRIPTION:Why Choose this Training Course\nThis training course is designed to cover all aspects of the well from exploration to completion and workover phases. It introduces important topics such as exploration techniques utilized to search for oil\, surface and subsurface well drilling equipment\, drilling operation techniques (vertical/ deviated/ horizontal/ multilateral/ extended reach)\, well completion techniques and procedures\, drilling bits\, drilling fluid systems & design\, casing cementing design\, formation evaluation techniques and other well problems such as kicks\, blowouts as well as well control issues. Blowouts are the most dangerous and destructive potential disasters in drilling operations. Not only because they lead to serious injuries and death\, but also\, they may cause massive\, debilitating production shut-downs and have a negative effect on future production from the lost well as well as ecological damage. \nWho Should Attend\n\nNew Drilling Engineers\nDrilling Engineers with field experience\nDrilling Supervisors\nProduction Engineers\nOperation supervisors\nPetroleum Engineers\nReservoir Engineers\nPetrophysicists\nBoth field and Administration staff of Drilling related service companies\n\nKey Learning Objectives\n\nProvide core knowledge and skills required for handling drilling & workover operations as well as well control critical situations with competency\nGain the required necessary knowledge to handle operations confidently\nHow to comprehend drilling and workover reports and optimize operations\nUnderstand and be able to handle operations in open/cased hole wells\, as a part of the reservoir management\nHow drilling practices can optimize cash flow and ultimate recovery\nEnhance communications and promote work performance across organization\n\nUpon Completing the Course\, you will be able to: \n\nPlan effective operation\nBy learning practical methods of design\nPlan and install safe and efficient well completion and workover\nImprove well productivity by integrating the importance of completion process to future production in order to enhance performance and failures\nImprove effectiveness and efficiency of work performance by learning ways to conduct operations smoothly implementing proper techniques\n\nEnquiry Form\n\n                 \n \n                        SalutationMr.Ms.Miss.Mrs.Mdm.Dr.Prof.Capt.-Name*\n                            \n                            \n                                                    \n                                                    First\n                                                \n                            \n                            \n                                                    \n                                                    Last\n                                                \n                            \n                        Phone*Email*\n                            \n                        Company*Current Location*    \n                    \n                        \n                                        AfghanistanAlbaniaAlgeriaAmerican SamoaAndorraAngolaAnguillaAntarcticaAntigua and BarbudaArgentinaArmeniaArubaAustraliaAustriaAzerbaijanBahamasBahrainBangladeshBarbadosBelarusBelgiumBelizeBeninBermudaBhutanBoliviaBonaire\, Sint Eustatius and SabaBosnia and HerzegovinaBotswanaBouvet IslandBrazilBritish Indian Ocean TerritoryBrunei DarussalamBulgariaBurkina FasoBurundiCambodiaCameroonCanadaCape VerdeCayman IslandsCentral African RepublicChadChileChinaChristmas IslandCocos IslandsColombiaComorosCongoCongo\, Democratic Republic of theCook IslandsCosta RicaCroatiaCubaCuraçaoCyprusCzechiaCôte d'IvoireDenmarkDjiboutiDominicaDominican RepublicEcuadorEgyptEl SalvadorEquatorial GuineaEritreaEstoniaEswatiniEthiopiaFalkland IslandsFaroe IslandsFijiFinlandFranceFrench GuianaFrench PolynesiaFrench Southern TerritoriesGabonGambiaGeorgiaGermanyGhanaGibraltarGreeceGreenlandGrenadaGuadeloupeGuamGuatemalaGuernseyGuineaGuinea-BissauGuyanaHaitiHeard Island and McDonald IslandsHoly SeeHondurasHong KongHungaryIcelandIndiaIndonesiaIranIraqIrelandIsle of ManIsraelItalyJamaicaJapanJerseyJordanKazakhstanKenyaKiribatiKorea\, Democratic People's Republic ofKorea\, Republic ofKuwaitKyrgyzstanLao People's Democratic RepublicLatviaLebanonLesothoLiberiaLibyaLiechtensteinLithuaniaLuxembourgMacaoMadagascarMalawiMalaysiaMaldivesMaliMaltaMarshall IslandsMartiniqueMauritaniaMauritiusMayotteMexicoMicronesiaMoldovaMonacoMongoliaMontenegroMontserratMoroccoMozambiqueMyanmarNamibiaNauruNepalNetherlandsNew CaledoniaNew ZealandNicaraguaNigerNigeriaNiueNorfolk IslandNorth MacedoniaNorthern Mariana IslandsNorwayOmanPakistanPalauPalestine\, State ofPanamaPapua New GuineaParaguayPeruPhilippinesPitcairnPolandPortugalPuerto RicoQatarRomaniaRussian FederationRwandaRéunionSaint BarthélemySaint Helena\, Ascension and Tristan da CunhaSaint Kitts and NevisSaint LuciaSaint MartinSaint Pierre and MiquelonSaint Vincent and the GrenadinesSamoaSan MarinoSao Tome and PrincipeSaudi ArabiaSenegalSerbiaSeychellesSierra LeoneSingaporeSint MaartenSlovakiaSloveniaSolomon IslandsSomaliaSouth AfricaSouth Georgia and the South Sandwich IslandsSouth SudanSpainSri LankaSudanSurinameSvalbard and Jan MayenSwedenSwitzerlandSyria Arab RepublicTaiwanTajikistanTanzania\, the United Republic ofThailandTimor-LesteTogoTokelauTongaTrinidad and TobagoTunisiaTurkmenistanTurks and Caicos IslandsTuvaluTürkiyeUS Minor Outlying IslandsUgandaUkraineUnited Arab EmiratesUnited KingdomUnited StatesUruguayUzbekistanVanuatuVenezuelaViet NamVirgin Islands\, BritishVirgin Islands\, U.S.Wallis and FutunaWestern SaharaYemenZambiaZimbabweÅland Islands\n                                        Country\n                                    \n                    \n                How many people are you looking at?1 - 2 Standard Rates3 - 5 Group Discount>10 In-House Training\, Huge Savings!Undecided\, need more informationThis is just an approximate number. You can finalise it when you send in the registration form.\n								\n								Send me brochure\n							Comments:CAPTCHA
URL:https://www.opuskinetic.com/training/drilling-and-workover-engineering/2022-07-18/
LOCATION:Virtual Instructor Led Training (VILT)
CATEGORIES:Drilling,Oil/Gas/Petrochemicals
END:VEVENT
BEGIN:VEVENT
DTSTART;VALUE=DATE:20220301
DTEND;VALUE=DATE:20220305
DTSTAMP:20260420T225635
CREATED:20211202T072136Z
LAST-MODIFIED:20230927T105445Z
UID:10001362-1646092800-1646438340@www.opuskinetic.com
SUMMARY:Drilling and Workover Engineering
DESCRIPTION:Why Choose this Training Course\nThis training course is designed to cover all aspects of the well from exploration to completion and workover phases. It introduces important topics such as exploration techniques utilized to search for oil\, surface and subsurface well drilling equipment\, drilling operation techniques (vertical/ deviated/ horizontal/ multilateral/ extended reach)\, well completion techniques and procedures\, drilling bits\, drilling fluid systems & design\, casing cementing design\, formation evaluation techniques and other well problems such as kicks\, blowouts as well as well control issues. Blowouts are the most dangerous and destructive potential disasters in drilling operations. Not only because they lead to serious injuries and death\, but also\, they may cause massive\, debilitating production shut-downs and have a negative effect on future production from the lost well as well as ecological damage. \nWho Should Attend\n\nNew Drilling Engineers\nDrilling Engineers with field experience\nDrilling Supervisors\nProduction Engineers\nOperation supervisors\nPetroleum Engineers\nReservoir Engineers\nPetrophysicists\nBoth field and Administration staff of Drilling related service companies\n\nKey Learning Objectives\n\nProvide core knowledge and skills required for handling drilling & workover operations as well as well control critical situations with competency\nGain the required necessary knowledge to handle operations confidently\nHow to comprehend drilling and workover reports and optimize operations\nUnderstand and be able to handle operations in open/cased hole wells\, as a part of the reservoir management\nHow drilling practices can optimize cash flow and ultimate recovery\nEnhance communications and promote work performance across organization\n\nUpon Completing the Course\, you will be able to: \n\nPlan effective operation\nBy learning practical methods of design\nPlan and install safe and efficient well completion and workover\nImprove well productivity by integrating the importance of completion process to future production in order to enhance performance and failures\nImprove effectiveness and efficiency of work performance by learning ways to conduct operations smoothly implementing proper techniques\n\nEnquiry Form\n\n                 \n \n                        SalutationMr.Ms.Miss.Mrs.Mdm.Dr.Prof.Capt.-Name*\n                            \n                            \n                                                    \n                                                    First\n                                                \n                            \n                            \n                                                    \n                                                    Last\n                                                \n                            \n                        Phone*Email*\n                            \n                        Company*Current Location*    \n                    \n                        \n                                        AfghanistanAlbaniaAlgeriaAmerican SamoaAndorraAngolaAnguillaAntarcticaAntigua and BarbudaArgentinaArmeniaArubaAustraliaAustriaAzerbaijanBahamasBahrainBangladeshBarbadosBelarusBelgiumBelizeBeninBermudaBhutanBoliviaBonaire\, Sint Eustatius and SabaBosnia and HerzegovinaBotswanaBouvet IslandBrazilBritish Indian Ocean TerritoryBrunei DarussalamBulgariaBurkina FasoBurundiCambodiaCameroonCanadaCape VerdeCayman IslandsCentral African RepublicChadChileChinaChristmas IslandCocos IslandsColombiaComorosCongoCongo\, Democratic Republic of theCook IslandsCosta RicaCroatiaCubaCuraçaoCyprusCzechiaCôte d'IvoireDenmarkDjiboutiDominicaDominican RepublicEcuadorEgyptEl SalvadorEquatorial GuineaEritreaEstoniaEswatiniEthiopiaFalkland IslandsFaroe IslandsFijiFinlandFranceFrench GuianaFrench PolynesiaFrench Southern TerritoriesGabonGambiaGeorgiaGermanyGhanaGibraltarGreeceGreenlandGrenadaGuadeloupeGuamGuatemalaGuernseyGuineaGuinea-BissauGuyanaHaitiHeard Island and McDonald IslandsHoly SeeHondurasHong KongHungaryIcelandIndiaIndonesiaIranIraqIrelandIsle of ManIsraelItalyJamaicaJapanJerseyJordanKazakhstanKenyaKiribatiKorea\, Democratic People's Republic ofKorea\, Republic ofKuwaitKyrgyzstanLao People's Democratic RepublicLatviaLebanonLesothoLiberiaLibyaLiechtensteinLithuaniaLuxembourgMacaoMadagascarMalawiMalaysiaMaldivesMaliMaltaMarshall IslandsMartiniqueMauritaniaMauritiusMayotteMexicoMicronesiaMoldovaMonacoMongoliaMontenegroMontserratMoroccoMozambiqueMyanmarNamibiaNauruNepalNetherlandsNew CaledoniaNew ZealandNicaraguaNigerNigeriaNiueNorfolk IslandNorth MacedoniaNorthern Mariana IslandsNorwayOmanPakistanPalauPalestine\, State ofPanamaPapua New GuineaParaguayPeruPhilippinesPitcairnPolandPortugalPuerto RicoQatarRomaniaRussian FederationRwandaRéunionSaint BarthélemySaint Helena\, Ascension and Tristan da CunhaSaint Kitts and NevisSaint LuciaSaint MartinSaint Pierre and MiquelonSaint Vincent and the GrenadinesSamoaSan MarinoSao Tome and PrincipeSaudi ArabiaSenegalSerbiaSeychellesSierra LeoneSingaporeSint MaartenSlovakiaSloveniaSolomon IslandsSomaliaSouth AfricaSouth Georgia and the South Sandwich IslandsSouth SudanSpainSri LankaSudanSurinameSvalbard and Jan MayenSwedenSwitzerlandSyria Arab RepublicTaiwanTajikistanTanzania\, the United Republic ofThailandTimor-LesteTogoTokelauTongaTrinidad and TobagoTunisiaTurkmenistanTurks and Caicos IslandsTuvaluTürkiyeUS Minor Outlying IslandsUgandaUkraineUnited Arab EmiratesUnited KingdomUnited StatesUruguayUzbekistanVanuatuVenezuelaViet NamVirgin Islands\, BritishVirgin Islands\, U.S.Wallis and FutunaWestern SaharaYemenZambiaZimbabweÅland Islands\n                                        Country\n                                    \n                    \n                How many people are you looking at?1 - 2 Standard Rates3 - 5 Group Discount>10 In-House Training\, Huge Savings!Undecided\, need more informationThis is just an approximate number. You can finalise it when you send in the registration form.\n								\n								Send me brochure\n							Comments:CAPTCHA
URL:https://www.opuskinetic.com/training/drilling-and-workover-engineering/2022-03-01/
LOCATION:Virtual Instructor Led Training (VILT)
CATEGORIES:Drilling,Oil/Gas/Petrochemicals
END:VEVENT
END:VCALENDAR