BEGIN:VCALENDAR
VERSION:2.0
PRODID:-//Opus Kinetic - ECPv6.15.12.2//NONSGML v1.0//EN
CALSCALE:GREGORIAN
METHOD:PUBLISH
X-ORIGINAL-URL:https://www.opuskinetic.com
X-WR-CALDESC:Events for Opus Kinetic
REFRESH-INTERVAL;VALUE=DURATION:PT1H
X-Robots-Tag:noindex
X-PUBLISHED-TTL:PT1H
BEGIN:VTIMEZONE
TZID:Asia/Singapore
BEGIN:STANDARD
TZOFFSETFROM:+0800
TZOFFSETTO:+0800
TZNAME:+08
DTSTART:20230101T000000
END:STANDARD
END:VTIMEZONE
BEGIN:VEVENT
DTSTART;TZID=Asia/Singapore:20250310T080000
DTEND;TZID=Asia/Singapore:20250312T170000
DTSTAMP:20260422T111341
CREATED:20241021T084924Z
LAST-MODIFIED:20250207T034034Z
UID:10002032-1741593600-1741798800@www.opuskinetic.com
SUMMARY:Feasibility Studies for Carbon Capture and Storage (CCS) Facility Development
DESCRIPTION:Why Choose this Training Course\nThis CCS feasibility studies training course provides participants with the necessary skills and knowledge to conduct feasibility studies for the development of Carbon Capture and Storage (CCS) facilities. Through practical case studies\, technical analysis\, and regulatory considerations\, participants will learn how to assess the viability of their sites for CCS deployment. The course covers key technical\, economic\, environmental\, and regulatory factors\, equipping attendees to make informed decisions on CCS project development. \nWho Should Attend\n\n\n\n\nThis CCS feasibility studies training course is designed for professionals across industries who are involved in or considering Carbon Capture and Storage (CCS) projects\, including: \n\nEngineers\, geologists\, and project managers working in oil and gas\, power generation\, and renewable energy sectors who are exploring CCS as part of their emissions reduction strategy.\nIndividuals responsible for environmental compliance\, sustainability\, and emissions reduction within organizations.\nGovernment officials\, regulators\, and policymakers involved in the development and enforcement of climate and environmental regulations related to CCS.\nConsultants specializing in environmental assessments\, carbon management\, or energy transition looking to provide expert advice on CCS projects.\nFinancial professionals evaluating the economic viability and risk factors associated with CCS projects and seeking to understand investment opportunities in this growing sector.\nScientists\, researchers\, and educators in fields such as environmental science\, geology\, and engineering interested in advancing their knowledge of CCS technologies and their real-world applications.\n\nThis CCS feasibility studies course is ideal for those looking to develop the skills and knowledge necessary to assess the feasibility of CCS projects and make informed decisions in a rapidly evolving area of climate change mitigation. \n\n\n\n\nKey Learning Objectives\n\nUnderstand the key elements of CCS technology and its role in emissions reduction.\nGain the ability to assess geological suitability for CO₂ storage.\nEvaluate the technical and economic feasibility of CCS projects.\nNavigate regulatory frameworks and environmental considerations.\nDevelop comprehensive feasibility studies and make informed project decisions.\n\nEnquiry Form\n\n\n                 \n \n                        SalutationMr.Ms.Miss.Mrs.Mdm.Dr.Prof.Capt.-Name*\n                            \n                            \n                                                    \n                                                    First\n                                                \n                            \n                            \n                                                    \n                                                    Last\n                                                \n                            \n                        Phone*Email*\n                            \n                        Company*Current Location*    \n                    \n                        \n                                        AfghanistanAlbaniaAlgeriaAmerican SamoaAndorraAngolaAnguillaAntarcticaAntigua and BarbudaArgentinaArmeniaArubaAustraliaAustriaAzerbaijanBahamasBahrainBangladeshBarbadosBelarusBelgiumBelizeBeninBermudaBhutanBoliviaBonaire\, Sint Eustatius and SabaBosnia and HerzegovinaBotswanaBouvet IslandBrazilBritish Indian Ocean TerritoryBrunei DarussalamBulgariaBurkina FasoBurundiCambodiaCameroonCanadaCape VerdeCayman IslandsCentral African RepublicChadChileChinaChristmas IslandCocos IslandsColombiaComorosCongoCongo\, Democratic Republic of theCook IslandsCosta RicaCroatiaCubaCuraçaoCyprusCzechiaCôte d'IvoireDenmarkDjiboutiDominicaDominican RepublicEcuadorEgyptEl SalvadorEquatorial GuineaEritreaEstoniaEswatiniEthiopiaFalkland IslandsFaroe IslandsFijiFinlandFranceFrench GuianaFrench PolynesiaFrench Southern TerritoriesGabonGambiaGeorgiaGermanyGhanaGibraltarGreeceGreenlandGrenadaGuadeloupeGuamGuatemalaGuernseyGuineaGuinea-BissauGuyanaHaitiHeard Island and McDonald IslandsHoly SeeHondurasHong KongHungaryIcelandIndiaIndonesiaIranIraqIrelandIsle of ManIsraelItalyJamaicaJapanJerseyJordanKazakhstanKenyaKiribatiKorea\, Democratic People's Republic ofKorea\, Republic ofKuwaitKyrgyzstanLao People's Democratic RepublicLatviaLebanonLesothoLiberiaLibyaLiechtensteinLithuaniaLuxembourgMacaoMadagascarMalawiMalaysiaMaldivesMaliMaltaMarshall IslandsMartiniqueMauritaniaMauritiusMayotteMexicoMicronesiaMoldovaMonacoMongoliaMontenegroMontserratMoroccoMozambiqueMyanmarNamibiaNauruNepalNetherlandsNew CaledoniaNew ZealandNicaraguaNigerNigeriaNiueNorfolk IslandNorth MacedoniaNorthern Mariana IslandsNorwayOmanPakistanPalauPalestine\, State ofPanamaPapua New GuineaParaguayPeruPhilippinesPitcairnPolandPortugalPuerto RicoQatarRomaniaRussian FederationRwandaRéunionSaint BarthélemySaint Helena\, Ascension and Tristan da CunhaSaint Kitts and NevisSaint LuciaSaint MartinSaint Pierre and MiquelonSaint Vincent and the GrenadinesSamoaSan MarinoSao Tome and PrincipeSaudi ArabiaSenegalSerbiaSeychellesSierra LeoneSingaporeSint MaartenSlovakiaSloveniaSolomon IslandsSomaliaSouth AfricaSouth Georgia and the South Sandwich IslandsSouth SudanSpainSri LankaSudanSurinameSvalbard and Jan MayenSwedenSwitzerlandSyria Arab RepublicTaiwanTajikistanTanzania\, the United Republic ofThailandTimor-LesteTogoTokelauTongaTrinidad and TobagoTunisiaTurkmenistanTurks and Caicos IslandsTuvaluTürkiyeUS Minor Outlying IslandsUgandaUkraineUnited Arab EmiratesUnited KingdomUnited StatesUruguayUzbekistanVanuatuVenezuelaViet NamVirgin Islands\, BritishVirgin Islands\, U.S.Wallis and FutunaWestern SaharaYemenZambiaZimbabweÅland Islands\n                                        Country\n                                    \n                    \n                How many people are you looking at?1 - 2 Standard Rates3 - 5 Group Discount>10 In-House Training\, Huge Savings!Undecided\, need more informationThis is just an approximate number. You can finalise it when you send in the registration form.\n								\n								Send me brochure\n							Comments:CAPTCHA
URL:https://www.opuskinetic.com/training/feasibility-studies-for-carbon-capture-and-storage-ccs-facility-development/2025-03-10/
LOCATION:Singapore\, Singapore
CATEGORIES:ESG/Renewable Energy/Clean Energy/Energy Management,Oil/Gas/Petrochemicals
ATTACH;FMTTYPE=image/png:https://www.opuskinetic.com/wp-content/uploads/2024/10/CCS-feasibility-fi1.png
ORGANIZER;CN="Opus Kinetic Pte Ltd":MAILTO:info@opuskinetic.com
GEO:1.352083;103.819836
END:VEVENT
BEGIN:VEVENT
DTSTART;TZID=Asia/Singapore:20241202T090000
DTEND;TZID=Asia/Singapore:20241204T170000
DTSTAMP:20260422T111341
CREATED:20241021T084924Z
LAST-MODIFIED:20250207T034034Z
UID:10001837-1733130000-1733331600@www.opuskinetic.com
SUMMARY:Feasibility Studies for Carbon Capture and Storage (CCS) Facility Development
DESCRIPTION:Why Choose this Training Course\nThis CCS feasibility studies training course provides participants with the necessary skills and knowledge to conduct feasibility studies for the development of Carbon Capture and Storage (CCS) facilities. Through practical case studies\, technical analysis\, and regulatory considerations\, participants will learn how to assess the viability of their sites for CCS deployment. The course covers key technical\, economic\, environmental\, and regulatory factors\, equipping attendees to make informed decisions on CCS project development. \nWho Should Attend\n\n\n\n\nThis CCS feasibility studies training course is designed for professionals across industries who are involved in or considering Carbon Capture and Storage (CCS) projects\, including: \n\nEngineers\, geologists\, and project managers working in oil and gas\, power generation\, and renewable energy sectors who are exploring CCS as part of their emissions reduction strategy.\nIndividuals responsible for environmental compliance\, sustainability\, and emissions reduction within organizations.\nGovernment officials\, regulators\, and policymakers involved in the development and enforcement of climate and environmental regulations related to CCS.\nConsultants specializing in environmental assessments\, carbon management\, or energy transition looking to provide expert advice on CCS projects.\nFinancial professionals evaluating the economic viability and risk factors associated with CCS projects and seeking to understand investment opportunities in this growing sector.\nScientists\, researchers\, and educators in fields such as environmental science\, geology\, and engineering interested in advancing their knowledge of CCS technologies and their real-world applications.\n\nThis CCS feasibility studies course is ideal for those looking to develop the skills and knowledge necessary to assess the feasibility of CCS projects and make informed decisions in a rapidly evolving area of climate change mitigation. \n\n\n\n\nKey Learning Objectives\n\nUnderstand the key elements of CCS technology and its role in emissions reduction.\nGain the ability to assess geological suitability for CO₂ storage.\nEvaluate the technical and economic feasibility of CCS projects.\nNavigate regulatory frameworks and environmental considerations.\nDevelop comprehensive feasibility studies and make informed project decisions.\n\nEnquiry Form\n\n                 \n \n                        SalutationMr.Ms.Miss.Mrs.Mdm.Dr.Prof.Capt.-Name*\n                            \n                            \n                                                    \n                                                    First\n                                                \n                            \n                            \n                                                    \n                                                    Last\n                                                \n                            \n                        Phone*Email*\n                            \n                        Company*Current Location*    \n                    \n                        \n                                        AfghanistanAlbaniaAlgeriaAmerican SamoaAndorraAngolaAnguillaAntarcticaAntigua and BarbudaArgentinaArmeniaArubaAustraliaAustriaAzerbaijanBahamasBahrainBangladeshBarbadosBelarusBelgiumBelizeBeninBermudaBhutanBoliviaBonaire\, Sint Eustatius and SabaBosnia and HerzegovinaBotswanaBouvet IslandBrazilBritish Indian Ocean TerritoryBrunei DarussalamBulgariaBurkina FasoBurundiCambodiaCameroonCanadaCape VerdeCayman IslandsCentral African RepublicChadChileChinaChristmas IslandCocos IslandsColombiaComorosCongoCongo\, Democratic Republic of theCook IslandsCosta RicaCroatiaCubaCuraçaoCyprusCzechiaCôte d'IvoireDenmarkDjiboutiDominicaDominican RepublicEcuadorEgyptEl SalvadorEquatorial GuineaEritreaEstoniaEswatiniEthiopiaFalkland IslandsFaroe IslandsFijiFinlandFranceFrench GuianaFrench PolynesiaFrench Southern TerritoriesGabonGambiaGeorgiaGermanyGhanaGibraltarGreeceGreenlandGrenadaGuadeloupeGuamGuatemalaGuernseyGuineaGuinea-BissauGuyanaHaitiHeard Island and McDonald IslandsHoly SeeHondurasHong KongHungaryIcelandIndiaIndonesiaIranIraqIrelandIsle of ManIsraelItalyJamaicaJapanJerseyJordanKazakhstanKenyaKiribatiKorea\, Democratic People's Republic ofKorea\, Republic ofKuwaitKyrgyzstanLao People's Democratic RepublicLatviaLebanonLesothoLiberiaLibyaLiechtensteinLithuaniaLuxembourgMacaoMadagascarMalawiMalaysiaMaldivesMaliMaltaMarshall IslandsMartiniqueMauritaniaMauritiusMayotteMexicoMicronesiaMoldovaMonacoMongoliaMontenegroMontserratMoroccoMozambiqueMyanmarNamibiaNauruNepalNetherlandsNew CaledoniaNew ZealandNicaraguaNigerNigeriaNiueNorfolk IslandNorth MacedoniaNorthern Mariana IslandsNorwayOmanPakistanPalauPalestine\, State ofPanamaPapua New GuineaParaguayPeruPhilippinesPitcairnPolandPortugalPuerto RicoQatarRomaniaRussian FederationRwandaRéunionSaint BarthélemySaint Helena\, Ascension and Tristan da CunhaSaint Kitts and NevisSaint LuciaSaint MartinSaint Pierre and MiquelonSaint Vincent and the GrenadinesSamoaSan MarinoSao Tome and PrincipeSaudi ArabiaSenegalSerbiaSeychellesSierra LeoneSingaporeSint MaartenSlovakiaSloveniaSolomon IslandsSomaliaSouth AfricaSouth Georgia and the South Sandwich IslandsSouth SudanSpainSri LankaSudanSurinameSvalbard and Jan MayenSwedenSwitzerlandSyria Arab RepublicTaiwanTajikistanTanzania\, the United Republic ofThailandTimor-LesteTogoTokelauTongaTrinidad and TobagoTunisiaTurkmenistanTurks and Caicos IslandsTuvaluTürkiyeUS Minor Outlying IslandsUgandaUkraineUnited Arab EmiratesUnited KingdomUnited StatesUruguayUzbekistanVanuatuVenezuelaViet NamVirgin Islands\, BritishVirgin Islands\, U.S.Wallis and FutunaWestern SaharaYemenZambiaZimbabweÅland Islands\n                                        Country\n                                    \n                    \n                How many people are you looking at?1 - 2 Standard Rates3 - 5 Group Discount>10 In-House Training\, Huge Savings!Undecided\, need more informationThis is just an approximate number. You can finalise it when you send in the registration form.\n								\n								Send me brochure\n							Comments:CAPTCHA
URL:https://www.opuskinetic.com/training/feasibility-studies-for-carbon-capture-and-storage-ccs-facility-development/2024-12-02/
LOCATION:Singapore\, Singapore
CATEGORIES:ESG/Renewable Energy/Clean Energy/Energy Management,Oil/Gas/Petrochemicals
ATTACH;FMTTYPE=image/png:https://www.opuskinetic.com/wp-content/uploads/2024/10/CCS-feasibility-fi1.png
ORGANIZER;CN="Opus Kinetic Pte Ltd":MAILTO:info@opuskinetic.com
GEO:1.352083;103.819836
END:VEVENT
END:VCALENDAR