BEGIN:VCALENDAR
VERSION:2.0
PRODID:-//Opus Kinetic - ECPv6.15.12.2//NONSGML v1.0//EN
CALSCALE:GREGORIAN
METHOD:PUBLISH
X-ORIGINAL-URL:https://www.opuskinetic.com
X-WR-CALDESC:Events for Opus Kinetic
REFRESH-INTERVAL;VALUE=DURATION:PT1H
X-Robots-Tag:noindex
X-PUBLISHED-TTL:PT1H
BEGIN:VTIMEZONE
TZID:Asia/Singapore
BEGIN:STANDARD
TZOFFSETFROM:+0800
TZOFFSETTO:+0800
TZNAME:+08
DTSTART:20240101T000000
END:STANDARD
END:VTIMEZONE
BEGIN:VEVENT
DTSTART;VALUE=DATE:20250602
DTEND;VALUE=DATE:20250604
DTSTAMP:20260420T155241
CREATED:20230117T064432Z
LAST-MODIFIED:20260315T024412Z
UID:10002037-1748854800-1748970000@www.opuskinetic.com
SUMMARY:PSM Leadership Training: Leadership with Process Safety
DESCRIPTION:Why Choose this Training Course\nThis is a 2-days PSM leadership training. Many major incidents have technical failure as an immediate cause. Process safety leaders are capable of diving deeper and finding the organisational\, culture and leadership decision-making that contributed to the incident. \nAnalysis of the causes all major incidents has revealed that technical and non-technical factors are interlayered\, complex and\, leading up to the accident\, were unpredictable by senior decision makers. \nThis PSM leadership training course introduces the PSM Process Safety Management architecture as an analytical tool focused on preventing releases of any substance i.e.: written programs\, roles and responsibilities\, implementation including training\, record keeping\, and auditing). The course will illustrate all the key elements of a comprehensive PSM program and how the overall architec-ture applies to each. Also apply these key elements for integration with existing and sometimes overlapping current company policies (such as quality and reliability programs). The first onshore PSM regulations were developed in response to a number of serious accidents that occurred in the 1980s\, such as the release of toxic vapors at Bhopal\, India that killed thousands. In the United States the federal regulation29 CFR 1910.119 Process safety the Occupational Safety & Health Administration (OSHA) published management of highly hazardous chemicals in the year 1992. \nWho Should Attend\n\nHSE Directors\nHSE Managers\nCorporate HSE Audit Personnel\nRisk Managers\nOperations Managers\nEngineering and Integrity ManagersSite Controllers\nStrategic Planners\nProcess Safety Managers\nPurchasers of HSE Support Services Business Development Heads / Managers Maintenance Managers / Heads\n\nKey Learning Objectives\n\nThe broader model of systemic process safety risk that goes beyond the standard technical models of risk assessment and compliance\nCross-sector learning for leaders and process safety\nDifferences between risk perception at the senior leadership level and in front line operations\nProject development decisions and operational process safety performance\nHow leadership decision-making impacts process safety performance\nHow management of asset integrity drives process safety performance\nWhat leadership behaviours really impact process safety performance\nAchieve PSM sustainability and assurance by identifying the gaps and addressing safety\, operability\, and reliability that are targeted to assure containment of hazardous materials and control of risks from high energy and other mechanical equipment.\nEvaluate difficult elements of PSM audits and discover solutions to measure\, maintain and improve process safety perfor-mance\n\nEnquiry Form\n\n\n                 \n \n                        SalutationMr.Ms.Miss.Mrs.Mdm.Dr.Prof.Capt.-Name*\n                            \n                            \n                                                    \n                                                    First\n                                                \n                            \n                            \n                                                    \n                                                    Last\n                                                \n                            \n                        Phone*Email*\n                            \n                        Company*Current Location*    \n                    \n                        \n                                        AfghanistanAlbaniaAlgeriaAmerican SamoaAndorraAngolaAnguillaAntarcticaAntigua and BarbudaArgentinaArmeniaArubaAustraliaAustriaAzerbaijanBahamasBahrainBangladeshBarbadosBelarusBelgiumBelizeBeninBermudaBhutanBoliviaBonaire\, Sint Eustatius and SabaBosnia and HerzegovinaBotswanaBouvet IslandBrazilBritish Indian Ocean TerritoryBrunei DarussalamBulgariaBurkina FasoBurundiCambodiaCameroonCanadaCape VerdeCayman IslandsCentral African RepublicChadChileChinaChristmas IslandCocos IslandsColombiaComorosCongoCongo\, Democratic Republic of theCook IslandsCosta RicaCroatiaCubaCuraçaoCyprusCzechiaCôte d'IvoireDenmarkDjiboutiDominicaDominican RepublicEcuadorEgyptEl SalvadorEquatorial GuineaEritreaEstoniaEswatiniEthiopiaFalkland IslandsFaroe IslandsFijiFinlandFranceFrench GuianaFrench PolynesiaFrench Southern TerritoriesGabonGambiaGeorgiaGermanyGhanaGibraltarGreeceGreenlandGrenadaGuadeloupeGuamGuatemalaGuernseyGuineaGuinea-BissauGuyanaHaitiHeard Island and McDonald IslandsHoly SeeHondurasHong KongHungaryIcelandIndiaIndonesiaIranIraqIrelandIsle of ManIsraelItalyJamaicaJapanJerseyJordanKazakhstanKenyaKiribatiKorea\, Democratic People's Republic ofKorea\, Republic ofKuwaitKyrgyzstanLao People's Democratic RepublicLatviaLebanonLesothoLiberiaLibyaLiechtensteinLithuaniaLuxembourgMacaoMadagascarMalawiMalaysiaMaldivesMaliMaltaMarshall IslandsMartiniqueMauritaniaMauritiusMayotteMexicoMicronesiaMoldovaMonacoMongoliaMontenegroMontserratMoroccoMozambiqueMyanmarNamibiaNauruNepalNetherlandsNew CaledoniaNew ZealandNicaraguaNigerNigeriaNiueNorfolk IslandNorth MacedoniaNorthern Mariana IslandsNorwayOmanPakistanPalauPalestine\, State ofPanamaPapua New GuineaParaguayPeruPhilippinesPitcairnPolandPortugalPuerto RicoQatarRomaniaRussian FederationRwandaRéunionSaint BarthélemySaint Helena\, Ascension and Tristan da CunhaSaint Kitts and NevisSaint LuciaSaint MartinSaint Pierre and MiquelonSaint Vincent and the GrenadinesSamoaSan MarinoSao Tome and PrincipeSaudi ArabiaSenegalSerbiaSeychellesSierra LeoneSingaporeSint MaartenSlovakiaSloveniaSolomon IslandsSomaliaSouth AfricaSouth Georgia and the South Sandwich IslandsSouth SudanSpainSri LankaSudanSurinameSvalbard and Jan MayenSwedenSwitzerlandSyria Arab RepublicTaiwanTajikistanTanzania\, the United Republic ofThailandTimor-LesteTogoTokelauTongaTrinidad and TobagoTunisiaTurkmenistanTurks and Caicos IslandsTuvaluTürkiyeUS Minor Outlying IslandsUgandaUkraineUnited Arab EmiratesUnited KingdomUnited StatesUruguayUzbekistanVanuatuVenezuelaViet NamVirgin Islands\, BritishVirgin Islands\, U.S.Wallis and FutunaWestern SaharaYemenZambiaZimbabweÅland Islands\n                                        Country\n                                    \n                    \n                How many people are you looking at?1 - 2 Standard Rates3 - 5 Group Discount>10 In-House Training\, Huge Savings!Undecided\, need more informationThis is just an approximate number. You can finalise it when you send in the registration form.\n								\n								Send me brochure\n							Comments:CAPTCHA
URL:https://www.opuskinetic.com/training/psm-leadership-training-process-safety-leadership-excellence/2025-06-02/
LOCATION:Kuala Lumpur\, Federal Territory of Kuala Lumpur\, Kuala Lumpur\, Malaysia
CATEGORIES:HSE and Process Safety,Management and Leadership Development
ATTACH;FMTTYPE=image/png:https://www.opuskinetic.com/wp-content/uploads/2023/01/process-safety-fi1.png
ORGANIZER;CN="Opus Kinetic Pte Ltd":MAILTO:info@opuskinetic.com
GEO:3.1384965;101.7099933
END:VEVENT
BEGIN:VEVENT
DTSTART;VALUE=DATE:20250625
DTEND;VALUE=DATE:20250628
DTSTAMP:20260420T155241
CREATED:20250317T045554Z
LAST-MODIFIED:20260107T043907Z
UID:10001302-1750809600-1751068799@www.opuskinetic.com
SUMMARY:Emergency Response and Crisis Management
DESCRIPTION:Why Choose this Training Course\nThis emergency response training provides a comprehensive overview of the emergency response requirement for downstream oil & gas. The course is highly interactive and requires full participation of all students. The course provides a detailed insight into the practical realities of emergency response in downstream oil & gas while being presented by a very experienced senior emergency responder with extensive practical international experience. \n\nThe emergency response training provides an overview of a few major incidents followed by a discussion to emphasize the importance of emergency preparedness and emergency response planning. Emergency management basics such as emergency preparedness\, response and recovery\, and management phases are also included to ensure a strong foundation for the program. Trainees will also have a practical lesson in anticipation and assessment after learning about accident scenarios through a video and class discussion followed by constructing their own assessment. Prevention and mitigation consist of learning about the regulations for COMAH as well as ALARP principles in order to mitigate risk in the installations. \n\nTechnical and safety studies would educate attendees about the physical effects modelling which will enlighten them about escape and rescue assessments. Understanding the difference as well as the importance between plans\, procedures and planning cycles falls under emergency preparations. It is imperative to understand the emergency response and crisis management command structure\, roles and responsibilities and chain of command in any response plan for it to run smoothly. There will be a drill and exercise to show that the theoretical knowledge gained from the course is of practical use as well. This will test human factors\, emergency equipment\, mutual aid and the effectiveness of emergency control centers. \n\nThe emergency response training also caters to the geography of incidents\, damage to infrastructure\, media statement\, response to wide-area incidents and modifying existing plans to manage incidents. Disaster risk management cycle\, recovery strategy\, deployment and social impacts of emergencies are part of the recovery process of the emergency response plans. \nWho Should Attend\n\nManagers\nSupervisors\nHSE professionals who may be required to develop emergency or crisis response plans or exercises\n\nKey Learning Objectives\n\nDefine the requirements and importance of emergency and crisis response management\n\nDiscuss aspects of integrated emergency management\n\nGenerate appropriate emergency and crisis response documentation\n\nEnquiry Form\n\n                 \n \n                        SalutationMr.Ms.Miss.Mrs.Mdm.Dr.Prof.Capt.-Name*\n                            \n                            \n                                                    \n                                                    First\n                                                \n                            \n                            \n                                                    \n                                                    Last\n                                                \n                            \n                        Phone*Email*\n                            \n                        Company*Current Location*    \n                    \n                        \n                                        AfghanistanAlbaniaAlgeriaAmerican SamoaAndorraAngolaAnguillaAntarcticaAntigua and BarbudaArgentinaArmeniaArubaAustraliaAustriaAzerbaijanBahamasBahrainBangladeshBarbadosBelarusBelgiumBelizeBeninBermudaBhutanBoliviaBonaire\, Sint Eustatius and SabaBosnia and HerzegovinaBotswanaBouvet IslandBrazilBritish Indian Ocean TerritoryBrunei DarussalamBulgariaBurkina FasoBurundiCambodiaCameroonCanadaCape VerdeCayman IslandsCentral African RepublicChadChileChinaChristmas IslandCocos IslandsColombiaComorosCongoCongo\, Democratic Republic of theCook IslandsCosta RicaCroatiaCubaCuraçaoCyprusCzechiaCôte d'IvoireDenmarkDjiboutiDominicaDominican RepublicEcuadorEgyptEl SalvadorEquatorial GuineaEritreaEstoniaEswatiniEthiopiaFalkland IslandsFaroe IslandsFijiFinlandFranceFrench GuianaFrench PolynesiaFrench Southern TerritoriesGabonGambiaGeorgiaGermanyGhanaGibraltarGreeceGreenlandGrenadaGuadeloupeGuamGuatemalaGuernseyGuineaGuinea-BissauGuyanaHaitiHeard Island and McDonald IslandsHoly SeeHondurasHong KongHungaryIcelandIndiaIndonesiaIranIraqIrelandIsle of ManIsraelItalyJamaicaJapanJerseyJordanKazakhstanKenyaKiribatiKorea\, Democratic People's Republic ofKorea\, Republic ofKuwaitKyrgyzstanLao People's Democratic RepublicLatviaLebanonLesothoLiberiaLibyaLiechtensteinLithuaniaLuxembourgMacaoMadagascarMalawiMalaysiaMaldivesMaliMaltaMarshall IslandsMartiniqueMauritaniaMauritiusMayotteMexicoMicronesiaMoldovaMonacoMongoliaMontenegroMontserratMoroccoMozambiqueMyanmarNamibiaNauruNepalNetherlandsNew CaledoniaNew ZealandNicaraguaNigerNigeriaNiueNorfolk IslandNorth MacedoniaNorthern Mariana IslandsNorwayOmanPakistanPalauPalestine\, State ofPanamaPapua New GuineaParaguayPeruPhilippinesPitcairnPolandPortugalPuerto RicoQatarRomaniaRussian FederationRwandaRéunionSaint BarthélemySaint Helena\, Ascension and Tristan da CunhaSaint Kitts and NevisSaint LuciaSaint MartinSaint Pierre and MiquelonSaint Vincent and the GrenadinesSamoaSan MarinoSao Tome and PrincipeSaudi ArabiaSenegalSerbiaSeychellesSierra LeoneSingaporeSint MaartenSlovakiaSloveniaSolomon IslandsSomaliaSouth AfricaSouth Georgia and the South Sandwich IslandsSouth SudanSpainSri LankaSudanSurinameSvalbard and Jan MayenSwedenSwitzerlandSyria Arab RepublicTaiwanTajikistanTanzania\, the United Republic ofThailandTimor-LesteTogoTokelauTongaTrinidad and TobagoTunisiaTurkmenistanTurks and Caicos IslandsTuvaluTürkiyeUS Minor Outlying IslandsUgandaUkraineUnited Arab EmiratesUnited KingdomUnited StatesUruguayUzbekistanVanuatuVenezuelaViet NamVirgin Islands\, BritishVirgin Islands\, U.S.Wallis and FutunaWestern SaharaYemenZambiaZimbabweÅland Islands\n                                        Country\n                                    \n                    \n                How many people are you looking at?1 - 2 Standard Rates3 - 5 Group Discount>10 In-House Training\, Huge Savings!Undecided\, need more informationThis is just an approximate number. You can finalise it when you send in the registration form.\n								\n								Send me brochure\n							Comments:CAPTCHA
URL:https://www.opuskinetic.com/training/emergency-response-and-crisis-management-5-2/2025-06-25/
LOCATION:Singapore\, Singapore
CATEGORIES:HSE and Process Safety
ATTACH;FMTTYPE=image/jpeg:https://www.opuskinetic.com/wp-content/uploads/2021/11/emergency-response-fi1-scaled.jpg
ORGANIZER;CN="Opus Kinetic Pte Ltd":MAILTO:info@opuskinetic.com
GEO:1.352083;103.819836
END:VEVENT
BEGIN:VEVENT
DTSTART;VALUE=DATE:20250626
DTEND;VALUE=DATE:20250630
DTSTAMP:20260420T155241
CREATED:20250107T053525Z
LAST-MODIFIED:20260107T051859Z
UID:10001219-1750896000-1751241599@www.opuskinetic.com
SUMMARY:Dust Explosion Hazards Masterclass
DESCRIPTION:Why Choose this Training Course\nIn this dust explosion training course on dust and powder explosion hazards\, you will learn all aspects of dust explosion hazards. The emphasis of this dust explosion training course is dust properties\, explosion modeling\, preventive measures\, ignition sources\, protective measures\, process hazard analysis\, legislation\, and case studies. This dust explosion training enables the attendees to better understand dust hazards\, to be able to recognize potentially serious events\, and to implement effective safeguards against the incident. \nWho Should Attend\n\nProduction Supervisors\nPlant Managers\nProcess Safety Engineers\nChemical Engineers\nHSE Engineers/Managers\nMechanical and Maintenance Engineers/Managers\nSafety Consultants\nRegulatory body professionals\n\nKey Learning Objectives\n\nDUST EXPLOSION hazards in the facilities\, past accident and international legislation.\nPROPERTIES of flammable dust that are important to assess hazards.\nDUST EXPLOSION preventive and protection measures.\nHOW to assess the workplace dust explosion hazards.\nHOW to evaluate the consequence of dust explosion and the protection needs.\nPARTICIPATION of demonstration of small scale dust explosion.\n\nEnquiry Form\n\n                 \n \n                        SalutationMr.Ms.Miss.Mrs.Mdm.Dr.Prof.Capt.-Name*\n                            \n                            \n                                                    \n                                                    First\n                                                \n                            \n                            \n                                                    \n                                                    Last\n                                                \n                            \n                        Phone*Email*\n                            \n                        Company*Current Location*    \n                    \n                        \n                                        AfghanistanAlbaniaAlgeriaAmerican SamoaAndorraAngolaAnguillaAntarcticaAntigua and BarbudaArgentinaArmeniaArubaAustraliaAustriaAzerbaijanBahamasBahrainBangladeshBarbadosBelarusBelgiumBelizeBeninBermudaBhutanBoliviaBonaire\, Sint Eustatius and SabaBosnia and HerzegovinaBotswanaBouvet IslandBrazilBritish Indian Ocean TerritoryBrunei DarussalamBulgariaBurkina FasoBurundiCambodiaCameroonCanadaCape VerdeCayman IslandsCentral African RepublicChadChileChinaChristmas IslandCocos IslandsColombiaComorosCongoCongo\, Democratic Republic of theCook IslandsCosta RicaCroatiaCubaCuraçaoCyprusCzechiaCôte d'IvoireDenmarkDjiboutiDominicaDominican RepublicEcuadorEgyptEl SalvadorEquatorial GuineaEritreaEstoniaEswatiniEthiopiaFalkland IslandsFaroe IslandsFijiFinlandFranceFrench GuianaFrench PolynesiaFrench Southern TerritoriesGabonGambiaGeorgiaGermanyGhanaGibraltarGreeceGreenlandGrenadaGuadeloupeGuamGuatemalaGuernseyGuineaGuinea-BissauGuyanaHaitiHeard Island and McDonald IslandsHoly SeeHondurasHong KongHungaryIcelandIndiaIndonesiaIranIraqIrelandIsle of ManIsraelItalyJamaicaJapanJerseyJordanKazakhstanKenyaKiribatiKorea\, Democratic People's Republic ofKorea\, Republic ofKuwaitKyrgyzstanLao People's Democratic RepublicLatviaLebanonLesothoLiberiaLibyaLiechtensteinLithuaniaLuxembourgMacaoMadagascarMalawiMalaysiaMaldivesMaliMaltaMarshall IslandsMartiniqueMauritaniaMauritiusMayotteMexicoMicronesiaMoldovaMonacoMongoliaMontenegroMontserratMoroccoMozambiqueMyanmarNamibiaNauruNepalNetherlandsNew CaledoniaNew ZealandNicaraguaNigerNigeriaNiueNorfolk IslandNorth MacedoniaNorthern Mariana IslandsNorwayOmanPakistanPalauPalestine\, State ofPanamaPapua New GuineaParaguayPeruPhilippinesPitcairnPolandPortugalPuerto RicoQatarRomaniaRussian FederationRwandaRéunionSaint BarthélemySaint Helena\, Ascension and Tristan da CunhaSaint Kitts and NevisSaint LuciaSaint MartinSaint Pierre and MiquelonSaint Vincent and the GrenadinesSamoaSan MarinoSao Tome and PrincipeSaudi ArabiaSenegalSerbiaSeychellesSierra LeoneSingaporeSint MaartenSlovakiaSloveniaSolomon IslandsSomaliaSouth AfricaSouth Georgia and the South Sandwich IslandsSouth SudanSpainSri LankaSudanSurinameSvalbard and Jan MayenSwedenSwitzerlandSyria Arab RepublicTaiwanTajikistanTanzania\, the United Republic ofThailandTimor-LesteTogoTokelauTongaTrinidad and TobagoTunisiaTurkmenistanTurks and Caicos IslandsTuvaluTürkiyeUS Minor Outlying IslandsUgandaUkraineUnited Arab EmiratesUnited KingdomUnited StatesUruguayUzbekistanVanuatuVenezuelaViet NamVirgin Islands\, BritishVirgin Islands\, U.S.Wallis and FutunaWestern SaharaYemenZambiaZimbabweÅland Islands\n                                        Country\n                                    \n                    \n                How many people are you looking at?1 - 2 Standard Rates3 - 5 Group Discount>10 In-House Training\, Huge Savings!Undecided\, need more informationThis is just an approximate number. You can finalise it when you send in the registration form.\n								\n								Send me brochure\n							Comments:CAPTCHA
URL:https://www.opuskinetic.com/training/dust-explosion-hazards-masterclass-3/2025-06-26/
LOCATION:Virtual Instructor Led Training (VILT)
CATEGORIES:HSE and Process Safety
ATTACH;FMTTYPE=image/jpeg:https://www.opuskinetic.com/wp-content/uploads/2021/09/dustexplosion_event.jpg
ORGANIZER;CN="Opus Kinetic Pte Ltd":MAILTO:info@opuskinetic.com
END:VEVENT
END:VCALENDAR