BEGIN:VCALENDAR
VERSION:2.0
PRODID:-//Opus Kinetic - ECPv6.15.12.2//NONSGML v1.0//EN
CALSCALE:GREGORIAN
METHOD:PUBLISH
X-WR-CALNAME:Opus Kinetic
X-ORIGINAL-URL:https://www.opuskinetic.com
X-WR-CALDESC:Events for Opus Kinetic
REFRESH-INTERVAL;VALUE=DURATION:PT1H
X-Robots-Tag:noindex
X-PUBLISHED-TTL:PT1H
BEGIN:VTIMEZONE
TZID:Asia/Singapore
BEGIN:STANDARD
TZOFFSETFROM:+0800
TZOFFSETTO:+0800
TZNAME:+08
DTSTART:20240101T000000
END:STANDARD
END:VTIMEZONE
BEGIN:VEVENT
DTSTART;VALUE=DATE:20250630
DTEND;VALUE=DATE:20250703
DTSTAMP:20260422T190335
CREATED:20250127T010759Z
LAST-MODIFIED:20250127T010759Z
UID:10001995-1751274000-1751475600@www.opuskinetic.com
SUMMARY:Hydrogen: From Production to Market
DESCRIPTION:Why Choose this Training Course\n\n\n\n\nThis hydrogen production training offers a comprehensive introduction to hydrogen’s critical role in combating climate change and driving the transition to sustainable energy. Through a dynamic mix of detailed modules\, interactive discussions\, live virtual tours of hydrogen facilities\, and practical exercises—such as designing your own Hydrogen Island—you’ll gain a thorough understanding of the hydrogen sector. \nCreated in collaboration with industry leaders to address the real-world needs of the hydrogen economy\, the curriculum integrates the latest market trends with practical\, actionable insights. Our hands-on learning approach ensures participants actively engage with the material for maximum retention and applicability. \nThe hydrogen production training spans the entire hydrogen value chain\, covering production methods and market integration. Participants will explore a range of production techniques\, including green\, blue\, and turquoise hydrogen\, alongside advancements in electrolyser technology. \nBy the conclusion of this hydrogen production training\, participants will have a comprehensive understanding of the hydrogen value chain and the expertise needed to navigate the rapidly evolving hydrogen market. You’ll be prepared to contribute meaningfully to the hydrogen economy and lead sustainable energy initiatives within your organisation. \n\n\n\n\nWho Should Attend\n\nEnergy sector professionals\n\nGain critical insights into hydrogen technologies to implement innovative energy solutions.\n\n\nPolicy makers\n\nUnderstand hydrogen’s role in energy policies\, aiding in the development of effective sustainability frameworks.\n\n\nEnvironmental consultants\n\nEnhance expertise in advising clients on hydrogen technologies and market strategies.\n\n\nProject managers in renewable energy\n\nImprove project planning and execution with in-depth knowledge of hydrogen production and distribution.\n\n\nAcademics and researchers\n\nStay updated with the latest advancements in hydrogen technologies to support research and teaching.\n\n\nEngineers (oil and gas)\n\nTransition to the hydrogen sector with a thorough understanding of hydrogen production\, storage\, and market dynamics.\n\n\n\nKey Learning Objectives\n\nDevelop a comprehensive understanding of the hydrogen value chain\, from production to market integration.\nGain insights into global\, regional\, and national hydrogen strategies and policies.\nUnderstand various hydrogen production technologies and their applications.\nLearn about hydrogen storage\, transport\, and distribution methods and technologies.\nExplore market dynamics and future trends in the hydrogen economy.\nApply knowledge of hydrogen technologies to real-world projects and business strategies.\n\nEnquiry Form\n\n\n                 \n \n                        SalutationMr.Ms.Miss.Mrs.Mdm.Dr.Prof.Capt.-Name*\n                            \n                            \n                                                    \n                                                    First\n                                                \n                            \n                            \n                                                    \n                                                    Last\n                                                \n                            \n                        Phone*Email*\n                            \n                        Company*Current Location*    \n                    \n                        \n                                        AfghanistanAlbaniaAlgeriaAmerican SamoaAndorraAngolaAnguillaAntarcticaAntigua and BarbudaArgentinaArmeniaArubaAustraliaAustriaAzerbaijanBahamasBahrainBangladeshBarbadosBelarusBelgiumBelizeBeninBermudaBhutanBoliviaBonaire\, Sint Eustatius and SabaBosnia and HerzegovinaBotswanaBouvet IslandBrazilBritish Indian Ocean TerritoryBrunei DarussalamBulgariaBurkina FasoBurundiCambodiaCameroonCanadaCape VerdeCayman IslandsCentral African RepublicChadChileChinaChristmas IslandCocos IslandsColombiaComorosCongoCongo\, Democratic Republic of theCook IslandsCosta RicaCroatiaCubaCuraçaoCyprusCzechiaCôte d'IvoireDenmarkDjiboutiDominicaDominican RepublicEcuadorEgyptEl SalvadorEquatorial GuineaEritreaEstoniaEswatiniEthiopiaFalkland IslandsFaroe IslandsFijiFinlandFranceFrench GuianaFrench PolynesiaFrench Southern TerritoriesGabonGambiaGeorgiaGermanyGhanaGibraltarGreeceGreenlandGrenadaGuadeloupeGuamGuatemalaGuernseyGuineaGuinea-BissauGuyanaHaitiHeard Island and McDonald IslandsHoly SeeHondurasHong KongHungaryIcelandIndiaIndonesiaIranIraqIrelandIsle of ManIsraelItalyJamaicaJapanJerseyJordanKazakhstanKenyaKiribatiKorea\, Democratic People's Republic ofKorea\, Republic ofKuwaitKyrgyzstanLao People's Democratic RepublicLatviaLebanonLesothoLiberiaLibyaLiechtensteinLithuaniaLuxembourgMacaoMadagascarMalawiMalaysiaMaldivesMaliMaltaMarshall IslandsMartiniqueMauritaniaMauritiusMayotteMexicoMicronesiaMoldovaMonacoMongoliaMontenegroMontserratMoroccoMozambiqueMyanmarNamibiaNauruNepalNetherlandsNew CaledoniaNew ZealandNicaraguaNigerNigeriaNiueNorfolk IslandNorth MacedoniaNorthern Mariana IslandsNorwayOmanPakistanPalauPalestine\, State ofPanamaPapua New GuineaParaguayPeruPhilippinesPitcairnPolandPortugalPuerto RicoQatarRomaniaRussian FederationRwandaRéunionSaint BarthélemySaint Helena\, Ascension and Tristan da CunhaSaint Kitts and NevisSaint LuciaSaint MartinSaint Pierre and MiquelonSaint Vincent and the GrenadinesSamoaSan MarinoSao Tome and PrincipeSaudi ArabiaSenegalSerbiaSeychellesSierra LeoneSingaporeSint MaartenSlovakiaSloveniaSolomon IslandsSomaliaSouth AfricaSouth Georgia and the South Sandwich IslandsSouth SudanSpainSri LankaSudanSurinameSvalbard and Jan MayenSwedenSwitzerlandSyria Arab RepublicTaiwanTajikistanTanzania\, the United Republic ofThailandTimor-LesteTogoTokelauTongaTrinidad and TobagoTunisiaTurkmenistanTurks and Caicos IslandsTuvaluTürkiyeUS Minor Outlying IslandsUgandaUkraineUnited Arab EmiratesUnited KingdomUnited StatesUruguayUzbekistanVanuatuVenezuelaViet NamVirgin Islands\, BritishVirgin Islands\, U.S.Wallis and FutunaWestern SaharaYemenZambiaZimbabweÅland Islands\n                                        Country\n                                    \n                    \n                How many people are you looking at?1 - 2 Standard Rates3 - 5 Group Discount>10 In-House Training\, Huge Savings!Undecided\, need more informationThis is just an approximate number. You can finalise it when you send in the registration form.\n								\n								Send me brochure\n							Comments:CAPTCHA
URL:https://www.opuskinetic.com/training/hydrogen-from-production-to-market/2025-06-30/
LOCATION:Kuala Lumpur\, Singapore
ATTACH;FMTTYPE=image/jpeg:https://www.opuskinetic.com/wp-content/uploads/2025/01/hydrogen-fi1-scaled.jpg
ORGANIZER;CN="Opus Kinetic Pte Ltd":MAILTO:info@opuskinetic.com
END:VEVENT
END:VCALENDAR