BEGIN:VCALENDAR
VERSION:2.0
PRODID:-//Opus Kinetic - ECPv6.15.12.2//NONSGML v1.0//EN
CALSCALE:GREGORIAN
METHOD:PUBLISH
X-ORIGINAL-URL:https://www.opuskinetic.com
X-WR-CALDESC:Events for Opus Kinetic
REFRESH-INTERVAL;VALUE=DURATION:PT1H
X-Robots-Tag:noindex
X-PUBLISHED-TTL:PT1H
BEGIN:VTIMEZONE
TZID:Asia/Singapore
BEGIN:STANDARD
TZOFFSETFROM:+0800
TZOFFSETTO:+0800
TZNAME:+08
DTSTART:20240101T000000
END:STANDARD
END:VTIMEZONE
BEGIN:VEVENT
DTSTART;VALUE=DATE:20251013
DTEND;VALUE=DATE:20251015
DTSTAMP:20260420T120745
CREATED:20250722T014027Z
LAST-MODIFIED:20260223T045711Z
UID:10002199-1760313600-1760486399@www.opuskinetic.com
SUMMARY:Advanced Process Safety Considerations for Hydrogen Projects
DESCRIPTION:Why Choose this Training Course\nThis in-depth technical hydrogen process safety course is designed to provide participants with a comprehensive understanding of hydrogen’s unique hazardous properties and the critical safety considerations required in the design\, execution\, and operation of hydrogen-related projects. \nHydrogen presents distinctive challenges compared to other flammable gases\, such as natural gas. This hydrogen process safety course explores these differences in detail—covering aspects such as hydrogen’s flammability range\, low ignition energy\, and implications in the event of loss of containment. Participants will gain insight into hydrogen’s material compatibility issues and how these impact equipment selection and system design. \nThis hydrogen process safety initiative focuses on ensuring hydrogen safety across its lifecycle. It involves identifying and assessing associated hazards\, then implementing appropriate mitigation measures during both design and operation phases. A core component is interpreting and applying relevant hydrogen safety standards and codes to enhance operational safety practices within hydrogen facilities and projects. \nThrough case studies drawn from across the hydrogen value chain—from production and storage to transport and usage—participants will learn from real-world incidents and safety practices. \nWe are also a proud member of the Energy Institute of UK. \nWho Should Attend\nThis course is particularly beneficial for professionals involved in the technical\, operational\, or regulatory aspects of hydrogen systems\, including: \n\nEngineers and project managers working on hydrogen infrastructure and energy systems\nScientists and technologists developing hydrogen applications or conducting R&D\nHealth\, Safety\, and Environment (HSE) professionals\nRegulators and industry body representatives focused on hydrogen safety standards\nPlant managers and technologists operating hydrogen-handling installations\n\nKey Learning Objectives\n\nIdentify and assess key hazards associated with hydrogen\nApply appropriate mitigation measures during design and operation\nInterpret and implement relevant hydrogen safety standards and codes\nEnhance operational safety practices in hydrogen facilities and projects\n\nEnquiry Form\n\n\n                 \n \n                        SalutationMr.Ms.Miss.Mrs.Mdm.Dr.Prof.Capt.-Name*\n                            \n                            \n                                                    \n                                                    First\n                                                \n                            \n                            \n                                                    \n                                                    Last\n                                                \n                            \n                        Phone*Email*\n                            \n                        Company*Current Location*    \n                    \n                        \n                                        AfghanistanAlbaniaAlgeriaAmerican SamoaAndorraAngolaAnguillaAntarcticaAntigua and BarbudaArgentinaArmeniaArubaAustraliaAustriaAzerbaijanBahamasBahrainBangladeshBarbadosBelarusBelgiumBelizeBeninBermudaBhutanBoliviaBonaire\, Sint Eustatius and SabaBosnia and HerzegovinaBotswanaBouvet IslandBrazilBritish Indian Ocean TerritoryBrunei DarussalamBulgariaBurkina FasoBurundiCambodiaCameroonCanadaCape VerdeCayman IslandsCentral African RepublicChadChileChinaChristmas IslandCocos IslandsColombiaComorosCongoCongo\, Democratic Republic of theCook IslandsCosta RicaCroatiaCubaCuraçaoCyprusCzechiaCôte d'IvoireDenmarkDjiboutiDominicaDominican RepublicEcuadorEgyptEl SalvadorEquatorial GuineaEritreaEstoniaEswatiniEthiopiaFalkland IslandsFaroe IslandsFijiFinlandFranceFrench GuianaFrench PolynesiaFrench Southern TerritoriesGabonGambiaGeorgiaGermanyGhanaGibraltarGreeceGreenlandGrenadaGuadeloupeGuamGuatemalaGuernseyGuineaGuinea-BissauGuyanaHaitiHeard Island and McDonald IslandsHoly SeeHondurasHong KongHungaryIcelandIndiaIndonesiaIranIraqIrelandIsle of ManIsraelItalyJamaicaJapanJerseyJordanKazakhstanKenyaKiribatiKorea\, Democratic People's Republic ofKorea\, Republic ofKuwaitKyrgyzstanLao People's Democratic RepublicLatviaLebanonLesothoLiberiaLibyaLiechtensteinLithuaniaLuxembourgMacaoMadagascarMalawiMalaysiaMaldivesMaliMaltaMarshall IslandsMartiniqueMauritaniaMauritiusMayotteMexicoMicronesiaMoldovaMonacoMongoliaMontenegroMontserratMoroccoMozambiqueMyanmarNamibiaNauruNepalNetherlandsNew CaledoniaNew ZealandNicaraguaNigerNigeriaNiueNorfolk IslandNorth MacedoniaNorthern Mariana IslandsNorwayOmanPakistanPalauPalestine\, State ofPanamaPapua New GuineaParaguayPeruPhilippinesPitcairnPolandPortugalPuerto RicoQatarRomaniaRussian FederationRwandaRéunionSaint BarthélemySaint Helena\, Ascension and Tristan da CunhaSaint Kitts and NevisSaint LuciaSaint MartinSaint Pierre and MiquelonSaint Vincent and the GrenadinesSamoaSan MarinoSao Tome and PrincipeSaudi ArabiaSenegalSerbiaSeychellesSierra LeoneSingaporeSint MaartenSlovakiaSloveniaSolomon IslandsSomaliaSouth AfricaSouth Georgia and the South Sandwich IslandsSouth SudanSpainSri LankaSudanSurinameSvalbard and Jan MayenSwedenSwitzerlandSyria Arab RepublicTaiwanTajikistanTanzania\, the United Republic ofThailandTimor-LesteTogoTokelauTongaTrinidad and TobagoTunisiaTurkmenistanTurks and Caicos IslandsTuvaluTürkiyeUS Minor Outlying IslandsUgandaUkraineUnited Arab EmiratesUnited KingdomUnited StatesUruguayUzbekistanVanuatuVenezuelaViet NamVirgin Islands\, BritishVirgin Islands\, U.S.Wallis and FutunaWestern SaharaYemenZambiaZimbabweÅland Islands\n                                        Country\n                                    \n                    \n                How many people are you looking at?1 - 2 Standard Rates3 - 5 Group Discount>10 In-House Training\, Huge Savings!Undecided\, need more informationThis is just an approximate number. You can finalise it when you send in the registration form.\n								\n								Send me brochure\n							Comments:CAPTCHA
URL:https://www.opuskinetic.com/training/advanced-process-safety-considerations-for-hydrogen-projects/2025-10-13/
LOCATION:Kuala Lumpur\, Federal Territory of Kuala Lumpur\, Kuala Lumpur\, Malaysia
CATEGORIES:ESG/Renewable Energy/Clean Energy/Energy Management,HSE and Process Safety
ATTACH;FMTTYPE=image/jpeg:https://www.opuskinetic.com/wp-content/uploads/2025/07/hydrogen-energy-fi1-scaled.jpg
ORGANIZER;CN="Opus Kinetic Pte Ltd":MAILTO:info@opuskinetic.com
GEO:3.1384965;101.7099933
END:VEVENT
BEGIN:VEVENT
DTSTART;VALUE=DATE:20251016
DTEND;VALUE=DATE:20251018
DTSTAMP:20260420T120745
CREATED:20250722T014027Z
LAST-MODIFIED:20260223T045711Z
UID:10002200-1760605200-1760720400@www.opuskinetic.com
SUMMARY:Advanced Process Safety Considerations for Hydrogen Projects
DESCRIPTION:Why Choose this Training Course\nThis in-depth technical hydrogen process safety course is designed to provide participants with a comprehensive understanding of hydrogen’s unique hazardous properties and the critical safety considerations required in the design\, execution\, and operation of hydrogen-related projects. \nHydrogen presents distinctive challenges compared to other flammable gases\, such as natural gas. This hydrogen process safety course explores these differences in detail—covering aspects such as hydrogen’s flammability range\, low ignition energy\, and implications in the event of loss of containment. Participants will gain insight into hydrogen’s material compatibility issues and how these impact equipment selection and system design. \nThis hydrogen process safety initiative focuses on ensuring hydrogen safety across its lifecycle. It involves identifying and assessing associated hazards\, then implementing appropriate mitigation measures during both design and operation phases. A core component is interpreting and applying relevant hydrogen safety standards and codes to enhance operational safety practices within hydrogen facilities and projects. \nThrough case studies drawn from across the hydrogen value chain—from production and storage to transport and usage—participants will learn from real-world incidents and safety practices. \nWe are also a proud member of the Energy Institute of UK. \nWho Should Attend\nThis course is particularly beneficial for professionals involved in the technical\, operational\, or regulatory aspects of hydrogen systems\, including: \n\nEngineers and project managers working on hydrogen infrastructure and energy systems\nScientists and technologists developing hydrogen applications or conducting R&D\nHealth\, Safety\, and Environment (HSE) professionals\nRegulators and industry body representatives focused on hydrogen safety standards\nPlant managers and technologists operating hydrogen-handling installations\n\nKey Learning Objectives\n\nIdentify and assess key hazards associated with hydrogen\nApply appropriate mitigation measures during design and operation\nInterpret and implement relevant hydrogen safety standards and codes\nEnhance operational safety practices in hydrogen facilities and projects\n\nEnquiry Form\n\n                 \n \n                        SalutationMr.Ms.Miss.Mrs.Mdm.Dr.Prof.Capt.-Name*\n                            \n                            \n                                                    \n                                                    First\n                                                \n                            \n                            \n                                                    \n                                                    Last\n                                                \n                            \n                        Phone*Email*\n                            \n                        Company*Current Location*    \n                    \n                        \n                                        AfghanistanAlbaniaAlgeriaAmerican SamoaAndorraAngolaAnguillaAntarcticaAntigua and BarbudaArgentinaArmeniaArubaAustraliaAustriaAzerbaijanBahamasBahrainBangladeshBarbadosBelarusBelgiumBelizeBeninBermudaBhutanBoliviaBonaire\, Sint Eustatius and SabaBosnia and HerzegovinaBotswanaBouvet IslandBrazilBritish Indian Ocean TerritoryBrunei DarussalamBulgariaBurkina FasoBurundiCambodiaCameroonCanadaCape VerdeCayman IslandsCentral African RepublicChadChileChinaChristmas IslandCocos IslandsColombiaComorosCongoCongo\, Democratic Republic of theCook IslandsCosta RicaCroatiaCubaCuraçaoCyprusCzechiaCôte d'IvoireDenmarkDjiboutiDominicaDominican RepublicEcuadorEgyptEl SalvadorEquatorial GuineaEritreaEstoniaEswatiniEthiopiaFalkland IslandsFaroe IslandsFijiFinlandFranceFrench GuianaFrench PolynesiaFrench Southern TerritoriesGabonGambiaGeorgiaGermanyGhanaGibraltarGreeceGreenlandGrenadaGuadeloupeGuamGuatemalaGuernseyGuineaGuinea-BissauGuyanaHaitiHeard Island and McDonald IslandsHoly SeeHondurasHong KongHungaryIcelandIndiaIndonesiaIranIraqIrelandIsle of ManIsraelItalyJamaicaJapanJerseyJordanKazakhstanKenyaKiribatiKorea\, Democratic People's Republic ofKorea\, Republic ofKuwaitKyrgyzstanLao People's Democratic RepublicLatviaLebanonLesothoLiberiaLibyaLiechtensteinLithuaniaLuxembourgMacaoMadagascarMalawiMalaysiaMaldivesMaliMaltaMarshall IslandsMartiniqueMauritaniaMauritiusMayotteMexicoMicronesiaMoldovaMonacoMongoliaMontenegroMontserratMoroccoMozambiqueMyanmarNamibiaNauruNepalNetherlandsNew CaledoniaNew ZealandNicaraguaNigerNigeriaNiueNorfolk IslandNorth MacedoniaNorthern Mariana IslandsNorwayOmanPakistanPalauPalestine\, State ofPanamaPapua New GuineaParaguayPeruPhilippinesPitcairnPolandPortugalPuerto RicoQatarRomaniaRussian FederationRwandaRéunionSaint BarthélemySaint Helena\, Ascension and Tristan da CunhaSaint Kitts and NevisSaint LuciaSaint MartinSaint Pierre and MiquelonSaint Vincent and the GrenadinesSamoaSan MarinoSao Tome and PrincipeSaudi ArabiaSenegalSerbiaSeychellesSierra LeoneSingaporeSint MaartenSlovakiaSloveniaSolomon IslandsSomaliaSouth AfricaSouth Georgia and the South Sandwich IslandsSouth SudanSpainSri LankaSudanSurinameSvalbard and Jan MayenSwedenSwitzerlandSyria Arab RepublicTaiwanTajikistanTanzania\, the United Republic ofThailandTimor-LesteTogoTokelauTongaTrinidad and TobagoTunisiaTurkmenistanTurks and Caicos IslandsTuvaluTürkiyeUS Minor Outlying IslandsUgandaUkraineUnited Arab EmiratesUnited KingdomUnited StatesUruguayUzbekistanVanuatuVenezuelaViet NamVirgin Islands\, BritishVirgin Islands\, U.S.Wallis and FutunaWestern SaharaYemenZambiaZimbabweÅland Islands\n                                        Country\n                                    \n                    \n                How many people are you looking at?1 - 2 Standard Rates3 - 5 Group Discount>10 In-House Training\, Huge Savings!Undecided\, need more informationThis is just an approximate number. You can finalise it when you send in the registration form.\n								\n								Send me brochure\n							Comments:CAPTCHA
URL:https://www.opuskinetic.com/training/advanced-process-safety-considerations-for-hydrogen-projects/2025-10-16/
LOCATION:Kuala Lumpur\, Federal Territory of Kuala Lumpur\, Kuala Lumpur\, Malaysia
CATEGORIES:ESG/Renewable Energy/Clean Energy/Energy Management,HSE and Process Safety
ATTACH;FMTTYPE=image/jpeg:https://www.opuskinetic.com/wp-content/uploads/2025/07/hydrogen-energy-fi1-scaled.jpg
ORGANIZER;CN="Opus Kinetic Pte Ltd":MAILTO:info@opuskinetic.com
GEO:3.1384965;101.7099933
END:VEVENT
BEGIN:VEVENT
DTSTART;VALUE=DATE:20251030
DTEND;VALUE=DATE:20251101
DTSTAMP:20260420T120745
CREATED:20240806T044849Z
LAST-MODIFIED:20251124T075423Z
UID:10002232-1761814800-1761930000@www.opuskinetic.com
SUMMARY:Hydrogen and Carbon Capture & Storage Technology Masterclass
DESCRIPTION:Why Choose this Training Course\nCarbon capture and storage (CSS) is seen by many as a necessary transition technology whilst the world builds out the renewable energy system. And this is not limited to power generation.\nToday\, more than 95% of the world’s hydrogen is made from fossil fuels (coal and natural gas)\, so CCS can play a significant role in reducing the CO2 emissions related to this production. With the hydrogen sector expected to grow exponentially across the globe in the coming years\, it has become a necessary innovation. \nFor example\, the United Kingdom (UK) recently set a target to produce five gigawatts of hydrogen by 2030\, representing a 40-fold increase from the current situation. This ambition is replicated worldwide where national hydrogen strategies\, often explicitly citing the need for decarbonising industrial sectors such as construction\, steel and cement\, have appeared regularly\nover the past year. \nThe journey to a new\, low-emission energy system will be challenging and require much innovation. This momentum towards netzero continues to build\, calling for many industrial sectors to find ways of decarbonising their operations. Hydrogen is likely to play a significant role\, especially in sectors where eliminating emissions is particularly difficult. Early engagement with those low- or zero-emission projects will enable fast movers to reap the maximum from the opportunity presented. \nThis hydrogen CCS training course aims to provide a practical guide to enable companies to make informed decisions and plans based on the real opportunities that are emerging as the global CCS sector develops. Delegates will be guided to where early opportunities are most likely to lie\, who is involved and how to get in front of them. \nWho Should Attend\n\nExisting energy companies particularly those who are already part of the engineering\, oil and gas\, steel\, construction and shipbuilding oil and gas supply chain and those looking to future-proof their capabilities\nThe CCS clusters who well-placed to drive the regional industries forward\, often including a significant hydrogen\ncomponent\nThose with steelmaking\, shipping\, construction and automotive interests\nCompanies seeking to enter the CCS sector and wider hydrogen value chain with its myriad opportunities in a market\nvalued in the billions of dollars\n\nKey Learning Objectives\n\nWhat is carbon capture and storage (CSS)?\nCarbon capture by emission sources and fundamental approaches: pre- and post-combustion\, oxyfuel\, and industrial processes\nOverview of current technologies applied (how to remove the CO2 from process streams\, solvents\, amines)\nEvaluation of technologies: techno-commercial (including licensors)\nCost structure\, learning curves: challenges and opportunities\nCCS business models\, CO2 pricing and negative emissions\nCCS projects: overview\, discussion and deep dives into case studies\nH+CCS and other paths in the energy transition\nPolicy and regulatory perspectives: global initiatives and national nuances\n\nEnquiry Form\n\n                 \n \n                        SalutationMr.Ms.Miss.Mrs.Mdm.Dr.Prof.Capt.-Name*\n                            \n                            \n                                                    \n                                                    First\n                                                \n                            \n                            \n                                                    \n                                                    Last\n                                                \n                            \n                        Phone*Email*\n                            \n                        Company*Current Location*    \n                    \n                        \n                                        AfghanistanAlbaniaAlgeriaAmerican SamoaAndorraAngolaAnguillaAntarcticaAntigua and BarbudaArgentinaArmeniaArubaAustraliaAustriaAzerbaijanBahamasBahrainBangladeshBarbadosBelarusBelgiumBelizeBeninBermudaBhutanBoliviaBonaire\, Sint Eustatius and SabaBosnia and HerzegovinaBotswanaBouvet IslandBrazilBritish Indian Ocean TerritoryBrunei DarussalamBulgariaBurkina FasoBurundiCambodiaCameroonCanadaCape VerdeCayman IslandsCentral African RepublicChadChileChinaChristmas IslandCocos IslandsColombiaComorosCongoCongo\, Democratic Republic of theCook IslandsCosta RicaCroatiaCubaCuraçaoCyprusCzechiaCôte d'IvoireDenmarkDjiboutiDominicaDominican RepublicEcuadorEgyptEl SalvadorEquatorial GuineaEritreaEstoniaEswatiniEthiopiaFalkland IslandsFaroe IslandsFijiFinlandFranceFrench GuianaFrench PolynesiaFrench Southern TerritoriesGabonGambiaGeorgiaGermanyGhanaGibraltarGreeceGreenlandGrenadaGuadeloupeGuamGuatemalaGuernseyGuineaGuinea-BissauGuyanaHaitiHeard Island and McDonald IslandsHoly SeeHondurasHong KongHungaryIcelandIndiaIndonesiaIranIraqIrelandIsle of ManIsraelItalyJamaicaJapanJerseyJordanKazakhstanKenyaKiribatiKorea\, Democratic People's Republic ofKorea\, Republic ofKuwaitKyrgyzstanLao People's Democratic RepublicLatviaLebanonLesothoLiberiaLibyaLiechtensteinLithuaniaLuxembourgMacaoMadagascarMalawiMalaysiaMaldivesMaliMaltaMarshall IslandsMartiniqueMauritaniaMauritiusMayotteMexicoMicronesiaMoldovaMonacoMongoliaMontenegroMontserratMoroccoMozambiqueMyanmarNamibiaNauruNepalNetherlandsNew CaledoniaNew ZealandNicaraguaNigerNigeriaNiueNorfolk IslandNorth MacedoniaNorthern Mariana IslandsNorwayOmanPakistanPalauPalestine\, State ofPanamaPapua New GuineaParaguayPeruPhilippinesPitcairnPolandPortugalPuerto RicoQatarRomaniaRussian FederationRwandaRéunionSaint BarthélemySaint Helena\, Ascension and Tristan da CunhaSaint Kitts and NevisSaint LuciaSaint MartinSaint Pierre and MiquelonSaint Vincent and the GrenadinesSamoaSan MarinoSao Tome and PrincipeSaudi ArabiaSenegalSerbiaSeychellesSierra LeoneSingaporeSint MaartenSlovakiaSloveniaSolomon IslandsSomaliaSouth AfricaSouth Georgia and the South Sandwich IslandsSouth SudanSpainSri LankaSudanSurinameSvalbard and Jan MayenSwedenSwitzerlandSyria Arab RepublicTaiwanTajikistanTanzania\, the United Republic ofThailandTimor-LesteTogoTokelauTongaTrinidad and TobagoTunisiaTurkmenistanTurks and Caicos IslandsTuvaluTürkiyeUS Minor Outlying IslandsUgandaUkraineUnited Arab EmiratesUnited KingdomUnited StatesUruguayUzbekistanVanuatuVenezuelaViet NamVirgin Islands\, BritishVirgin Islands\, U.S.Wallis and FutunaWestern SaharaYemenZambiaZimbabweÅland Islands\n                                        Country\n                                    \n                    \n                How many people are you looking at?1 - 2 Standard Rates3 - 5 Group Discount>10 In-House Training\, Huge Savings!Undecided\, need more informationThis is just an approximate number. You can finalise it when you send in the registration form.\n								\n								Send me brochure\n							Comments:CAPTCHA
URL:https://www.opuskinetic.com/training/hydrogen-and-carbon-capture-storage-technology-masterclass/2025-10-30/
LOCATION:Kuala Lumpur\, Federal Territory of Kuala Lumpur\, Kuala Lumpur\, Malaysia
CATEGORIES:ESG/Renewable Energy/Clean Energy/Energy Management,Geology,Oil/Gas/Petrochemicals,Project
ATTACH;FMTTYPE=image/jpeg:https://www.opuskinetic.com/wp-content/uploads/2024/08/hydrogen-CCS-fi1-scaled.jpg
ORGANIZER;CN="Opus Kinetic Pte Ltd":MAILTO:info@opuskinetic.com
GEO:3.1384965;101.7099933
END:VEVENT
END:VCALENDAR