BEGIN:VCALENDAR
VERSION:2.0
PRODID:-//Opus Kinetic - ECPv6.15.12.2//NONSGML v1.0//EN
CALSCALE:GREGORIAN
METHOD:PUBLISH
X-WR-CALNAME:Opus Kinetic
X-ORIGINAL-URL:https://www.opuskinetic.com
X-WR-CALDESC:Events for Opus Kinetic
REFRESH-INTERVAL;VALUE=DURATION:PT1H
X-Robots-Tag:noindex
X-PUBLISHED-TTL:PT1H
BEGIN:VTIMEZONE
TZID:Asia/Singapore
BEGIN:STANDARD
TZOFFSETFROM:+0800
TZOFFSETTO:+0800
TZNAME:+08
DTSTART:20250101T000000
END:STANDARD
END:VTIMEZONE
BEGIN:VEVENT
DTSTART;VALUE=DATE:20260427
DTEND;VALUE=DATE:20260430
DTSTAMP:20260419T230701
CREATED:20240912T015939Z
LAST-MODIFIED:20260130T045937Z
UID:10002313-1777280400-1777482000@www.opuskinetic.com
SUMMARY:Best Practices in the Management and Execution of Incident Investigations
DESCRIPTION:Why Choose this Training Course\nMajor accidents occur infrequently\, but can result in consequences beyond what the management envisage\, resulting in a situation that escalates beyond the capacity of the company to recover both financially and reputationally. The 2010 Deepwater well blow-out accident is an example\, whereby the company\, BP\, had to deal with a significant financial penalty associated\nwith the environmental impact as well as the personnel casualties and reputational damage. During this three-day course\, participants will discover the real challenges that face the Executive Management team and their sub-ordinate managers and staff managing any project or operation within a global business developing and operating high hazard facilities in the oil\, gas\, chemicals\, nuclear and all other hazardous facilities. \nThe incident investigation training will describe the basic approach to responding to an incident\, covering all phases of the investigation from immediate actions\, data gathering\, execution of the investigation and most importantly developing effective corrective and preventive actions. \nCompared to most courses that cover incident investigation\, this incident investigation training has the distinct advantage of being provided by a world leading incident investigator\, who developed his skills during the Piper A incident\, which is the worst accident to occur in the offshore oil/gas industry and led to significant improvement is HSE within the oil/gas sector. Importantly\, the lessons learned during that investigation provided a benchmark for best practices in incident investigation. \nOn completion of the incident investigation training\, attendees should be capable of: \n\nDeveloping world class incident investigation processes applicable to any occupational\, major hazards and process safety\nincidents.\nDrafting the Terms of Reference for incident investigations including defining the boundaries of the investigation and the critical aspects of data collection\, analysis\, statement taking and reporting.\nConducting investigations and the tools and techniques for interviewing witnesses and confirming with evidence the accuracy of the statement.\nProduction of investigation reports that establish key aspects of the event such as: the incident timeline\, the causation models such as root cause and why-why analysis and the linkage between causes\, recommendations and actions\nBy taking part in real accident case studies – onshore and offshore – being able to define preventive and corrective actions and distinguishing action effectiveness based on proven concepts.\nDeveloping Emergency and Crisis Management Response Plans and the roles and responsibilities of key response personnel.\nUnderstanding of risk control barriers and the importance of human factors and organisational competency for their effect on incident causation factors.\n\nWho Should Attend\nThe course is aimed at people who wish to attend the course and put into practice the key tools of managing human factors in their company. This may include: \n\nHuman Error Investigation Specialists\nHuman Factors Design Engineers\nCompetency and Training Managers\n\nIn addition\, those involved in the design / operation of their facilities will also benefit from the course\, such as: \n\nHSE Coordinators\nHSE Engineers\nHSE Managers\nMaintenance Managers\nManagers responsible for the safe operation of facilities\nMechanical\, Process\, Instrument and Control Engineers\nProcess Safety Managers\nProject Engineers\nReliability Engineer\n\nKey Learning Objectives\n\nReview a range of best practices used by global companies for the development of occupational and major incident investigation processes.\\nGain in-depth knowledge from a recognized expert in investigating major accidents\, including incident reporting\, data gathering\, taking witness statements and the application of incident causation analysis.\nUnderstand how to structure effective corrective and preventive actions arising from an incident investigation\nGain an appreciation of behavioral safety and human factors should be incorporated within the investigation\nLearn about the impacts on the business arising from incidents\, including how to categorise actual and potential\nBuild knowledge of how executive teams and their line/functional managers control HSE risks in the business and how\nHSE managers conduct annual ISO management reviews\, crisis and emergency response training and the definition and reporting of Key Performance Indicators.\nGain knowledge of technical safety\, bow-tie and barrier management and how proactive safety management is used to determine barrier effectiveness and hence identify potential incident causation factors\nObtain an appreciation of the key issues faced when developing the investigation\, writing terms of reference and assigning\nthe investigation team HSE legislation – particularly defining risk management requirements.\n\nEnquiry Form\n\n\n                 \n \n                        SalutationMr.Ms.Miss.Mrs.Mdm.Dr.Prof.Capt.-Name*\n                            \n                            \n                                                    \n                                                    First\n                                                \n                            \n                            \n                                                    \n                                                    Last\n                                                \n                            \n                        Phone*Email*\n                            \n                        Company*Current Location*    \n                    \n                        \n                                        AfghanistanAlbaniaAlgeriaAmerican SamoaAndorraAngolaAnguillaAntarcticaAntigua and BarbudaArgentinaArmeniaArubaAustraliaAustriaAzerbaijanBahamasBahrainBangladeshBarbadosBelarusBelgiumBelizeBeninBermudaBhutanBoliviaBonaire\, Sint Eustatius and SabaBosnia and HerzegovinaBotswanaBouvet IslandBrazilBritish Indian Ocean TerritoryBrunei DarussalamBulgariaBurkina FasoBurundiCambodiaCameroonCanadaCape VerdeCayman IslandsCentral African RepublicChadChileChinaChristmas IslandCocos IslandsColombiaComorosCongoCongo\, Democratic Republic of theCook IslandsCosta RicaCroatiaCubaCuraçaoCyprusCzechiaCôte d'IvoireDenmarkDjiboutiDominicaDominican RepublicEcuadorEgyptEl SalvadorEquatorial GuineaEritreaEstoniaEswatiniEthiopiaFalkland IslandsFaroe IslandsFijiFinlandFranceFrench GuianaFrench PolynesiaFrench Southern TerritoriesGabonGambiaGeorgiaGermanyGhanaGibraltarGreeceGreenlandGrenadaGuadeloupeGuamGuatemalaGuernseyGuineaGuinea-BissauGuyanaHaitiHeard Island and McDonald IslandsHoly SeeHondurasHong KongHungaryIcelandIndiaIndonesiaIranIraqIrelandIsle of ManIsraelItalyJamaicaJapanJerseyJordanKazakhstanKenyaKiribatiKorea\, Democratic People's Republic ofKorea\, Republic ofKuwaitKyrgyzstanLao People's Democratic RepublicLatviaLebanonLesothoLiberiaLibyaLiechtensteinLithuaniaLuxembourgMacaoMadagascarMalawiMalaysiaMaldivesMaliMaltaMarshall IslandsMartiniqueMauritaniaMauritiusMayotteMexicoMicronesiaMoldovaMonacoMongoliaMontenegroMontserratMoroccoMozambiqueMyanmarNamibiaNauruNepalNetherlandsNew CaledoniaNew ZealandNicaraguaNigerNigeriaNiueNorfolk IslandNorth MacedoniaNorthern Mariana IslandsNorwayOmanPakistanPalauPalestine\, State ofPanamaPapua New GuineaParaguayPeruPhilippinesPitcairnPolandPortugalPuerto RicoQatarRomaniaRussian FederationRwandaRéunionSaint BarthélemySaint Helena\, Ascension and Tristan da CunhaSaint Kitts and NevisSaint LuciaSaint MartinSaint Pierre and MiquelonSaint Vincent and the GrenadinesSamoaSan MarinoSao Tome and PrincipeSaudi ArabiaSenegalSerbiaSeychellesSierra LeoneSingaporeSint MaartenSlovakiaSloveniaSolomon IslandsSomaliaSouth AfricaSouth Georgia and the South Sandwich IslandsSouth SudanSpainSri LankaSudanSurinameSvalbard and Jan MayenSwedenSwitzerlandSyria Arab RepublicTaiwanTajikistanTanzania\, the United Republic ofThailandTimor-LesteTogoTokelauTongaTrinidad and TobagoTunisiaTurkmenistanTurks and Caicos IslandsTuvaluTürkiyeUS Minor Outlying IslandsUgandaUkraineUnited Arab EmiratesUnited KingdomUnited StatesUruguayUzbekistanVanuatuVenezuelaViet NamVirgin Islands\, BritishVirgin Islands\, U.S.Wallis and FutunaWestern SaharaYemenZambiaZimbabweÅland Islands\n                                        Country\n                                    \n                    \n                How many people are you looking at?1 - 2 Standard Rates3 - 5 Group Discount>10 In-House Training\, Huge Savings!Undecided\, need more informationThis is just an approximate number. You can finalise it when you send in the registration form.\n								\n								Send me brochure\n							Comments:CAPTCHA
URL:https://www.opuskinetic.com/training/best-practices-in-the-management-and-execution-of-incident-investigations/2026-04-27/
LOCATION:Kuala Lumpur\, Singapore
CATEGORIES:HSE and Process Safety,Oil/Gas/Petrochemicals
ATTACH;FMTTYPE=image/jpeg:https://www.opuskinetic.com/wp-content/uploads/2024/09/incident-investigation-fi1-scaled.jpg
ORGANIZER;CN="Opus Kinetic Pte Ltd":MAILTO:info@opuskinetic.com
END:VEVENT
BEGIN:VEVENT
DTSTART;VALUE=DATE:20260624
DTEND;VALUE=DATE:20260627
DTSTAMP:20260419T230701
CREATED:20240912T015939Z
LAST-MODIFIED:20260130T045937Z
UID:10002359-1782291600-1782493200@www.opuskinetic.com
SUMMARY:Best Practices in the Management and Execution of Incident Investigations
DESCRIPTION:Why Choose this Training Course\nMajor accidents occur infrequently\, but can result in consequences beyond what the management envisage\, resulting in a situation that escalates beyond the capacity of the company to recover both financially and reputationally. The 2010 Deepwater well blow-out accident is an example\, whereby the company\, BP\, had to deal with a significant financial penalty associated\nwith the environmental impact as well as the personnel casualties and reputational damage. During this three-day course\, participants will discover the real challenges that face the Executive Management team and their sub-ordinate managers and staff managing any project or operation within a global business developing and operating high hazard facilities in the oil\, gas\, chemicals\, nuclear and all other hazardous facilities. \nThe incident investigation training will describe the basic approach to responding to an incident\, covering all phases of the investigation from immediate actions\, data gathering\, execution of the investigation and most importantly developing effective corrective and preventive actions. \nCompared to most courses that cover incident investigation\, this incident investigation training has the distinct advantage of being provided by a world leading incident investigator\, who developed his skills during the Piper A incident\, which is the worst accident to occur in the offshore oil/gas industry and led to significant improvement is HSE within the oil/gas sector. Importantly\, the lessons learned during that investigation provided a benchmark for best practices in incident investigation. \nOn completion of the incident investigation training\, attendees should be capable of: \n\nDeveloping world class incident investigation processes applicable to any occupational\, major hazards and process safety\nincidents.\nDrafting the Terms of Reference for incident investigations including defining the boundaries of the investigation and the critical aspects of data collection\, analysis\, statement taking and reporting.\nConducting investigations and the tools and techniques for interviewing witnesses and confirming with evidence the accuracy of the statement.\nProduction of investigation reports that establish key aspects of the event such as: the incident timeline\, the causation models such as root cause and why-why analysis and the linkage between causes\, recommendations and actions\nBy taking part in real accident case studies – onshore and offshore – being able to define preventive and corrective actions and distinguishing action effectiveness based on proven concepts.\nDeveloping Emergency and Crisis Management Response Plans and the roles and responsibilities of key response personnel.\nUnderstanding of risk control barriers and the importance of human factors and organisational competency for their effect on incident causation factors.\n\nWho Should Attend\nThe course is aimed at people who wish to attend the course and put into practice the key tools of managing human factors in their company. This may include: \n\nHuman Error Investigation Specialists\nHuman Factors Design Engineers\nCompetency and Training Managers\n\nIn addition\, those involved in the design / operation of their facilities will also benefit from the course\, such as: \n\nHSE Coordinators\nHSE Engineers\nHSE Managers\nMaintenance Managers\nManagers responsible for the safe operation of facilities\nMechanical\, Process\, Instrument and Control Engineers\nProcess Safety Managers\nProject Engineers\nReliability Engineer\n\nKey Learning Objectives\n\nReview a range of best practices used by global companies for the development of occupational and major incident investigation processes.\\nGain in-depth knowledge from a recognized expert in investigating major accidents\, including incident reporting\, data gathering\, taking witness statements and the application of incident causation analysis.\nUnderstand how to structure effective corrective and preventive actions arising from an incident investigation\nGain an appreciation of behavioral safety and human factors should be incorporated within the investigation\nLearn about the impacts on the business arising from incidents\, including how to categorise actual and potential\nBuild knowledge of how executive teams and their line/functional managers control HSE risks in the business and how\nHSE managers conduct annual ISO management reviews\, crisis and emergency response training and the definition and reporting of Key Performance Indicators.\nGain knowledge of technical safety\, bow-tie and barrier management and how proactive safety management is used to determine barrier effectiveness and hence identify potential incident causation factors\nObtain an appreciation of the key issues faced when developing the investigation\, writing terms of reference and assigning\nthe investigation team HSE legislation – particularly defining risk management requirements.\n\nEnquiry Form\n\n                 \n \n                        SalutationMr.Ms.Miss.Mrs.Mdm.Dr.Prof.Capt.-Name*\n                            \n                            \n                                                    \n                                                    First\n                                                \n                            \n                            \n                                                    \n                                                    Last\n                                                \n                            \n                        Phone*Email*\n                            \n                        Company*Current Location*    \n                    \n                        \n                                        AfghanistanAlbaniaAlgeriaAmerican SamoaAndorraAngolaAnguillaAntarcticaAntigua and BarbudaArgentinaArmeniaArubaAustraliaAustriaAzerbaijanBahamasBahrainBangladeshBarbadosBelarusBelgiumBelizeBeninBermudaBhutanBoliviaBonaire\, Sint Eustatius and SabaBosnia and HerzegovinaBotswanaBouvet IslandBrazilBritish Indian Ocean TerritoryBrunei DarussalamBulgariaBurkina FasoBurundiCambodiaCameroonCanadaCape VerdeCayman IslandsCentral African RepublicChadChileChinaChristmas IslandCocos IslandsColombiaComorosCongoCongo\, Democratic Republic of theCook IslandsCosta RicaCroatiaCubaCuraçaoCyprusCzechiaCôte d'IvoireDenmarkDjiboutiDominicaDominican RepublicEcuadorEgyptEl SalvadorEquatorial GuineaEritreaEstoniaEswatiniEthiopiaFalkland IslandsFaroe IslandsFijiFinlandFranceFrench GuianaFrench PolynesiaFrench Southern TerritoriesGabonGambiaGeorgiaGermanyGhanaGibraltarGreeceGreenlandGrenadaGuadeloupeGuamGuatemalaGuernseyGuineaGuinea-BissauGuyanaHaitiHeard Island and McDonald IslandsHoly SeeHondurasHong KongHungaryIcelandIndiaIndonesiaIranIraqIrelandIsle of ManIsraelItalyJamaicaJapanJerseyJordanKazakhstanKenyaKiribatiKorea\, Democratic People's Republic ofKorea\, Republic ofKuwaitKyrgyzstanLao People's Democratic RepublicLatviaLebanonLesothoLiberiaLibyaLiechtensteinLithuaniaLuxembourgMacaoMadagascarMalawiMalaysiaMaldivesMaliMaltaMarshall IslandsMartiniqueMauritaniaMauritiusMayotteMexicoMicronesiaMoldovaMonacoMongoliaMontenegroMontserratMoroccoMozambiqueMyanmarNamibiaNauruNepalNetherlandsNew CaledoniaNew ZealandNicaraguaNigerNigeriaNiueNorfolk IslandNorth MacedoniaNorthern Mariana IslandsNorwayOmanPakistanPalauPalestine\, State ofPanamaPapua New GuineaParaguayPeruPhilippinesPitcairnPolandPortugalPuerto RicoQatarRomaniaRussian FederationRwandaRéunionSaint BarthélemySaint Helena\, Ascension and Tristan da CunhaSaint Kitts and NevisSaint LuciaSaint MartinSaint Pierre and MiquelonSaint Vincent and the GrenadinesSamoaSan MarinoSao Tome and PrincipeSaudi ArabiaSenegalSerbiaSeychellesSierra LeoneSingaporeSint MaartenSlovakiaSloveniaSolomon IslandsSomaliaSouth AfricaSouth Georgia and the South Sandwich IslandsSouth SudanSpainSri LankaSudanSurinameSvalbard and Jan MayenSwedenSwitzerlandSyria Arab RepublicTaiwanTajikistanTanzania\, the United Republic ofThailandTimor-LesteTogoTokelauTongaTrinidad and TobagoTunisiaTurkmenistanTurks and Caicos IslandsTuvaluTürkiyeUS Minor Outlying IslandsUgandaUkraineUnited Arab EmiratesUnited KingdomUnited StatesUruguayUzbekistanVanuatuVenezuelaViet NamVirgin Islands\, BritishVirgin Islands\, U.S.Wallis and FutunaWestern SaharaYemenZambiaZimbabweÅland Islands\n                                        Country\n                                    \n                    \n                How many people are you looking at?1 - 2 Standard Rates3 - 5 Group Discount>10 In-House Training\, Huge Savings!Undecided\, need more informationThis is just an approximate number. You can finalise it when you send in the registration form.\n								\n								Send me brochure\n							Comments:CAPTCHA
URL:https://www.opuskinetic.com/training/best-practices-in-the-management-and-execution-of-incident-investigations/2026-06-24/
LOCATION:Kuala Lumpur\, Singapore
CATEGORIES:HSE and Process Safety,Oil/Gas/Petrochemicals
ATTACH;FMTTYPE=image/jpeg:https://www.opuskinetic.com/wp-content/uploads/2024/09/incident-investigation-fi1-scaled.jpg
ORGANIZER;CN="Opus Kinetic Pte Ltd":MAILTO:info@opuskinetic.com
END:VEVENT
BEGIN:VEVENT
DTSTART;VALUE=DATE:20260706
DTEND;VALUE=DATE:20260709
DTSTAMP:20260419T230701
CREATED:20240912T015939Z
LAST-MODIFIED:20260130T045937Z
UID:10002379-1783328400-1783530000@www.opuskinetic.com
SUMMARY:Best Practices in the Management and Execution of Incident Investigations
DESCRIPTION:Why Choose this Training Course\nMajor accidents occur infrequently\, but can result in consequences beyond what the management envisage\, resulting in a situation that escalates beyond the capacity of the company to recover both financially and reputationally. The 2010 Deepwater well blow-out accident is an example\, whereby the company\, BP\, had to deal with a significant financial penalty associated\nwith the environmental impact as well as the personnel casualties and reputational damage. During this three-day course\, participants will discover the real challenges that face the Executive Management team and their sub-ordinate managers and staff managing any project or operation within a global business developing and operating high hazard facilities in the oil\, gas\, chemicals\, nuclear and all other hazardous facilities. \nThe incident investigation training will describe the basic approach to responding to an incident\, covering all phases of the investigation from immediate actions\, data gathering\, execution of the investigation and most importantly developing effective corrective and preventive actions. \nCompared to most courses that cover incident investigation\, this incident investigation training has the distinct advantage of being provided by a world leading incident investigator\, who developed his skills during the Piper A incident\, which is the worst accident to occur in the offshore oil/gas industry and led to significant improvement is HSE within the oil/gas sector. Importantly\, the lessons learned during that investigation provided a benchmark for best practices in incident investigation. \nOn completion of the incident investigation training\, attendees should be capable of: \n\nDeveloping world class incident investigation processes applicable to any occupational\, major hazards and process safety\nincidents.\nDrafting the Terms of Reference for incident investigations including defining the boundaries of the investigation and the critical aspects of data collection\, analysis\, statement taking and reporting.\nConducting investigations and the tools and techniques for interviewing witnesses and confirming with evidence the accuracy of the statement.\nProduction of investigation reports that establish key aspects of the event such as: the incident timeline\, the causation models such as root cause and why-why analysis and the linkage between causes\, recommendations and actions\nBy taking part in real accident case studies – onshore and offshore – being able to define preventive and corrective actions and distinguishing action effectiveness based on proven concepts.\nDeveloping Emergency and Crisis Management Response Plans and the roles and responsibilities of key response personnel.\nUnderstanding of risk control barriers and the importance of human factors and organisational competency for their effect on incident causation factors.\n\nWho Should Attend\nThe course is aimed at people who wish to attend the course and put into practice the key tools of managing human factors in their company. This may include: \n\nHuman Error Investigation Specialists\nHuman Factors Design Engineers\nCompetency and Training Managers\n\nIn addition\, those involved in the design / operation of their facilities will also benefit from the course\, such as: \n\nHSE Coordinators\nHSE Engineers\nHSE Managers\nMaintenance Managers\nManagers responsible for the safe operation of facilities\nMechanical\, Process\, Instrument and Control Engineers\nProcess Safety Managers\nProject Engineers\nReliability Engineer\n\nKey Learning Objectives\n\nReview a range of best practices used by global companies for the development of occupational and major incident investigation processes.\\nGain in-depth knowledge from a recognized expert in investigating major accidents\, including incident reporting\, data gathering\, taking witness statements and the application of incident causation analysis.\nUnderstand how to structure effective corrective and preventive actions arising from an incident investigation\nGain an appreciation of behavioral safety and human factors should be incorporated within the investigation\nLearn about the impacts on the business arising from incidents\, including how to categorise actual and potential\nBuild knowledge of how executive teams and their line/functional managers control HSE risks in the business and how\nHSE managers conduct annual ISO management reviews\, crisis and emergency response training and the definition and reporting of Key Performance Indicators.\nGain knowledge of technical safety\, bow-tie and barrier management and how proactive safety management is used to determine barrier effectiveness and hence identify potential incident causation factors\nObtain an appreciation of the key issues faced when developing the investigation\, writing terms of reference and assigning\nthe investigation team HSE legislation – particularly defining risk management requirements.\n\nEnquiry Form\n\n                 \n \n                        SalutationMr.Ms.Miss.Mrs.Mdm.Dr.Prof.Capt.-Name*\n                            \n                            \n                                                    \n                                                    First\n                                                \n                            \n                            \n                                                    \n                                                    Last\n                                                \n                            \n                        Phone*Email*\n                            \n                        Company*Current Location*    \n                    \n                        \n                                        AfghanistanAlbaniaAlgeriaAmerican SamoaAndorraAngolaAnguillaAntarcticaAntigua and BarbudaArgentinaArmeniaArubaAustraliaAustriaAzerbaijanBahamasBahrainBangladeshBarbadosBelarusBelgiumBelizeBeninBermudaBhutanBoliviaBonaire\, Sint Eustatius and SabaBosnia and HerzegovinaBotswanaBouvet IslandBrazilBritish Indian Ocean TerritoryBrunei DarussalamBulgariaBurkina FasoBurundiCambodiaCameroonCanadaCape VerdeCayman IslandsCentral African RepublicChadChileChinaChristmas IslandCocos IslandsColombiaComorosCongoCongo\, Democratic Republic of theCook IslandsCosta RicaCroatiaCubaCuraçaoCyprusCzechiaCôte d'IvoireDenmarkDjiboutiDominicaDominican RepublicEcuadorEgyptEl SalvadorEquatorial GuineaEritreaEstoniaEswatiniEthiopiaFalkland IslandsFaroe IslandsFijiFinlandFranceFrench GuianaFrench PolynesiaFrench Southern TerritoriesGabonGambiaGeorgiaGermanyGhanaGibraltarGreeceGreenlandGrenadaGuadeloupeGuamGuatemalaGuernseyGuineaGuinea-BissauGuyanaHaitiHeard Island and McDonald IslandsHoly SeeHondurasHong KongHungaryIcelandIndiaIndonesiaIranIraqIrelandIsle of ManIsraelItalyJamaicaJapanJerseyJordanKazakhstanKenyaKiribatiKorea\, Democratic People's Republic ofKorea\, Republic ofKuwaitKyrgyzstanLao People's Democratic RepublicLatviaLebanonLesothoLiberiaLibyaLiechtensteinLithuaniaLuxembourgMacaoMadagascarMalawiMalaysiaMaldivesMaliMaltaMarshall IslandsMartiniqueMauritaniaMauritiusMayotteMexicoMicronesiaMoldovaMonacoMongoliaMontenegroMontserratMoroccoMozambiqueMyanmarNamibiaNauruNepalNetherlandsNew CaledoniaNew ZealandNicaraguaNigerNigeriaNiueNorfolk IslandNorth MacedoniaNorthern Mariana IslandsNorwayOmanPakistanPalauPalestine\, State ofPanamaPapua New GuineaParaguayPeruPhilippinesPitcairnPolandPortugalPuerto RicoQatarRomaniaRussian FederationRwandaRéunionSaint BarthélemySaint Helena\, Ascension and Tristan da CunhaSaint Kitts and NevisSaint LuciaSaint MartinSaint Pierre and MiquelonSaint Vincent and the GrenadinesSamoaSan MarinoSao Tome and PrincipeSaudi ArabiaSenegalSerbiaSeychellesSierra LeoneSingaporeSint MaartenSlovakiaSloveniaSolomon IslandsSomaliaSouth AfricaSouth Georgia and the South Sandwich IslandsSouth SudanSpainSri LankaSudanSurinameSvalbard and Jan MayenSwedenSwitzerlandSyria Arab RepublicTaiwanTajikistanTanzania\, the United Republic ofThailandTimor-LesteTogoTokelauTongaTrinidad and TobagoTunisiaTurkmenistanTurks and Caicos IslandsTuvaluTürkiyeUS Minor Outlying IslandsUgandaUkraineUnited Arab EmiratesUnited KingdomUnited StatesUruguayUzbekistanVanuatuVenezuelaViet NamVirgin Islands\, BritishVirgin Islands\, U.S.Wallis and FutunaWestern SaharaYemenZambiaZimbabweÅland Islands\n                                        Country\n                                    \n                    \n                How many people are you looking at?1 - 2 Standard Rates3 - 5 Group Discount>10 In-House Training\, Huge Savings!Undecided\, need more informationThis is just an approximate number. You can finalise it when you send in the registration form.\n								\n								Send me brochure\n							Comments:CAPTCHA
URL:https://www.opuskinetic.com/training/best-practices-in-the-management-and-execution-of-incident-investigations/2026-07-06/
LOCATION:Kuala Lumpur\, Singapore
CATEGORIES:HSE and Process Safety,Oil/Gas/Petrochemicals
ATTACH;FMTTYPE=image/jpeg:https://www.opuskinetic.com/wp-content/uploads/2024/09/incident-investigation-fi1-scaled.jpg
ORGANIZER;CN="Opus Kinetic Pte Ltd":MAILTO:info@opuskinetic.com
END:VEVENT
END:VCALENDAR