BEGIN:VCALENDAR
VERSION:2.0
PRODID:-//Opus Kinetic - ECPv6.15.12.2//NONSGML v1.0//EN
CALSCALE:GREGORIAN
METHOD:PUBLISH
X-WR-CALNAME:Opus Kinetic
X-ORIGINAL-URL:https://www.opuskinetic.com
X-WR-CALDESC:Events for Opus Kinetic
REFRESH-INTERVAL;VALUE=DURATION:PT1H
X-Robots-Tag:noindex
X-PUBLISHED-TTL:PT1H
BEGIN:VTIMEZONE
TZID:Asia/Singapore
BEGIN:STANDARD
TZOFFSETFROM:+0800
TZOFFSETTO:+0800
TZNAME:+08
DTSTART:20240101T000000
END:STANDARD
END:VTIMEZONE
BEGIN:VEVENT
DTSTART;VALUE=DATE:20250514
DTEND;VALUE=DATE:20250517
DTSTAMP:20260420T223304
CREATED:20220531T013645Z
LAST-MODIFIED:20250107T032440Z
UID:10001903-1747213200-1747414800@www.opuskinetic.com
SUMMARY:Advanced Maintenance and Reliability Management
DESCRIPTION:Why Choose this Training Course\nThis is a 3-day in-person maintenance and reliability training course. The effective maintenance management within chemical plants is a critical feature of plant operation\, both in establishing the conditions for safe ongoing operation of the plant after commissioning\, and in supporting the commercial success of the business. Many companies focus on the cost of the maintenance organisation\, rather than on the benefits that they can provide\, and in doing so the real potential for maintenance organisations to make significant contributions to business success are often lost. Ultimately\, and assuming that the commercial department is able to sell the product that is produced\, the contribution of a maintenance organisation can most effectively be measured in terms of its ability to generate sustained improvements with time in the total (fixed and variable) cost per unit volume of production. There are a number of drivers which tend to increase the cost of production; certain types of equipment become unreliable with time\, obsolescence is often an issue\, environmental and safety standards are continuing to tighten\, and so on. \nOf course\, there are many tools and techniques that are available to help. This maintenance and reliability training focuses on techniques such as Risk Based Inspection\, Reliability Centred Maintenance\, and Total Productive Maintenance can all add value if they are used appropriately\, but it is important to remember that the long term aim of plant maintenance is to deliver sustained and continuous reduction in the cost per unit of production\, a point often lost in the mounds of paperwork that can be generated by some of the tools that are provided to help the maintenance engineer in his decision making! It is worth remembering that any debate or decision within the maintenance organisation which does not concern the selection or delivery of maintenance task is unlikely to contribute to improving the overall performance of the business. \nWho Should Attend\n\nAll plant engineers engaged in maintenance\, turnarounds and minor projects\nAll personnel in design\, project management and turnarounds\nPlant financial staff who have to approve projects\nPlant maintenance managers\nProject personnel\n\nKey Learning Objectives\n\nEnhancing your companies Maintenance and Operations understanding\nComprehensive understanding of techniques plus best in class approach\nCreate awareness of successful maintenance scheduling\nBetter understanding of failure mechanism and impact\nDevelop a clearer understanding of roles and responsibilities\nTo make plant engineers aware of the importance of overall equipment availability at the least cost\nTo manage the organizational changes required to maximize the contribution and generate sustained improvements\nTo teach financial principles to enable engineers to arrive at the least cost options in solving a technical problem\nTo enable project engineers to justify higher initial cost where lower overall life cycle cost and higher reliability result\nTo make all participants aware of the time value of money and the Cost of Non Compliance (PONC)\nUnderstanding of operational excellence practices\n\nEnquiry Form\n\n\n                 \n \n                        SalutationMr.Ms.Miss.Mrs.Mdm.Dr.Prof.Capt.-Name*\n                            \n                            \n                                                    \n                                                    First\n                                                \n                            \n                            \n                                                    \n                                                    Last\n                                                \n                            \n                        Phone*Email*\n                            \n                        Company*Current Location*    \n                    \n                        \n                                        AfghanistanAlbaniaAlgeriaAmerican SamoaAndorraAngolaAnguillaAntarcticaAntigua and BarbudaArgentinaArmeniaArubaAustraliaAustriaAzerbaijanBahamasBahrainBangladeshBarbadosBelarusBelgiumBelizeBeninBermudaBhutanBoliviaBonaire\, Sint Eustatius and SabaBosnia and HerzegovinaBotswanaBouvet IslandBrazilBritish Indian Ocean TerritoryBrunei DarussalamBulgariaBurkina FasoBurundiCambodiaCameroonCanadaCape VerdeCayman IslandsCentral African RepublicChadChileChinaChristmas IslandCocos IslandsColombiaComorosCongoCongo\, Democratic Republic of theCook IslandsCosta RicaCroatiaCubaCuraçaoCyprusCzechiaCôte d'IvoireDenmarkDjiboutiDominicaDominican RepublicEcuadorEgyptEl SalvadorEquatorial GuineaEritreaEstoniaEswatiniEthiopiaFalkland IslandsFaroe IslandsFijiFinlandFranceFrench GuianaFrench PolynesiaFrench Southern TerritoriesGabonGambiaGeorgiaGermanyGhanaGibraltarGreeceGreenlandGrenadaGuadeloupeGuamGuatemalaGuernseyGuineaGuinea-BissauGuyanaHaitiHeard Island and McDonald IslandsHoly SeeHondurasHong KongHungaryIcelandIndiaIndonesiaIranIraqIrelandIsle of ManIsraelItalyJamaicaJapanJerseyJordanKazakhstanKenyaKiribatiKorea\, Democratic People's Republic ofKorea\, Republic ofKuwaitKyrgyzstanLao People's Democratic RepublicLatviaLebanonLesothoLiberiaLibyaLiechtensteinLithuaniaLuxembourgMacaoMadagascarMalawiMalaysiaMaldivesMaliMaltaMarshall IslandsMartiniqueMauritaniaMauritiusMayotteMexicoMicronesiaMoldovaMonacoMongoliaMontenegroMontserratMoroccoMozambiqueMyanmarNamibiaNauruNepalNetherlandsNew CaledoniaNew ZealandNicaraguaNigerNigeriaNiueNorfolk IslandNorth MacedoniaNorthern Mariana IslandsNorwayOmanPakistanPalauPalestine\, State ofPanamaPapua New GuineaParaguayPeruPhilippinesPitcairnPolandPortugalPuerto RicoQatarRomaniaRussian FederationRwandaRéunionSaint BarthélemySaint Helena\, Ascension and Tristan da CunhaSaint Kitts and NevisSaint LuciaSaint MartinSaint Pierre and MiquelonSaint Vincent and the GrenadinesSamoaSan MarinoSao Tome and PrincipeSaudi ArabiaSenegalSerbiaSeychellesSierra LeoneSingaporeSint MaartenSlovakiaSloveniaSolomon IslandsSomaliaSouth AfricaSouth Georgia and the South Sandwich IslandsSouth SudanSpainSri LankaSudanSurinameSvalbard and Jan MayenSwedenSwitzerlandSyria Arab RepublicTaiwanTajikistanTanzania\, the United Republic ofThailandTimor-LesteTogoTokelauTongaTrinidad and TobagoTunisiaTurkmenistanTurks and Caicos IslandsTuvaluTürkiyeUS Minor Outlying IslandsUgandaUkraineUnited Arab EmiratesUnited KingdomUnited StatesUruguayUzbekistanVanuatuVenezuelaViet NamVirgin Islands\, BritishVirgin Islands\, U.S.Wallis and FutunaWestern SaharaYemenZambiaZimbabweÅland Islands\n                                        Country\n                                    \n                    \n                How many people are you looking at?1 - 2 Standard Rates3 - 5 Group Discount>10 In-House Training\, Huge Savings!Undecided\, need more informationThis is just an approximate number. You can finalise it when you send in the registration form.\n								\n								Send me brochure\n							Comments:CAPTCHA
URL:https://www.opuskinetic.com/training/advanced-maintenance-and-reliability-managment-2/2025-05-14/
LOCATION:Kuala Lumpur\, Federal Territory of Kuala Lumpur\, Kuala Lumpur\, Malaysia
CATEGORIES:Maintenance,Oil/Gas/Petrochemicals,Operations
ATTACH;FMTTYPE=image/png:https://www.opuskinetic.com/wp-content/uploads/2022/05/refinery-FI.png
ORGANIZER;CN="Opus Kinetic Pte Ltd":MAILTO:info@opuskinetic.com
GEO:3.1384965;101.7099933
END:VEVENT
BEGIN:VEVENT
DTSTART;VALUE=DATE:20250519
DTEND;VALUE=DATE:20250522
DTSTAMP:20260420T223304
CREATED:20240221T101634Z
LAST-MODIFIED:20250407T065231Z
UID:10002105-1747645200-1747846800@www.opuskinetic.com
SUMMARY:Steam and Gas Turbines Operations and Maintenance
DESCRIPTION:Why Choose this Training Course\nThe aim is to provide a satisfactory approach to the problems posed by turbines and the means to solve them. This steam and gas turbines training course will cover gas and steam turbine components\, operations\, maintenance\, performance\, applications and asset management. This is an interactive course including exercises and group discussions on all aspects covered by the course.\nThe steam and gas turbines course will begin with a look at the thermodynamic laws and principals involved in gas and steam turbine operation and continue with applications and components of the Rankine and Brayton Cycles. Combined cycle and cogeneration applications and configurations are discussed as well as the balance of plant requirements for these applications with a detailed look at steam turbines and components. \nGas turbines and components including auxiliaries are discussed along with operational issues. Performance of steam and gas turbines and how to optimise their performance will be discussed along with performance calculations and a discussion on performance testing. \nWho Should Attend\nThis is an essential steam turbine training course for those engineers/technicians involved with Steam Turbines. \nKey Learning Objectives\n\nGrasp the practical O&M issues of gas and steam turbines\nUnderstand and describe the benefits and disadvantages of various CHP and CoGen configurations\nBe able to benchmark O&M of gas and steam turbines\nExamine the importance of timely\, accurate condition assessments in today’s economic environment\nUnderstand and operate systems associated with gas and steam turbines.\nBalance costs and risks associated with O&M practices\nEstimate the performance and health of the power plant accurately\nDesign a more precise and realistic maintenance schedule for turbine plant and allocate resources effectively\nUnderstand the importance of integrated resource planning techniques and practices\n\nEnquiry Form\n\n                 \n \n                        SalutationMr.Ms.Miss.Mrs.Mdm.Dr.Prof.Capt.-Name*\n                            \n                            \n                                                    \n                                                    First\n                                                \n                            \n                            \n                                                    \n                                                    Last\n                                                \n                            \n                        Phone*Email*\n                            \n                        Company*Current Location*    \n                    \n                        \n                                        AfghanistanAlbaniaAlgeriaAmerican SamoaAndorraAngolaAnguillaAntarcticaAntigua and BarbudaArgentinaArmeniaArubaAustraliaAustriaAzerbaijanBahamasBahrainBangladeshBarbadosBelarusBelgiumBelizeBeninBermudaBhutanBoliviaBonaire\, Sint Eustatius and SabaBosnia and HerzegovinaBotswanaBouvet IslandBrazilBritish Indian Ocean TerritoryBrunei DarussalamBulgariaBurkina FasoBurundiCambodiaCameroonCanadaCape VerdeCayman IslandsCentral African RepublicChadChileChinaChristmas IslandCocos IslandsColombiaComorosCongoCongo\, Democratic Republic of theCook IslandsCosta RicaCroatiaCubaCuraçaoCyprusCzechiaCôte d'IvoireDenmarkDjiboutiDominicaDominican RepublicEcuadorEgyptEl SalvadorEquatorial GuineaEritreaEstoniaEswatiniEthiopiaFalkland IslandsFaroe IslandsFijiFinlandFranceFrench GuianaFrench PolynesiaFrench Southern TerritoriesGabonGambiaGeorgiaGermanyGhanaGibraltarGreeceGreenlandGrenadaGuadeloupeGuamGuatemalaGuernseyGuineaGuinea-BissauGuyanaHaitiHeard Island and McDonald IslandsHoly SeeHondurasHong KongHungaryIcelandIndiaIndonesiaIranIraqIrelandIsle of ManIsraelItalyJamaicaJapanJerseyJordanKazakhstanKenyaKiribatiKorea\, Democratic People's Republic ofKorea\, Republic ofKuwaitKyrgyzstanLao People's Democratic RepublicLatviaLebanonLesothoLiberiaLibyaLiechtensteinLithuaniaLuxembourgMacaoMadagascarMalawiMalaysiaMaldivesMaliMaltaMarshall IslandsMartiniqueMauritaniaMauritiusMayotteMexicoMicronesiaMoldovaMonacoMongoliaMontenegroMontserratMoroccoMozambiqueMyanmarNamibiaNauruNepalNetherlandsNew CaledoniaNew ZealandNicaraguaNigerNigeriaNiueNorfolk IslandNorth MacedoniaNorthern Mariana IslandsNorwayOmanPakistanPalauPalestine\, State ofPanamaPapua New GuineaParaguayPeruPhilippinesPitcairnPolandPortugalPuerto RicoQatarRomaniaRussian FederationRwandaRéunionSaint BarthélemySaint Helena\, Ascension and Tristan da CunhaSaint Kitts and NevisSaint LuciaSaint MartinSaint Pierre and MiquelonSaint Vincent and the GrenadinesSamoaSan MarinoSao Tome and PrincipeSaudi ArabiaSenegalSerbiaSeychellesSierra LeoneSingaporeSint MaartenSlovakiaSloveniaSolomon IslandsSomaliaSouth AfricaSouth Georgia and the South Sandwich IslandsSouth SudanSpainSri LankaSudanSurinameSvalbard and Jan MayenSwedenSwitzerlandSyria Arab RepublicTaiwanTajikistanTanzania\, the United Republic ofThailandTimor-LesteTogoTokelauTongaTrinidad and TobagoTunisiaTurkmenistanTurks and Caicos IslandsTuvaluTürkiyeUS Minor Outlying IslandsUgandaUkraineUnited Arab EmiratesUnited KingdomUnited StatesUruguayUzbekistanVanuatuVenezuelaViet NamVirgin Islands\, BritishVirgin Islands\, U.S.Wallis and FutunaWestern SaharaYemenZambiaZimbabweÅland Islands\n                                        Country\n                                    \n                    \n                How many people are you looking at?1 - 2 Standard Rates3 - 5 Group Discount>10 In-House Training\, Huge Savings!Undecided\, need more informationThis is just an approximate number. You can finalise it when you send in the registration form.\n								\n								Send me brochure\n							Comments:CAPTCHA
URL:https://www.opuskinetic.com/training/steam-and-gas-turbines/2025-05-19/
LOCATION:Kuala Lumpur\, Federal Territory of Kuala Lumpur\, Kuala Lumpur\, Malaysia
CATEGORIES:Maintenance,Oil/Gas/Petrochemicals
ATTACH;FMTTYPE=image/png:https://www.opuskinetic.com/wp-content/uploads/2024/02/steam-turbine-fi1.png
ORGANIZER;CN="Opus Kinetic Pte Ltd":MAILTO:info@opuskinetic.com
GEO:3.1384965;101.7099933
END:VEVENT
BEGIN:VEVENT
DTSTART;VALUE=DATE:20250526
DTEND;VALUE=DATE:20250529
DTSTAMP:20260420T223304
CREATED:20250304T071811Z
LAST-MODIFIED:20251124T075123Z
UID:10002056-1748217600-1748476799@www.opuskinetic.com
SUMMARY:Management of Ageing Assets
DESCRIPTION:Why Choose this Training Course\nThis ageing assets training is a 3-days course. As part of their maintenance strategy an organisation should identify plant and equipment that represents a high risk in terms of loss and which can be subject to ageing. They should put in place\, as part of their maintenance strategy\, a regime to maintain such items in a state of good repair and efficient working order. \nDuring its lifecycle\, all plant and equipment can degrade due to age-related mechanisms\, such as corrosion\, erosion and fatigue. It is therefore essential that\, as part of the overall maintenance regime\, such ageing is identified and appropriate measures taken to manage the risk. \nWhen referring to ageing plant and equipment\, it is important to note that this does not necessarily relate to the chronological ageing process\, rather ageing “is the effect whereby a component suffers some form of material deterioration and damage\, with an increasing likelihood of failure over the lifetime of the asset”. \nThe management of ageing plant and equipment therefore begins with an awareness that ageing is not about how old the equipment is\, but what is known about its condition\, and the factors that influence the onset\, evolution and mitigation of its degradation. This suggests that\, for those with responsibility for maintaining ageing assets\, there is a need to: \n\nOrganise for ageing management in terms of identifying the assets\, what they do and their criticality to the business\nMake an assessment of the current condition through appropriate condition surveys\, inspections and associated risk assessments\, including how conditions may change over the asset lifecycle\nImplement an ageing management programme\, including the use of preventative or condition-based maintenance regimes\nEnsure there is feedback and analysis of the process to ensure it remains fit for purpose\, including the use of performance\nindicators\n\nAs well as the physical ageing process\, other factors will need to be given consideration. This can include obsolescence and lack of spare parts\, or the disappearance of the original equipment manufacturer\, or non-conformance with current safety requirements\, codes\, standards and procedures. Competency\, availability and organisation of the employees responsible for asset management and knowledge management are also essential to ensuring that this understanding of current and predicted asset condition is used when making asset management decisions \nWho Should Attend\n\nAll plant design engineers/project managers\nMaintenance mangers\nKey materials personnel\nPlanning & Scheduling managers\nOthers designated by training matrix\n\nKey Learning Objectives\n\nIdentifying High-Risk Assets – Organizations must identify critical plant and equipment that are prone to ageing and pose significant risks if not maintained.\nUnderstanding Ageing Beyond Time – Ageing is not just about age but about material deterioration\, which increases failure risks over time.\nRegular Condition Assessments – Ongoing inspections\, risk assessments\, and monitoring are essential to understanding and managing equipment degradation.\nPreventive and condition-based maintenance programs help mitigate ageing-related risks and ensure operational efficiency.\nContinuous Improvement & Feedback – Maintenance strategies should evolve based on performance data\, ensuring they remain effective and fit for purpose.\nManaging Obsolescence & Workforce Competency – Non-physical ageing factors like obsolete parts\, regulatory changes\, and skilled personnel availability must be addressed for effective asset management.\n\nEnquiry Form\n\n                 \n \n                        SalutationMr.Ms.Miss.Mrs.Mdm.Dr.Prof.Capt.-Name*\n                            \n                            \n                                                    \n                                                    First\n                                                \n                            \n                            \n                                                    \n                                                    Last\n                                                \n                            \n                        Phone*Email*\n                            \n                        Company*Current Location*    \n                    \n                        \n                                        AfghanistanAlbaniaAlgeriaAmerican SamoaAndorraAngolaAnguillaAntarcticaAntigua and BarbudaArgentinaArmeniaArubaAustraliaAustriaAzerbaijanBahamasBahrainBangladeshBarbadosBelarusBelgiumBelizeBeninBermudaBhutanBoliviaBonaire\, Sint Eustatius and SabaBosnia and HerzegovinaBotswanaBouvet IslandBrazilBritish Indian Ocean TerritoryBrunei DarussalamBulgariaBurkina FasoBurundiCambodiaCameroonCanadaCape VerdeCayman IslandsCentral African RepublicChadChileChinaChristmas IslandCocos IslandsColombiaComorosCongoCongo\, Democratic Republic of theCook IslandsCosta RicaCroatiaCubaCuraçaoCyprusCzechiaCôte d'IvoireDenmarkDjiboutiDominicaDominican RepublicEcuadorEgyptEl SalvadorEquatorial GuineaEritreaEstoniaEswatiniEthiopiaFalkland IslandsFaroe IslandsFijiFinlandFranceFrench GuianaFrench PolynesiaFrench Southern TerritoriesGabonGambiaGeorgiaGermanyGhanaGibraltarGreeceGreenlandGrenadaGuadeloupeGuamGuatemalaGuernseyGuineaGuinea-BissauGuyanaHaitiHeard Island and McDonald IslandsHoly SeeHondurasHong KongHungaryIcelandIndiaIndonesiaIranIraqIrelandIsle of ManIsraelItalyJamaicaJapanJerseyJordanKazakhstanKenyaKiribatiKorea\, Democratic People's Republic ofKorea\, Republic ofKuwaitKyrgyzstanLao People's Democratic RepublicLatviaLebanonLesothoLiberiaLibyaLiechtensteinLithuaniaLuxembourgMacaoMadagascarMalawiMalaysiaMaldivesMaliMaltaMarshall IslandsMartiniqueMauritaniaMauritiusMayotteMexicoMicronesiaMoldovaMonacoMongoliaMontenegroMontserratMoroccoMozambiqueMyanmarNamibiaNauruNepalNetherlandsNew CaledoniaNew ZealandNicaraguaNigerNigeriaNiueNorfolk IslandNorth MacedoniaNorthern Mariana IslandsNorwayOmanPakistanPalauPalestine\, State ofPanamaPapua New GuineaParaguayPeruPhilippinesPitcairnPolandPortugalPuerto RicoQatarRomaniaRussian FederationRwandaRéunionSaint BarthélemySaint Helena\, Ascension and Tristan da CunhaSaint Kitts and NevisSaint LuciaSaint MartinSaint Pierre and MiquelonSaint Vincent and the GrenadinesSamoaSan MarinoSao Tome and PrincipeSaudi ArabiaSenegalSerbiaSeychellesSierra LeoneSingaporeSint MaartenSlovakiaSloveniaSolomon IslandsSomaliaSouth AfricaSouth Georgia and the South Sandwich IslandsSouth SudanSpainSri LankaSudanSurinameSvalbard and Jan MayenSwedenSwitzerlandSyria Arab RepublicTaiwanTajikistanTanzania\, the United Republic ofThailandTimor-LesteTogoTokelauTongaTrinidad and TobagoTunisiaTurkmenistanTurks and Caicos IslandsTuvaluTürkiyeUS Minor Outlying IslandsUgandaUkraineUnited Arab EmiratesUnited KingdomUnited StatesUruguayUzbekistanVanuatuVenezuelaViet NamVirgin Islands\, BritishVirgin Islands\, U.S.Wallis and FutunaWestern SaharaYemenZambiaZimbabweÅland Islands\n                                        Country\n                                    \n                    \n                How many people are you looking at?1 - 2 Standard Rates3 - 5 Group Discount>10 In-House Training\, Huge Savings!Undecided\, need more informationThis is just an approximate number. You can finalise it when you send in the registration form.\n								\n								Send me brochure\n							Comments:CAPTCHA
URL:https://www.opuskinetic.com/training/management-of-ageing-assets/2025-05-26/
LOCATION:Kuala Lumpur\, Federal Territory of Kuala Lumpur\, Kuala Lumpur\, Malaysia
CATEGORIES:Maintenance,Oil/Gas/Petrochemicals
ATTACH;FMTTYPE=image/jpeg:https://www.opuskinetic.com/wp-content/uploads/2025/03/ageing-asset-fi1-scaled.jpg
ORGANIZER;CN="Opus Kinetic Pte Ltd":MAILTO:info@opuskinetic.com
GEO:3.1384965;101.7099933
END:VEVENT
END:VCALENDAR