BEGIN:VCALENDAR
VERSION:2.0
PRODID:-//Opus Kinetic - ECPv6.15.12.2//NONSGML v1.0//EN
CALSCALE:GREGORIAN
METHOD:PUBLISH
X-ORIGINAL-URL:https://www.opuskinetic.com
X-WR-CALDESC:Events for Opus Kinetic
REFRESH-INTERVAL;VALUE=DURATION:PT1H
X-Robots-Tag:noindex
X-PUBLISHED-TTL:PT1H
BEGIN:VTIMEZONE
TZID:Asia/Singapore
BEGIN:STANDARD
TZOFFSETFROM:+0800
TZOFFSETTO:+0800
TZNAME:+08
DTSTART:20250101T000000
END:STANDARD
END:VTIMEZONE
BEGIN:VEVENT
DTSTART;VALUE=DATE:20260427
DTEND;VALUE=DATE:20260430
DTSTAMP:20260421T134716
CREATED:20250619T034014Z
LAST-MODIFIED:20260311T034358Z
UID:10002307-1777280400-1777482000@www.opuskinetic.com
SUMMARY:Project Risk Management
DESCRIPTION:Why Choose this Training Course\nThis is 3-days project risk training course. Projects involve many risks such as cost\, schedule and resources. For example\, you could have a delay in the schedule causing your project to be delayed by two weeks\, and a resource that wasn’t available when you started the project is now available at a lower cost. As a project manager\, you need to be aware of any and all risks that could affect your project. That is why we say project management is opportunity management. It is the ability to seize opportunities\, minimize threats\, and achieve optimum results. \nIn this project risk training course\, you’ll work through the proactive approach to threat and opportunity—based on a clear understanding of the powerful nature of both qualitative and quantitative approaches to risk management. \nRisk Management examines threat and opportunity from both a top-down and bottom-up perspective using a proven eight-step risk management process. Using effective tools\, including a highly regarded risk assessment model\, you’ll learn how to evaluate and respond to risk at the project and task levels. \nBy applying these tools you will be able to identify\, quantify\, control and respond to risk in the context of the project life cycle through a risk management plan. This risk management plan will provide you with the ability to monitor and control risks throughout the execution of the project by identifying new risks\, reassessing existing risks\, and monitoring risk triggers. \nYou’ll end the project risk training course with new practices to apply in your environment and new insights on the implications and advantages of applying risk management well. \n \nThis course is approved by PMI for 24 PDUs \nOpus Kinetic is also a proud member of the Energy Institute of UK \nWho Should Attend\nMDs\, VPs\, Directors\, GMs\, CFOs\, COOs\, Financial Controllers\, Heads and Senior Managers responsible for: \n\nProject Audit\n\nProject Management Office (PMO)\n\nProject Control / Cost Control\n\nInternal Audit\n\nRisk Management\n\nQuality Assurance and Process Improvement\n\nProject / Project Planning\n\nProject Consultancies\n\nArchitectural Division\n\nStrategic Procurement\n\nSite Management\n\nOperations\n\nKey Learning Objectives\n\nPINPOINT the various types of Risk\n\nIDENTIFY Risk\n\nANALYSE & PRIORITISE Risk\n\nMASTER the various risk-based financial tools & techniques\n\nLEARN how to prioritise the various risk\n\nEnquiry Form\n\n\n                 \n \n                        SalutationMr.Ms.Miss.Mrs.Mdm.Dr.Prof.Capt.-Name*\n                            \n                            \n                                                    \n                                                    First\n                                                \n                            \n                            \n                                                    \n                                                    Last\n                                                \n                            \n                        Phone*Email*\n                            \n                        Company*Current Location*    \n                    \n                        \n                                        AfghanistanAlbaniaAlgeriaAmerican SamoaAndorraAngolaAnguillaAntarcticaAntigua and BarbudaArgentinaArmeniaArubaAustraliaAustriaAzerbaijanBahamasBahrainBangladeshBarbadosBelarusBelgiumBelizeBeninBermudaBhutanBoliviaBonaire\, Sint Eustatius and SabaBosnia and HerzegovinaBotswanaBouvet IslandBrazilBritish Indian Ocean TerritoryBrunei DarussalamBulgariaBurkina FasoBurundiCambodiaCameroonCanadaCape VerdeCayman IslandsCentral African RepublicChadChileChinaChristmas IslandCocos IslandsColombiaComorosCongoCongo\, Democratic Republic of theCook IslandsCosta RicaCroatiaCubaCuraçaoCyprusCzechiaCôte d'IvoireDenmarkDjiboutiDominicaDominican RepublicEcuadorEgyptEl SalvadorEquatorial GuineaEritreaEstoniaEswatiniEthiopiaFalkland IslandsFaroe IslandsFijiFinlandFranceFrench GuianaFrench PolynesiaFrench Southern TerritoriesGabonGambiaGeorgiaGermanyGhanaGibraltarGreeceGreenlandGrenadaGuadeloupeGuamGuatemalaGuernseyGuineaGuinea-BissauGuyanaHaitiHeard Island and McDonald IslandsHoly SeeHondurasHong KongHungaryIcelandIndiaIndonesiaIranIraqIrelandIsle of ManIsraelItalyJamaicaJapanJerseyJordanKazakhstanKenyaKiribatiKorea\, Democratic People's Republic ofKorea\, Republic ofKuwaitKyrgyzstanLao People's Democratic RepublicLatviaLebanonLesothoLiberiaLibyaLiechtensteinLithuaniaLuxembourgMacaoMadagascarMalawiMalaysiaMaldivesMaliMaltaMarshall IslandsMartiniqueMauritaniaMauritiusMayotteMexicoMicronesiaMoldovaMonacoMongoliaMontenegroMontserratMoroccoMozambiqueMyanmarNamibiaNauruNepalNetherlandsNew CaledoniaNew ZealandNicaraguaNigerNigeriaNiueNorfolk IslandNorth MacedoniaNorthern Mariana IslandsNorwayOmanPakistanPalauPalestine\, State ofPanamaPapua New GuineaParaguayPeruPhilippinesPitcairnPolandPortugalPuerto RicoQatarRomaniaRussian FederationRwandaRéunionSaint BarthélemySaint Helena\, Ascension and Tristan da CunhaSaint Kitts and NevisSaint LuciaSaint MartinSaint Pierre and MiquelonSaint Vincent and the GrenadinesSamoaSan MarinoSao Tome and PrincipeSaudi ArabiaSenegalSerbiaSeychellesSierra LeoneSingaporeSint MaartenSlovakiaSloveniaSolomon IslandsSomaliaSouth AfricaSouth Georgia and the South Sandwich IslandsSouth SudanSpainSri LankaSudanSurinameSvalbard and Jan MayenSwedenSwitzerlandSyria Arab RepublicTaiwanTajikistanTanzania\, the United Republic ofThailandTimor-LesteTogoTokelauTongaTrinidad and TobagoTunisiaTurkmenistanTurks and Caicos IslandsTuvaluTürkiyeUS Minor Outlying IslandsUgandaUkraineUnited Arab EmiratesUnited KingdomUnited StatesUruguayUzbekistanVanuatuVenezuelaViet NamVirgin Islands\, BritishVirgin Islands\, U.S.Wallis and FutunaWestern SaharaYemenZambiaZimbabweÅland Islands\n                                        Country\n                                    \n                    \n                How many people are you looking at?1 - 2 Standard Rates3 - 5 Group Discount>10 In-House Training\, Huge Savings!Undecided\, need more informationThis is just an approximate number. You can finalise it when you send in the registration form.\n								\n								Send me brochure\n							Comments:CAPTCHA
URL:https://www.opuskinetic.com/training/project-risk-training-2/2026-04-27/
LOCATION:Kuala Lumpur\, Federal Territory of Kuala Lumpur\, Kuala Lumpur\, Malaysia
CATEGORIES:Management and Leadership Development,Oil/Gas/Petrochemicals,Project
ATTACH;FMTTYPE=image/png:https://www.opuskinetic.com/wp-content/uploads/2021/11/project-risk-fi1.png
ORGANIZER;CN="Opus Kinetic Pte Ltd":MAILTO:info@opuskinetic.com
GEO:3.1384965;101.7099933
END:VEVENT
END:VCALENDAR