BEGIN:VCALENDAR
VERSION:2.0
PRODID:-//Opus Kinetic - ECPv6.15.12.2//NONSGML v1.0//EN
CALSCALE:GREGORIAN
METHOD:PUBLISH
X-WR-CALNAME:Opus Kinetic
X-ORIGINAL-URL:https://www.opuskinetic.com
X-WR-CALDESC:Events for Opus Kinetic
REFRESH-INTERVAL;VALUE=DURATION:PT1H
X-Robots-Tag:noindex
X-PUBLISHED-TTL:PT1H
BEGIN:VTIMEZONE
TZID:Asia/Singapore
BEGIN:STANDARD
TZOFFSETFROM:+0800
TZOFFSETTO:+0800
TZNAME:+08
DTSTART:20240101T000000
END:STANDARD
END:VTIMEZONE
BEGIN:VEVENT
DTSTART;VALUE=DATE:20251006
DTEND;VALUE=DATE:20251009
DTSTAMP:20260419T224811
CREATED:20250710T090320Z
LAST-MODIFIED:20260309T035940Z
UID:10002187-1759708800-1759967999@www.opuskinetic.com
SUMMARY:Advanced Reservoir Engineering
DESCRIPTION:Why Choose this Training Course\nThis advanced reservoir engineering course offers a comprehensive deep dive into the core principles and practical applications essential for effective hydrocarbon reservoir management. \nThe curriculum begins by establishing a strong foundation in fluid behavior and modeling. Participants will explore capillary pressure and saturation height relationships\, understand the distribution of hydrocarbon fluids\, and engage in exercises on permeability averaging and water breakthrough. The course then transitions into fluid properties and phase behavior\, covering PVT (Pressure-Volume-Temperature) correlations\, fluid sampling\, and laboratory experiments\, with practical exercises to solidify understanding. This leads directly into reserves classification systems\, focusing on the SPE Petroleum Resource Management System and probabilistic methods\, culminating in hands-on exercises for oil production forecasting using Decline Curve Analysis (DCA). \nThe advanced reservoir engineering program then shifts focus to reservoir models\, well behavior\, and fluid displacement. Participants will learn about oil and gas material balance\, aquifer models\, and the intricacies of well inflow performance\, including the impact of skin and horizontal wells\, reinforced by exercises on well inflow and gas production forecasting. A significant portion is dedicated to modern well test analysis\, covering pressure drawdown and build-up analysis. The course delves into fluid displacement and recovery\, exploring relative permeability\, wettability\, Buckley-Leverett theory\, and pseudo relative permeability. This culminates in an introduction to reservoir simulation modeling\, covering construction\, history matching\, and quality control\, along with discussions of real-world simulation field cases. \nThe advanced reservoir engineering course integrates all learned concepts into recovery strategies and field development planning. Participants will examine the unique challenges of fractured reservoirs\, explore various secondary recovery and Enhanced Oil Recovery (EOR) techniques\, and gain insights into comprehensive oil and gas field development planning\, including regulatory aspects. The program concludes by addressing the crucial topic of handling uncertainty in reservoir engineering\, ensuring a thorough understanding of all key areas. \nWe are also a proud member of the Energy Institute of UK. \nWho Should Attend\n\nReservoir Engineers\nPetroleum Engineers\nGeologists\nGeophysicists\nPetrophysicists\nProduction Engineers\nDevelopment Engineers\nAsset Managers\nExplorationists\nDrilling Engineers (beneficial for well performance aspects)\nData Scientists (involved in reservoir characterization)\nProject Managers (involved in field development)\nTechnicians (supporting reservoir engineering teams)\n\nKey Learning Objectives\n\nAnalyze fundamental reservoir rock properties\, including capillary pressures\, wettability\, and their influence on hydrocarbon fluid distribution and saturation.\nEstimate hydrocarbons-in-place (HCIIP)\, applying the SPE PRMS and SEC systems for reserves and resource classification.\nEvaluate fluid properties and phase behavior using PVT correlations\, and interpret the results of fluid sampling and laboratory procedures.\nApply core reservoir engineering concepts such as material balance equations\, aquifer models\, and well testing techniques to understand reservoir drive mechanisms and well behavior.\nDevelop robust production forecasts using Decline Curve Analysis and design/interpret pressure transient well tests to characterize reservoir properties and well performance.\n\nEnquiry Form\n\n\n                 \n \n                        SalutationMr.Ms.Miss.Mrs.Mdm.Dr.Prof.Capt.-Name*\n                            \n                            \n                                                    \n                                                    First\n                                                \n                            \n                            \n                                                    \n                                                    Last\n                                                \n                            \n                        Phone*Email*\n                            \n                        Company*Current Location*    \n                    \n                        \n                                        AfghanistanAlbaniaAlgeriaAmerican SamoaAndorraAngolaAnguillaAntarcticaAntigua and BarbudaArgentinaArmeniaArubaAustraliaAustriaAzerbaijanBahamasBahrainBangladeshBarbadosBelarusBelgiumBelizeBeninBermudaBhutanBoliviaBonaire\, Sint Eustatius and SabaBosnia and HerzegovinaBotswanaBouvet IslandBrazilBritish Indian Ocean TerritoryBrunei DarussalamBulgariaBurkina FasoBurundiCambodiaCameroonCanadaCape VerdeCayman IslandsCentral African RepublicChadChileChinaChristmas IslandCocos IslandsColombiaComorosCongoCongo\, Democratic Republic of theCook IslandsCosta RicaCroatiaCubaCuraçaoCyprusCzechiaCôte d'IvoireDenmarkDjiboutiDominicaDominican RepublicEcuadorEgyptEl SalvadorEquatorial GuineaEritreaEstoniaEswatiniEthiopiaFalkland IslandsFaroe IslandsFijiFinlandFranceFrench GuianaFrench PolynesiaFrench Southern TerritoriesGabonGambiaGeorgiaGermanyGhanaGibraltarGreeceGreenlandGrenadaGuadeloupeGuamGuatemalaGuernseyGuineaGuinea-BissauGuyanaHaitiHeard Island and McDonald IslandsHoly SeeHondurasHong KongHungaryIcelandIndiaIndonesiaIranIraqIrelandIsle of ManIsraelItalyJamaicaJapanJerseyJordanKazakhstanKenyaKiribatiKorea\, Democratic People's Republic ofKorea\, Republic ofKuwaitKyrgyzstanLao People's Democratic RepublicLatviaLebanonLesothoLiberiaLibyaLiechtensteinLithuaniaLuxembourgMacaoMadagascarMalawiMalaysiaMaldivesMaliMaltaMarshall IslandsMartiniqueMauritaniaMauritiusMayotteMexicoMicronesiaMoldovaMonacoMongoliaMontenegroMontserratMoroccoMozambiqueMyanmarNamibiaNauruNepalNetherlandsNew CaledoniaNew ZealandNicaraguaNigerNigeriaNiueNorfolk IslandNorth MacedoniaNorthern Mariana IslandsNorwayOmanPakistanPalauPalestine\, State ofPanamaPapua New GuineaParaguayPeruPhilippinesPitcairnPolandPortugalPuerto RicoQatarRomaniaRussian FederationRwandaRéunionSaint BarthélemySaint Helena\, Ascension and Tristan da CunhaSaint Kitts and NevisSaint LuciaSaint MartinSaint Pierre and MiquelonSaint Vincent and the GrenadinesSamoaSan MarinoSao Tome and PrincipeSaudi ArabiaSenegalSerbiaSeychellesSierra LeoneSingaporeSint MaartenSlovakiaSloveniaSolomon IslandsSomaliaSouth AfricaSouth Georgia and the South Sandwich IslandsSouth SudanSpainSri LankaSudanSurinameSvalbard and Jan MayenSwedenSwitzerlandSyria Arab RepublicTaiwanTajikistanTanzania\, the United Republic ofThailandTimor-LesteTogoTokelauTongaTrinidad and TobagoTunisiaTurkmenistanTurks and Caicos IslandsTuvaluTürkiyeUS Minor Outlying IslandsUgandaUkraineUnited Arab EmiratesUnited KingdomUnited StatesUruguayUzbekistanVanuatuVenezuelaViet NamVirgin Islands\, BritishVirgin Islands\, U.S.Wallis and FutunaWestern SaharaYemenZambiaZimbabweÅland Islands\n                                        Country\n                                    \n                    \n                How many people are you looking at?1 - 2 Standard Rates3 - 5 Group Discount>10 In-House Training\, Huge Savings!Undecided\, need more informationThis is just an approximate number. You can finalise it when you send in the registration form.\n								\n								Send me brochure\n							Comments:CAPTCHA
URL:https://www.opuskinetic.com/training/advanced-reservoir-engineering/2025-10-06/
LOCATION:Kuala Lumpur\, Federal Territory of Kuala Lumpur\, Kuala Lumpur\, Malaysia
CATEGORIES:Oil/Gas/Petrochemicals,Reservoir Engineering
ATTACH;FMTTYPE=image/jpeg:https://www.opuskinetic.com/wp-content/uploads/2025/07/reservoir-fi1-scaled.jpg
ORGANIZER;CN="Opus Kinetic Pte Ltd":MAILTO:info@opuskinetic.com
GEO:3.1384965;101.7099933
END:VEVENT
BEGIN:VEVENT
DTSTART;TZID=Asia/Singapore:20250915T090000
DTEND;TZID=Asia/Singapore:20250918T130000
DTSTAMP:20260419T224811
CREATED:20250102T045305Z
LAST-MODIFIED:20250702T103745Z
UID:10002166-1757926800-1758200400@www.opuskinetic.com
SUMMARY:Reservoir Engineering for Geologists
DESCRIPTION:Why Choose this Training Course\nThis reservoir engineer for geologists training course examines the standard reservoir engineering processes and techniques\, particularly their interface with geoscience activities. This course illustrates\, with examples\, the use of subsurface data in the construction of a reservoir model. It covers three related main themes: static reservoir models; developing dynamic reservoir simulation models; and reservoir management during the producing life of a field. This course covers the fundamentals of fluid flow in porous media\, from a rock and fluid perspective. Reference is made to the application of reservoir engineering principles in carbon capture and storage (CCS). \nWho Should Attend\nThis reservoir engineer for geologists training course is aimed at Geoscientists and other subsurface professionals who interface with Reservoir Engineers in their regular work\, or who wish to obtain a broad grounding in reservoir engineering principles. This course will also benefit new team leaders tasked with managing multi-disciplinary teams. \nKey Learning Objectives\n\nOperate more effectively\, and work more collaboratively\, with their Reservoir Engineering colleagues.\nInterpret original fluid contacts\, through analysis of logs and pressure vs. depth profiles\, prior to production start-up; define saturation vs height relationships and estimate original hydrocarbon in place volumes.\nEmploy fluid sampling techniques and differentiate the physical and chemical properties of hydrocarbons and their description through phase diagrams.\nExamine the uses and importance of well tests and appraise how analysis is conducted.\nIdentify the controls on fluid flow in the reservoir\, the balance of viscous\, capillary\, and gravity forces and the impact of reservoir drive mechanisms including depletion\, water and gas drive.\nAnalyse production performance in the wellbore and debate artificial lift techniques and the potential benefits of horizontal wells. Compare production enhancement through stimulation\, horizontal wells\, and completion techniques.\nDefine the processes and interfaces of building both static and dynamic reservoir models\, including the challenges of upscaling\, and demonstrate knowledge of the principles of reservoir numerical simulation techniques\, and its validation.\nEvaluate the importance of continued reservoir management for forecasting future production profiles and maximising economic hydrocarbon recovery from a producing field over the complete life cycle.\nCompare the Enhanced Oil Recovery (EOR) techniques: steam and fire flooding\, miscible and immiscible gas displacement.\nApply key reservoir engineering principles to carbon capture and storage (CCS).\n\nEnquiry Form\n\n                 \n \n                        SalutationMr.Ms.Miss.Mrs.Mdm.Dr.Prof.Capt.-Name*\n                            \n                            \n                                                    \n                                                    First\n                                                \n                            \n                            \n                                                    \n                                                    Last\n                                                \n                            \n                        Phone*Email*\n                            \n                        Company*Current Location*    \n                    \n                        \n                                        AfghanistanAlbaniaAlgeriaAmerican SamoaAndorraAngolaAnguillaAntarcticaAntigua and BarbudaArgentinaArmeniaArubaAustraliaAustriaAzerbaijanBahamasBahrainBangladeshBarbadosBelarusBelgiumBelizeBeninBermudaBhutanBoliviaBonaire\, Sint Eustatius and SabaBosnia and HerzegovinaBotswanaBouvet IslandBrazilBritish Indian Ocean TerritoryBrunei DarussalamBulgariaBurkina FasoBurundiCambodiaCameroonCanadaCape VerdeCayman IslandsCentral African RepublicChadChileChinaChristmas IslandCocos IslandsColombiaComorosCongoCongo\, Democratic Republic of theCook IslandsCosta RicaCroatiaCubaCuraçaoCyprusCzechiaCôte d'IvoireDenmarkDjiboutiDominicaDominican RepublicEcuadorEgyptEl SalvadorEquatorial GuineaEritreaEstoniaEswatiniEthiopiaFalkland IslandsFaroe IslandsFijiFinlandFranceFrench GuianaFrench PolynesiaFrench Southern TerritoriesGabonGambiaGeorgiaGermanyGhanaGibraltarGreeceGreenlandGrenadaGuadeloupeGuamGuatemalaGuernseyGuineaGuinea-BissauGuyanaHaitiHeard Island and McDonald IslandsHoly SeeHondurasHong KongHungaryIcelandIndiaIndonesiaIranIraqIrelandIsle of ManIsraelItalyJamaicaJapanJerseyJordanKazakhstanKenyaKiribatiKorea\, Democratic People's Republic ofKorea\, Republic ofKuwaitKyrgyzstanLao People's Democratic RepublicLatviaLebanonLesothoLiberiaLibyaLiechtensteinLithuaniaLuxembourgMacaoMadagascarMalawiMalaysiaMaldivesMaliMaltaMarshall IslandsMartiniqueMauritaniaMauritiusMayotteMexicoMicronesiaMoldovaMonacoMongoliaMontenegroMontserratMoroccoMozambiqueMyanmarNamibiaNauruNepalNetherlandsNew CaledoniaNew ZealandNicaraguaNigerNigeriaNiueNorfolk IslandNorth MacedoniaNorthern Mariana IslandsNorwayOmanPakistanPalauPalestine\, State ofPanamaPapua New GuineaParaguayPeruPhilippinesPitcairnPolandPortugalPuerto RicoQatarRomaniaRussian FederationRwandaRéunionSaint BarthélemySaint Helena\, Ascension and Tristan da CunhaSaint Kitts and NevisSaint LuciaSaint MartinSaint Pierre and MiquelonSaint Vincent and the GrenadinesSamoaSan MarinoSao Tome and PrincipeSaudi ArabiaSenegalSerbiaSeychellesSierra LeoneSingaporeSint MaartenSlovakiaSloveniaSolomon IslandsSomaliaSouth AfricaSouth Georgia and the South Sandwich IslandsSouth SudanSpainSri LankaSudanSurinameSvalbard and Jan MayenSwedenSwitzerlandSyria Arab RepublicTaiwanTajikistanTanzania\, the United Republic ofThailandTimor-LesteTogoTokelauTongaTrinidad and TobagoTunisiaTurkmenistanTurks and Caicos IslandsTuvaluTürkiyeUS Minor Outlying IslandsUgandaUkraineUnited Arab EmiratesUnited KingdomUnited StatesUruguayUzbekistanVanuatuVenezuelaViet NamVirgin Islands\, BritishVirgin Islands\, U.S.Wallis and FutunaWestern SaharaYemenZambiaZimbabweÅland Islands\n                                        Country\n                                    \n                    \n                How many people are you looking at?1 - 2 Standard Rates3 - 5 Group Discount>10 In-House Training\, Huge Savings!Undecided\, need more informationThis is just an approximate number. You can finalise it when you send in the registration form.\n								\n								Send me brochure\n							Comments:CAPTCHA
URL:https://www.opuskinetic.com/training/reservoir-engineering-for-geologists/2025-09-15/
LOCATION:Virtual Instructor Led Training (VILT)
CATEGORIES:Geology,Oil/Gas/Petrochemicals,Reservoir Engineering
ATTACH;FMTTYPE=image/jpeg:https://www.opuskinetic.com/wp-content/uploads/2025/01/reservoir-engineering-geologists-fi1-scaled.jpg
ORGANIZER;CN="Opus Kinetic Pte Ltd":MAILTO:info@opuskinetic.com
END:VEVENT
BEGIN:VEVENT
DTSTART;TZID=Asia/Singapore:20250304T090000
DTEND;TZID=Asia/Singapore:20250307T130000
DTSTAMP:20260419T224811
CREATED:20250102T045305Z
LAST-MODIFIED:20250702T103745Z
UID:10001882-1741078800-1741352400@www.opuskinetic.com
SUMMARY:Reservoir Engineering for Geologists
DESCRIPTION:Why Choose this Training Course\nThis reservoir engineer for geologists training course examines the standard reservoir engineering processes and techniques\, particularly their interface with geoscience activities. This course illustrates\, with examples\, the use of subsurface data in the construction of a reservoir model. It covers three related main themes: static reservoir models; developing dynamic reservoir simulation models; and reservoir management during the producing life of a field. This course covers the fundamentals of fluid flow in porous media\, from a rock and fluid perspective. Reference is made to the application of reservoir engineering principles in carbon capture and storage (CCS). \nWho Should Attend\nThis reservoir engineer for geologists training course is aimed at Geoscientists and other subsurface professionals who interface with Reservoir Engineers in their regular work\, or who wish to obtain a broad grounding in reservoir engineering principles. This course will also benefit new team leaders tasked with managing multi-disciplinary teams. \nKey Learning Objectives\n\nOperate more effectively\, and work more collaboratively\, with their Reservoir Engineering colleagues.\nInterpret original fluid contacts\, through analysis of logs and pressure vs. depth profiles\, prior to production start-up; define saturation vs height relationships and estimate original hydrocarbon in place volumes.\nEmploy fluid sampling techniques and differentiate the physical and chemical properties of hydrocarbons and their description through phase diagrams.\nExamine the uses and importance of well tests and appraise how analysis is conducted.\nIdentify the controls on fluid flow in the reservoir\, the balance of viscous\, capillary\, and gravity forces and the impact of reservoir drive mechanisms including depletion\, water and gas drive.\nAnalyse production performance in the wellbore and debate artificial lift techniques and the potential benefits of horizontal wells. Compare production enhancement through stimulation\, horizontal wells\, and completion techniques.\nDefine the processes and interfaces of building both static and dynamic reservoir models\, including the challenges of upscaling\, and demonstrate knowledge of the principles of reservoir numerical simulation techniques\, and its validation.\nEvaluate the importance of continued reservoir management for forecasting future production profiles and maximising economic hydrocarbon recovery from a producing field over the complete life cycle.\nCompare the Enhanced Oil Recovery (EOR) techniques: steam and fire flooding\, miscible and immiscible gas displacement.\nApply key reservoir engineering principles to carbon capture and storage (CCS).\n\nEnquiry Form\n\n                 \n \n                        SalutationMr.Ms.Miss.Mrs.Mdm.Dr.Prof.Capt.-Name*\n                            \n                            \n                                                    \n                                                    First\n                                                \n                            \n                            \n                                                    \n                                                    Last\n                                                \n                            \n                        Phone*Email*\n                            \n                        Company*Current Location*    \n                    \n                        \n                                        AfghanistanAlbaniaAlgeriaAmerican SamoaAndorraAngolaAnguillaAntarcticaAntigua and BarbudaArgentinaArmeniaArubaAustraliaAustriaAzerbaijanBahamasBahrainBangladeshBarbadosBelarusBelgiumBelizeBeninBermudaBhutanBoliviaBonaire\, Sint Eustatius and SabaBosnia and HerzegovinaBotswanaBouvet IslandBrazilBritish Indian Ocean TerritoryBrunei DarussalamBulgariaBurkina FasoBurundiCambodiaCameroonCanadaCape VerdeCayman IslandsCentral African RepublicChadChileChinaChristmas IslandCocos IslandsColombiaComorosCongoCongo\, Democratic Republic of theCook IslandsCosta RicaCroatiaCubaCuraçaoCyprusCzechiaCôte d'IvoireDenmarkDjiboutiDominicaDominican RepublicEcuadorEgyptEl SalvadorEquatorial GuineaEritreaEstoniaEswatiniEthiopiaFalkland IslandsFaroe IslandsFijiFinlandFranceFrench GuianaFrench PolynesiaFrench Southern TerritoriesGabonGambiaGeorgiaGermanyGhanaGibraltarGreeceGreenlandGrenadaGuadeloupeGuamGuatemalaGuernseyGuineaGuinea-BissauGuyanaHaitiHeard Island and McDonald IslandsHoly SeeHondurasHong KongHungaryIcelandIndiaIndonesiaIranIraqIrelandIsle of ManIsraelItalyJamaicaJapanJerseyJordanKazakhstanKenyaKiribatiKorea\, Democratic People's Republic ofKorea\, Republic ofKuwaitKyrgyzstanLao People's Democratic RepublicLatviaLebanonLesothoLiberiaLibyaLiechtensteinLithuaniaLuxembourgMacaoMadagascarMalawiMalaysiaMaldivesMaliMaltaMarshall IslandsMartiniqueMauritaniaMauritiusMayotteMexicoMicronesiaMoldovaMonacoMongoliaMontenegroMontserratMoroccoMozambiqueMyanmarNamibiaNauruNepalNetherlandsNew CaledoniaNew ZealandNicaraguaNigerNigeriaNiueNorfolk IslandNorth MacedoniaNorthern Mariana IslandsNorwayOmanPakistanPalauPalestine\, State ofPanamaPapua New GuineaParaguayPeruPhilippinesPitcairnPolandPortugalPuerto RicoQatarRomaniaRussian FederationRwandaRéunionSaint BarthélemySaint Helena\, Ascension and Tristan da CunhaSaint Kitts and NevisSaint LuciaSaint MartinSaint Pierre and MiquelonSaint Vincent and the GrenadinesSamoaSan MarinoSao Tome and PrincipeSaudi ArabiaSenegalSerbiaSeychellesSierra LeoneSingaporeSint MaartenSlovakiaSloveniaSolomon IslandsSomaliaSouth AfricaSouth Georgia and the South Sandwich IslandsSouth SudanSpainSri LankaSudanSurinameSvalbard and Jan MayenSwedenSwitzerlandSyria Arab RepublicTaiwanTajikistanTanzania\, the United Republic ofThailandTimor-LesteTogoTokelauTongaTrinidad and TobagoTunisiaTurkmenistanTurks and Caicos IslandsTuvaluTürkiyeUS Minor Outlying IslandsUgandaUkraineUnited Arab EmiratesUnited KingdomUnited StatesUruguayUzbekistanVanuatuVenezuelaViet NamVirgin Islands\, BritishVirgin Islands\, U.S.Wallis and FutunaWestern SaharaYemenZambiaZimbabweÅland Islands\n                                        Country\n                                    \n                    \n                How many people are you looking at?1 - 2 Standard Rates3 - 5 Group Discount>10 In-House Training\, Huge Savings!Undecided\, need more informationThis is just an approximate number. You can finalise it when you send in the registration form.\n								\n								Send me brochure\n							Comments:CAPTCHA
URL:https://www.opuskinetic.com/training/reservoir-engineering-for-geologists/2025-03-04/
LOCATION:Virtual Instructor Led Training (VILT)
CATEGORIES:Geology,Oil/Gas/Petrochemicals,Reservoir Engineering
ATTACH;FMTTYPE=image/jpeg:https://www.opuskinetic.com/wp-content/uploads/2025/01/reservoir-engineering-geologists-fi1-scaled.jpg
ORGANIZER;CN="Opus Kinetic Pte Ltd":MAILTO:info@opuskinetic.com
END:VEVENT
END:VCALENDAR