BEGIN:VCALENDAR
VERSION:2.0
PRODID:-//Opus Kinetic - ECPv6.15.12.2//NONSGML v1.0//EN
CALSCALE:GREGORIAN
METHOD:PUBLISH
X-WR-CALNAME:Opus Kinetic
X-ORIGINAL-URL:https://www.opuskinetic.com
X-WR-CALDESC:Events for Opus Kinetic
REFRESH-INTERVAL;VALUE=DURATION:PT1H
X-Robots-Tag:noindex
X-PUBLISHED-TTL:PT1H
BEGIN:VTIMEZONE
TZID:Asia/Singapore
BEGIN:STANDARD
TZOFFSETFROM:+0800
TZOFFSETTO:+0800
TZNAME:+08
DTSTART:20240101T000000
END:STANDARD
END:VTIMEZONE
BEGIN:VEVENT
DTSTART;VALUE=DATE:20250707
DTEND;VALUE=DATE:20250710
DTSTAMP:20260420T214206
CREATED:20220107T050225Z
LAST-MODIFIED:20250710T081000Z
UID:10001963-1751878800-1752080400@www.opuskinetic.com
SUMMARY:Sedimentary Rocks and Depositional Environments
DESCRIPTION:Why Choose this Training Course\nThis is a sedimentary rocks training course. Sedimentary rocks and their depositional environments are fundamental to all aspects of petroleum geoscience\, including evaluation of the petroleum system\, exploration\, field appraisal\, reservoir characterisation and development\, and solving production issues. Equally\, they are fundamental to the study of stratigraphy\, mineral resources\, water resources and global environmental change. \nSediments deposited in rivers and deserts\, deltas and deep-sea fans\, coasts\, shelves and contourite drifts\, bioherms and carbonate platforms\, all differ significantly in their rock properties\, diagenetic character\, heterogeneity and architecture. Such differences are key to understanding their behaviour as source rocks\, migration pathways\, reservoir rocks and seals\, in both conventional and unconventional hydrocarbon systems. \nThis sedimentary rocks training covers clastic\, carbonate\, evaporite and volcaniclastic sediments\, and the full range of settings in which they are deposited – including continental\, shallow marine and deepwater depositional environments. Careful consideration is given to the principal diagnostic features of sediments from the main environments – in the field\, in cores/bore-holes\, and in modern systems. Rock features include sedimentary structures\, textures\, composition\, petrophysical characteristics\, and biogenic/organic content. For each environment\, selected wireline logs will be examined\, and the overall rock geometry or architectural elements discussed. A series of case studies will illustrate a range of hydrocarbon fields and plays from each of the main depositional environments. \nThe presentations are fully illustrated with high quality colour images of sediments and sedimentary rocks from a wide range of modern\, ancient and subsurface examples. \nThe sedimentary rocks training will build on the handbook Sedimentary Rocks in the Field (Stow\, 2005) and the new edition in preparation\, Sedimentary Rocks in the Field and Core (Stow and Gerard\, 2021). Each participant will receive a copy of the latest revised edition of this book as well as a full set of the PowerPoint presentations. \nWho Should Attend\n\nGeologists\nGeophysicists\nPetroleum engineers\nProject and senior management.\n\nKey Learning Objectives\n\nUNDERSTAND the economic and environmental significance of sedimentary rocks\nAPPRECIATE the full range of sedimentary rocks and their key differences\nRECOGNISE the nature and origin of the principal sediment characteristics\nDISTINGUISH between types of sedimentary rocks – modern\, ancient and subsurface\nEVALUATE sediments in terms of the processes and environments of deposition\nASSESS and interpret facies associations\, sequences and architectural elements\nFOCUS on source\, reservoir and seal properties of different sediment types\nRESOLVE clearly and simply between different depositional environments in the subsurface\nGAIN an astute understanding of what questions to ask and what analyses to make\nBECOME a better 21st century sedimentologist\n\nEnquiry Form\n\n\n                 \n \n                        SalutationMr.Ms.Miss.Mrs.Mdm.Dr.Prof.Capt.-Name*\n                            \n                            \n                                                    \n                                                    First\n                                                \n                            \n                            \n                                                    \n                                                    Last\n                                                \n                            \n                        Phone*Email*\n                            \n                        Company*Current Location*    \n                    \n                        \n                                        AfghanistanAlbaniaAlgeriaAmerican SamoaAndorraAngolaAnguillaAntarcticaAntigua and BarbudaArgentinaArmeniaArubaAustraliaAustriaAzerbaijanBahamasBahrainBangladeshBarbadosBelarusBelgiumBelizeBeninBermudaBhutanBoliviaBonaire\, Sint Eustatius and SabaBosnia and HerzegovinaBotswanaBouvet IslandBrazilBritish Indian Ocean TerritoryBrunei DarussalamBulgariaBurkina FasoBurundiCambodiaCameroonCanadaCape VerdeCayman IslandsCentral African RepublicChadChileChinaChristmas IslandCocos IslandsColombiaComorosCongoCongo\, Democratic Republic of theCook IslandsCosta RicaCroatiaCubaCuraçaoCyprusCzechiaCôte d'IvoireDenmarkDjiboutiDominicaDominican RepublicEcuadorEgyptEl SalvadorEquatorial GuineaEritreaEstoniaEswatiniEthiopiaFalkland IslandsFaroe IslandsFijiFinlandFranceFrench GuianaFrench PolynesiaFrench Southern TerritoriesGabonGambiaGeorgiaGermanyGhanaGibraltarGreeceGreenlandGrenadaGuadeloupeGuamGuatemalaGuernseyGuineaGuinea-BissauGuyanaHaitiHeard Island and McDonald IslandsHoly SeeHondurasHong KongHungaryIcelandIndiaIndonesiaIranIraqIrelandIsle of ManIsraelItalyJamaicaJapanJerseyJordanKazakhstanKenyaKiribatiKorea\, Democratic People's Republic ofKorea\, Republic ofKuwaitKyrgyzstanLao People's Democratic RepublicLatviaLebanonLesothoLiberiaLibyaLiechtensteinLithuaniaLuxembourgMacaoMadagascarMalawiMalaysiaMaldivesMaliMaltaMarshall IslandsMartiniqueMauritaniaMauritiusMayotteMexicoMicronesiaMoldovaMonacoMongoliaMontenegroMontserratMoroccoMozambiqueMyanmarNamibiaNauruNepalNetherlandsNew CaledoniaNew ZealandNicaraguaNigerNigeriaNiueNorfolk IslandNorth MacedoniaNorthern Mariana IslandsNorwayOmanPakistanPalauPalestine\, State ofPanamaPapua New GuineaParaguayPeruPhilippinesPitcairnPolandPortugalPuerto RicoQatarRomaniaRussian FederationRwandaRéunionSaint BarthélemySaint Helena\, Ascension and Tristan da CunhaSaint Kitts and NevisSaint LuciaSaint MartinSaint Pierre and MiquelonSaint Vincent and the GrenadinesSamoaSan MarinoSao Tome and PrincipeSaudi ArabiaSenegalSerbiaSeychellesSierra LeoneSingaporeSint MaartenSlovakiaSloveniaSolomon IslandsSomaliaSouth AfricaSouth Georgia and the South Sandwich IslandsSouth SudanSpainSri LankaSudanSurinameSvalbard and Jan MayenSwedenSwitzerlandSyria Arab RepublicTaiwanTajikistanTanzania\, the United Republic ofThailandTimor-LesteTogoTokelauTongaTrinidad and TobagoTunisiaTurkmenistanTurks and Caicos IslandsTuvaluTürkiyeUS Minor Outlying IslandsUgandaUkraineUnited Arab EmiratesUnited KingdomUnited StatesUruguayUzbekistanVanuatuVenezuelaViet NamVirgin Islands\, BritishVirgin Islands\, U.S.Wallis and FutunaWestern SaharaYemenZambiaZimbabweÅland Islands\n                                        Country\n                                    \n                    \n                How many people are you looking at?1 - 2 Standard Rates3 - 5 Group Discount>10 In-House Training\, Huge Savings!Undecided\, need more informationThis is just an approximate number. You can finalise it when you send in the registration form.\n								\n								Send me brochure\n							Comments:CAPTCHA
URL:https://www.opuskinetic.com/training/sedimentary-rocks-and-depositional-environments/2025-07-07/
LOCATION:Kuala Lumpur\, Federal Territory of Kuala Lumpur\, Kuala Lumpur\, Malaysia
CATEGORIES:Geology
ATTACH;FMTTYPE=image/jpeg:https://www.opuskinetic.com/wp-content/uploads/2022/01/sedimentary-rocks-fi1-scaled.jpg
ORGANIZER;CN="Opus Kinetic Pte Ltd":MAILTO:info@opuskinetic.com
GEO:3.1384965;101.7099933
END:VEVENT
END:VCALENDAR